BEGIN:VCALENDAR
PRODID:-//gdesolutions.com//MV Framework 1.0.0.1607 Calendar//EN
VERSION:2.0
METHOD:PUBLISH
CALSCALE:GREGORIAN
BEGIN:VEVENT
UID:g5kn2@games.golnetwork.com
LOCATION:Align Healthcare Field (Newmarket SoccerCentre)
GEO:44.0379318;-79.4421489
CREATED:20140905T154740Z
DTSTART:20141217T010000Z
DTEND:20141217T015500Z
DTSTAMP:20260423T002452Z
SUMMARY:Valor FC vs. SS Balls
DESCRIPTION:SS Balls vs. Valor FCMore info: #72
X-ALT-DESC;FMTTYPE=text/html:<!DOCTYPE HTML PUBLIC "-//W3C//DTD HTML 3.2//E
	N">\n<HTML>\n<HEAD>\n<TITLE></TITLE>\n</HEAD>\n<BODY>\n<h3>SS Balls vs. Val
	or FC</h3>More info: <a href="https://www.golnetwork.com/game/v/55810/">#72
	</a>\n\n</BODY>\n</HTML>
STATUS:CONFIRMED
CLASS:PUBLIC
URL:https://www.golnetwork.com/game/v/55810/
X-MICROSOFT-CDO-BUSYSTATUS:BUSY
X-MICROSOFT-CDO-IMPORTANCE:1
END:VEVENT
BEGIN:VEVENT
UID:g5kn0@games.golnetwork.com
LOCATION:Align Healthcare Field (Newmarket SoccerCentre)
GEO:44.0379318;-79.4421489
CREATED:20140905T154740Z
DTSTART:20141210T010000Z
DTEND:20141210T015500Z
DTSTAMP:20260423T002452Z
SUMMARY:Valor FC vs. BFC
DESCRIPTION:BFC vs. Valor FCMore info: #67
X-ALT-DESC;FMTTYPE=text/html:<!DOCTYPE HTML PUBLIC "-//W3C//DTD HTML 3.2//E
	N">\n<HTML>\n<HEAD>\n<TITLE></TITLE>\n</HEAD>\n<BODY>\n<h3>BFC vs. Valor FC
	</h3>More info: <a href="https://www.golnetwork.com/game/v/55809/">#67</a>\
	n\n</BODY>\n</HTML>
STATUS:CONFIRMED
CLASS:PUBLIC
URL:https://www.golnetwork.com/game/v/55809/
X-MICROSOFT-CDO-BUSYSTATUS:BUSY
X-MICROSOFT-CDO-IMPORTANCE:1
END:VEVENT
BEGIN:VEVENT
UID:g5kmj@games.golnetwork.com
LOCATION:Align Healthcare Field (Newmarket SoccerCentre)
GEO:44.0379318;-79.4421489
CREATED:20140905T154740Z
DTSTART:20141203T010000Z
DTEND:20141203T015500Z
DTSTAMP:20260423T002452Z
SUMMARY:The Real Teal vs. Valor FC
DESCRIPTION:Valor FC vs. The Real TealMore info: #62
X-ALT-DESC;FMTTYPE=text/html:<!DOCTYPE HTML PUBLIC "-//W3C//DTD HTML 3.2//E
	N">\n<HTML>\n<HEAD>\n<TITLE></TITLE>\n</HEAD>\n<BODY>\n<h3>Valor FC vs. The
	 Real Teal</h3>More info: <a href="https://www.golnetwork.com/game/v/55805/
	">#62</a>\n\n</BODY>\n</HTML>
STATUS:CONFIRMED
CLASS:PUBLIC
URL:https://www.golnetwork.com/game/v/55805/
X-MICROSOFT-CDO-BUSYSTATUS:BUSY
X-MICROSOFT-CDO-IMPORTANCE:1
END:VEVENT
END:VCALENDAR
