BEGIN:VCALENDAR
PRODID:-//gdesolutions.com//MV Framework 1.0.0.1607 Calendar//EN
VERSION:2.0
METHOD:PUBLISH
CALSCALE:GREGORIAN
BEGIN:VEVENT
UID:g55gi@games.golnetwork.com
LOCATION:CVM - Court #1
GEO:45.5146585;-73.5658635
CREATED:20140427T225119Z
DTSTART:20140911T000000Z
DTEND:20140911T010000Z
DTSTAMP:20260421T061420Z
SUMMARY:KRAZEURS vs. HEADHUNTERS
DESCRIPTION:HEADHUNTERS vs. KRAZEURSMore info: #413
X-ALT-DESC;FMTTYPE=text/html:<!DOCTYPE HTML PUBLIC "-//W3C//DTD HTML 3.2//E
	N">\n<HTML>\n<HEAD>\n<TITLE></TITLE>\n</HEAD>\n<BODY>\n<h3>HEADHUNTERS vs. 
	KRAZEURS</h3>More info: <a href="https://www.golnetwork.com/game/v/50256/">
	#413</a>\n\n</BODY>\n</HTML>
STATUS:CONFIRMED
CLASS:PUBLIC
URL:https://www.golnetwork.com/game/v/50256/
X-MICROSOFT-CDO-BUSYSTATUS:BUSY
X-MICROSOFT-CDO-IMPORTANCE:1
END:VEVENT
BEGIN:VEVENT
UID:g55ge@games.golnetwork.com
LOCATION:CVM - Court #1
GEO:45.5146585;-73.5658635
CREATED:20140427T225119Z
DTSTART:20140904T003000Z
DTEND:20140904T013000Z
DTSTAMP:20260421T061420Z
SUMMARY:NACOS vs. HEADHUNTERS
DESCRIPTION:HEADHUNTERS vs. NACOSMore info: #398
X-ALT-DESC;FMTTYPE=text/html:<!DOCTYPE HTML PUBLIC "-//W3C//DTD HTML 3.2//E
	N">\n<HTML>\n<HEAD>\n<TITLE></TITLE>\n</HEAD>\n<BODY>\n<h3>HEADHUNTERS vs. 
	NACOS</h3>More info: <a href="https://www.golnetwork.com/game/v/50254/">#39
	8</a>\n\n</BODY>\n</HTML>
STATUS:CONFIRMED
CLASS:PUBLIC
URL:https://www.golnetwork.com/game/v/50254/
X-MICROSOFT-CDO-BUSYSTATUS:BUSY
X-MICROSOFT-CDO-IMPORTANCE:1
END:VEVENT
END:VCALENDAR
