BEGIN:VCALENDAR
PRODID:-//gdesolutions.com//MV Framework 1.0.0.1607 Calendar//EN
VERSION:2.0
METHOD:PUBLISH
CALSCALE:GREGORIAN
BEGIN:VEVENT
UID:g55iq@games.golnetwork.com
LOCATION:CVM - Court #1
GEO:45.5146585;-73.5658635
CREATED:20140427T230132Z
DTSTART:20140917T014500Z
DTEND:20140917T024500Z
DTSTAMP:20260422T065649Z
SUMMARY:ROSENFELD vs. KILLAS
DESCRIPTION:KILLAS vs. ROSENFELDMore info: #420
X-ALT-DESC;FMTTYPE=text/html:<!DOCTYPE HTML PUBLIC "-//W3C//DTD HTML 3.2//E
	N">\n<HTML>\n<HEAD>\n<TITLE></TITLE>\n</HEAD>\n<BODY>\n<h3>KILLAS vs. ROSEN
	FELD</h3>More info: <a href="https://www.golnetwork.com/game/v/50287/">#420
	</a>\n\n</BODY>\n</HTML>
STATUS:CONFIRMED
CLASS:PUBLIC
URL:https://www.golnetwork.com/game/v/50287/
X-MICROSOFT-CDO-BUSYSTATUS:BUSY
X-MICROSOFT-CDO-IMPORTANCE:1
END:VEVENT
BEGIN:VEVENT
UID:g55ig@games.golnetwork.com
LOCATION:CVM - Court #1
GEO:45.5146585;-73.5658635
CREATED:20140427T230132Z
DTSTART:20140912T013000Z
DTEND:20140912T023000Z
DTSTAMP:20260422T065649Z
SUMMARY:ROSENFELD vs. SHOWTIME
DESCRIPTION:SHOWTIME vs. ROSENFELDMore info: #417
X-ALT-DESC;FMTTYPE=text/html:<!DOCTYPE HTML PUBLIC "-//W3C//DTD HTML 3.2//E
	N">\n<HTML>\n<HEAD>\n<TITLE></TITLE>\n</HEAD>\n<BODY>\n<h3>SHOWTIME vs. ROS
	ENFELD</h3>More info: <a href="https://www.golnetwork.com/game/v/50282/">#4
	17</a>\n\n</BODY>\n</HTML>
STATUS:CONFIRMED
CLASS:PUBLIC
URL:https://www.golnetwork.com/game/v/50282/
X-MICROSOFT-CDO-BUSYSTATUS:BUSY
X-MICROSOFT-CDO-IMPORTANCE:1
END:VEVENT
BEGIN:VEVENT
UID:g55ia@games.golnetwork.com
LOCATION:CVM - Court #1
GEO:45.5146585;-73.5658635
CREATED:20140427T230132Z
DTSTART:20140905T013000Z
DTEND:20140905T023000Z
DTSTAMP:20260422T065649Z
SUMMARY:RAIDERS vs. ROSENFELD
DESCRIPTION:ROSENFELD vs. RAIDERSMore info: #407
X-ALT-DESC;FMTTYPE=text/html:<!DOCTYPE HTML PUBLIC "-//W3C//DTD HTML 3.2//E
	N">\n<HTML>\n<HEAD>\n<TITLE></TITLE>\n</HEAD>\n<BODY>\n<h3>ROSENFELD vs. RA
	IDERS</h3>More info: <a href="https://www.golnetwork.com/game/v/50279/">#40
	7</a>\n\n</BODY>\n</HTML>
STATUS:CONFIRMED
CLASS:PUBLIC
URL:https://www.golnetwork.com/game/v/50279/
X-MICROSOFT-CDO-BUSYSTATUS:BUSY
X-MICROSOFT-CDO-IMPORTANCE:1
END:VEVENT
END:VCALENDAR
