BEGIN:VCALENDAR
PRODID:-//gdesolutions.com//MV Framework 1.0.0.1607 Calendar//EN
VERSION:2.0
METHOD:PUBLISH
CALSCALE:GREGORIAN
BEGIN:VEVENT
UID:g55ei@games.golnetwork.com
LOCATION:CVM - Court #1
GEO:45.5146585;-73.5658635
CREATED:20140427T223641Z
DTSTART:20140814T013000Z
DTEND:20140814T023000Z
DTSTAMP:20260420T011809Z
SUMMARY:SUNSHINE vs. CHAMPS
DESCRIPTION:CHAMPS vs. SUNSHINEMore info: #69
X-ALT-DESC;FMTTYPE=text/html:<!DOCTYPE HTML PUBLIC "-//W3C//DTD HTML 3.2//E
	N">\n<HTML>\n<HEAD>\n<TITLE></TITLE>\n</HEAD>\n<BODY>\n<h3>CHAMPS vs. SUNSH
	INE</h3>More info: <a href="https://www.golnetwork.com/game/v/50229/">#69</
	a>\n\n</BODY>\n</HTML>
STATUS:CONFIRMED
CLASS:PUBLIC
URL:https://www.golnetwork.com/game/v/50229/
X-MICROSOFT-CDO-BUSYSTATUS:BUSY
X-MICROSOFT-CDO-IMPORTANCE:1
END:VEVENT
BEGIN:VEVENT
UID:g55eg@games.golnetwork.com
LOCATION:Marianopolis #1
GEO:45.4807868;-73.610845
CREATED:20140427T223641Z
DTSTART:20140807T013000Z
DTEND:20140807T023000Z
DTSTAMP:20260420T011809Z
SUMMARY:CHAMPS vs. POUCHON
DESCRIPTION:POUCHON vs. CHAMPSMore info: #65
X-ALT-DESC;FMTTYPE=text/html:<!DOCTYPE HTML PUBLIC "-//W3C//DTD HTML 3.2//E
	N">\n<HTML>\n<HEAD>\n<TITLE></TITLE>\n</HEAD>\n<BODY>\n<h3>POUCHON vs. CHAM
	PS</h3>More info: <a href="https://www.golnetwork.com/game/v/50228/">#65</a
	>\n\n</BODY>\n</HTML>
STATUS:CONFIRMED
CLASS:PUBLIC
URL:https://www.golnetwork.com/game/v/50228/
X-MICROSOFT-CDO-BUSYSTATUS:BUSY
X-MICROSOFT-CDO-IMPORTANCE:1
END:VEVENT
BEGIN:VEVENT
UID:g55e2@games.golnetwork.com
LOCATION:Marianopolis #1
GEO:45.4807868;-73.610845
CREATED:20140427T223641Z
DTSTART:20140731T013000Z
DTEND:20140731T023000Z
DTSTAMP:20260420T011809Z
SUMMARY:YEEZY vs. CHAMPS
DESCRIPTION:CHAMPS vs. YEEZYMore info: #60
X-ALT-DESC;FMTTYPE=text/html:<!DOCTYPE HTML PUBLIC "-//W3C//DTD HTML 3.2//E
	N">\n<HTML>\n<HEAD>\n<TITLE></TITLE>\n</HEAD>\n<BODY>\n<h3>CHAMPS vs. YEEZY
	</h3>More info: <a href="https://www.golnetwork.com/game/v/50221/">#60</a>\
	n\n</BODY>\n</HTML>
STATUS:CONFIRMED
CLASS:PUBLIC
URL:https://www.golnetwork.com/game/v/50221/
X-MICROSOFT-CDO-BUSYSTATUS:BUSY
X-MICROSOFT-CDO-IMPORTANCE:1
END:VEVENT
BEGIN:VEVENT
UID:g55dj@games.golnetwork.com
LOCATION:CVM - Court #1
GEO:45.5146585;-73.5658635
CREATED:20140427T223641Z
DTSTART:20140724T013000Z
DTEND:20140724T023000Z
DTSTAMP:20260420T011809Z
SUMMARY:POUCHON vs. CHAMPS
DESCRIPTION:CHAMPS vs. POUCHONMore info: #54
X-ALT-DESC;FMTTYPE=text/html:<!DOCTYPE HTML PUBLIC "-//W3C//DTD HTML 3.2//E
	N">\n<HTML>\n<HEAD>\n<TITLE></TITLE>\n</HEAD>\n<BODY>\n<h3>CHAMPS vs. POUCH
	ON</h3>More info: <a href="https://www.golnetwork.com/game/v/50216/">#54</a
	>\n\n</BODY>\n</HTML>
STATUS:CONFIRMED
CLASS:PUBLIC
URL:https://www.golnetwork.com/game/v/50216/
X-MICROSOFT-CDO-BUSYSTATUS:BUSY
X-MICROSOFT-CDO-IMPORTANCE:1
END:VEVENT
BEGIN:VEVENT
UID:g55db@games.golnetwork.com
LOCATION:Marianopolis #1
GEO:45.4807868;-73.610845
CREATED:20140427T223641Z
DTSTART:20140717T013000Z
DTEND:20140717T023000Z
DTSTAMP:20260420T011809Z
SUMMARY:GLOBETROTTERS vs. CHAMPS
DESCRIPTION:CHAMPS vs. GLOBETROTTERSMore info: #50
X-ALT-DESC;FMTTYPE=text/html:<!DOCTYPE HTML PUBLIC "-//W3C//DTD HTML 3.2//E
	N">\n<HTML>\n<HEAD>\n<TITLE></TITLE>\n</HEAD>\n<BODY>\n<h3>CHAMPS vs. GLOBE
	TROTTERS</h3>More info: <a href="https://www.golnetwork.com/game/v/50212/">
	#50</a>\n\n</BODY>\n</HTML>
STATUS:CONFIRMED
CLASS:PUBLIC
URL:https://www.golnetwork.com/game/v/50212/
X-MICROSOFT-CDO-BUSYSTATUS:BUSY
X-MICROSOFT-CDO-IMPORTANCE:1
END:VEVENT
BEGIN:VEVENT
UID:g55co@games.golnetwork.com
LOCATION:CVM - Court #1
GEO:45.5146585;-73.5658635
CREATED:20140427T223641Z
DTSTART:20140710T013000Z
DTEND:20140710T023000Z
DTSTAMP:20260420T011809Z
SUMMARY:POUCHON vs. CHAMPS
DESCRIPTION:CHAMPS vs. POUCHONMore info: #45
X-ALT-DESC;FMTTYPE=text/html:<!DOCTYPE HTML PUBLIC "-//W3C//DTD HTML 3.2//E
	N">\n<HTML>\n<HEAD>\n<TITLE></TITLE>\n</HEAD>\n<BODY>\n<h3>CHAMPS vs. POUCH
	ON</h3>More info: <a href="https://www.golnetwork.com/game/v/50205/">#45</a
	>\n\n</BODY>\n</HTML>
STATUS:CONFIRMED
CLASS:PUBLIC
URL:https://www.golnetwork.com/game/v/50205/
X-MICROSOFT-CDO-BUSYSTATUS:BUSY
X-MICROSOFT-CDO-IMPORTANCE:1
END:VEVENT
BEGIN:VEVENT
UID:g55cc@games.golnetwork.com
LOCATION:Marianopolis #1
GEO:45.4807868;-73.610845
CREATED:20140427T223641Z
DTSTART:20140703T013000Z
DTEND:20140703T023000Z
DTSTAMP:20260420T011809Z
SUMMARY:CHAMPS vs. POUCHON
DESCRIPTION:POUCHON vs. CHAMPSMore info: #40
X-ALT-DESC;FMTTYPE=text/html:<!DOCTYPE HTML PUBLIC "-//W3C//DTD HTML 3.2//E
	N">\n<HTML>\n<HEAD>\n<TITLE></TITLE>\n</HEAD>\n<BODY>\n<h3>POUCHON vs. CHAM
	PS</h3>More info: <a href="https://www.golnetwork.com/game/v/50199/">#40</a
	>\n\n</BODY>\n</HTML>
STATUS:CONFIRMED
CLASS:PUBLIC
URL:https://www.golnetwork.com/game/v/50199/
X-MICROSOFT-CDO-BUSYSTATUS:BUSY
X-MICROSOFT-CDO-IMPORTANCE:1
END:VEVENT
BEGIN:VEVENT
UID:g55c4@games.golnetwork.com
LOCATION:CVM - Court #1
GEO:45.5146585;-73.5658635
CREATED:20140427T223641Z
DTSTART:20140626T013000Z
DTEND:20140626T023000Z
DTSTAMP:20260420T011809Z
SUMMARY:CHAMPS vs. GLOBETROTTERS
DESCRIPTION:GLOBETROTTERS vs. CHAMPSMore info: #34
X-ALT-DESC;FMTTYPE=text/html:<!DOCTYPE HTML PUBLIC "-//W3C//DTD HTML 3.2//E
	N">\n<HTML>\n<HEAD>\n<TITLE></TITLE>\n</HEAD>\n<BODY>\n<h3>GLOBETROTTERS vs
	. CHAMPS</h3>More info: <a href="https://www.golnetwork.com/game/v/50195/">
	#34</a>\n\n</BODY>\n</HTML>
STATUS:CONFIRMED
CLASS:PUBLIC
URL:https://www.golnetwork.com/game/v/50195/
X-MICROSOFT-CDO-BUSYSTATUS:BUSY
X-MICROSOFT-CDO-IMPORTANCE:1
END:VEVENT
BEGIN:VEVENT
UID:g55bn@games.golnetwork.com
LOCATION:CVM - Court #1
GEO:45.5146585;-73.5658635
CREATED:20140427T223641Z
DTSTART:20140619T013000Z
DTEND:20140619T023000Z
DTSTAMP:20260420T011809Z
SUMMARY:CHAMPS vs. F BALLERS
DESCRIPTION:F BALLERS vs. CHAMPSMore info: #29
X-ALT-DESC;FMTTYPE=text/html:<!DOCTYPE HTML PUBLIC "-//W3C//DTD HTML 3.2//E
	N">\n<HTML>\n<HEAD>\n<TITLE></TITLE>\n</HEAD>\n<BODY>\n<h3>F BALLERS vs. CH
	AMPS</h3>More info: <a href="https://www.golnetwork.com/game/v/50191/">#29<
	/a>\n\n</BODY>\n</HTML>
STATUS:CONFIRMED
CLASS:PUBLIC
URL:https://www.golnetwork.com/game/v/50191/
X-MICROSOFT-CDO-BUSYSTATUS:BUSY
X-MICROSOFT-CDO-IMPORTANCE:1
END:VEVENT
BEGIN:VEVENT
UID:g55bf@games.golnetwork.com
LOCATION:CVM - Court #1
GEO:45.5146585;-73.5658635
CREATED:20140427T223641Z
DTSTART:20140611T013000Z
DTEND:20140611T023000Z
DTSTAMP:20260420T011809Z
SUMMARY:CHAMPS vs. SUNSHINE
DESCRIPTION:SUNSHINE vs. CHAMPSMore info: #21
X-ALT-DESC;FMTTYPE=text/html:<!DOCTYPE HTML PUBLIC "-//W3C//DTD HTML 3.2//E
	N">\n<HTML>\n<HEAD>\n<TITLE></TITLE>\n</HEAD>\n<BODY>\n<h3>SUNSHINE vs. CHA
	MPS</h3>More info: <a href="https://www.golnetwork.com/game/v/50187/">#21</
	a>\n\n</BODY>\n</HTML>
STATUS:CONFIRMED
CLASS:PUBLIC
URL:https://www.golnetwork.com/game/v/50187/
X-MICROSOFT-CDO-BUSYSTATUS:BUSY
X-MICROSOFT-CDO-IMPORTANCE:1
END:VEVENT
BEGIN:VEVENT
UID:g55b7@games.golnetwork.com
LOCATION:Marianopolis #1
GEO:45.4807868;-73.610845
CREATED:20140427T223641Z
DTSTART:20140605T013000Z
DTEND:20140605T023000Z
DTSTAMP:20260420T011809Z
SUMMARY:CHAMPS vs. X-PANTHERS
DESCRIPTION:X-PANTHERS vs. CHAMPSMore info: #20
X-ALT-DESC;FMTTYPE=text/html:<!DOCTYPE HTML PUBLIC "-//W3C//DTD HTML 3.2//E
	N">\n<HTML>\n<HEAD>\n<TITLE></TITLE>\n</HEAD>\n<BODY>\n<h3>X-PANTHERS vs. C
	HAMPS</h3>More info: <a href="https://www.golnetwork.com/game/v/50183/">#20
	</a>\n\n</BODY>\n</HTML>
STATUS:CONFIRMED
CLASS:PUBLIC
URL:https://www.golnetwork.com/game/v/50183/
X-MICROSOFT-CDO-BUSYSTATUS:BUSY
X-MICROSOFT-CDO-IMPORTANCE:1
END:VEVENT
BEGIN:VEVENT
UID:g55am@games.golnetwork.com
LOCATION:CVM - Court #1
GEO:45.5146585;-73.5658635
CREATED:20140427T223641Z
DTSTART:20140529T013000Z
DTEND:20140529T023000Z
DTSTAMP:20260420T011809Z
SUMMARY:GLOBETROTTERS vs. CHAMPS
DESCRIPTION:CHAMPS vs. GLOBETROTTERSMore info: #15
X-ALT-DESC;FMTTYPE=text/html:<!DOCTYPE HTML PUBLIC "-//W3C//DTD HTML 3.2//E
	N">\n<HTML>\n<HEAD>\n<TITLE></TITLE>\n</HEAD>\n<BODY>\n<h3>CHAMPS vs. GLOBE
	TROTTERS</h3>More info: <a href="https://www.golnetwork.com/game/v/50177/">
	#15</a>\n\n</BODY>\n</HTML>
STATUS:CONFIRMED
CLASS:PUBLIC
URL:https://www.golnetwork.com/game/v/50177/
X-MICROSOFT-CDO-BUSYSTATUS:BUSY
X-MICROSOFT-CDO-IMPORTANCE:1
END:VEVENT
BEGIN:VEVENT
UID:g55ac@games.golnetwork.com
LOCATION:CVM - Court #1
GEO:45.5146585;-73.5658635
CREATED:20140427T223640Z
DTSTART:20140522T013000Z
DTEND:20140522T023000Z
DTSTAMP:20260420T011809Z
SUMMARY:YEEZY vs. CHAMPS
DESCRIPTION:CHAMPS vs. YEEZYMore info: #10
X-ALT-DESC;FMTTYPE=text/html:<!DOCTYPE HTML PUBLIC "-//W3C//DTD HTML 3.2//E
	N">\n<HTML>\n<HEAD>\n<TITLE></TITLE>\n</HEAD>\n<BODY>\n<h3>CHAMPS vs. YEEZY
	</h3>More info: <a href="https://www.golnetwork.com/game/v/50172/">#10</a>\
	n\n</BODY>\n</HTML>
STATUS:CONFIRMED
CLASS:PUBLIC
URL:https://www.golnetwork.com/game/v/50172/
X-MICROSOFT-CDO-BUSYSTATUS:BUSY
X-MICROSOFT-CDO-IMPORTANCE:1
END:VEVENT
BEGIN:VEVENT
UID:g55a0@games.golnetwork.com
LOCATION:CVM - Court #1
GEO:45.5146585;-73.5658635
CREATED:20140427T223640Z
DTSTART:20140515T013000Z
DTEND:20140515T023000Z
DTSTAMP:20260420T011809Z
SUMMARY:P SQUAD vs. CHAMPS
DESCRIPTION:CHAMPS vs. P SQUADMore info: #5
X-ALT-DESC;FMTTYPE=text/html:<!DOCTYPE HTML PUBLIC "-//W3C//DTD HTML 3.2//E
	N">\n<HTML>\n<HEAD>\n<TITLE></TITLE>\n</HEAD>\n<BODY>\n<h3>CHAMPS vs. P SQU
	AD</h3>More info: <a href="https://www.golnetwork.com/game/v/50166/">#5</a>
	\n\n</BODY>\n</HTML>
STATUS:CONFIRMED
CLASS:PUBLIC
URL:https://www.golnetwork.com/game/v/50166/
X-MICROSOFT-CDO-BUSYSTATUS:BUSY
X-MICROSOFT-CDO-IMPORTANCE:1
END:VEVENT
END:VCALENDAR
