BEGIN:VCALENDAR
PRODID:-//gdesolutions.com//MV Framework 1.0.0.1607 Calendar//EN
VERSION:2.0
METHOD:PUBLISH
CALSCALE:GREGORIAN
BEGIN:VEVENT
UID:g6hg9@games.golnetwork.com
LOCATION:Lamport Stadium - Field 2
GEO:43.6390028;-79.4232104
CREATED:20150123T151621Z
DTSTART:20150418T010000Z
DTEND:20150418T020000Z
DTSTAMP:20260419T182711Z
SUMMARY:Occasionally United vs. AdParlor Algos
DESCRIPTION:AdParlor Algos vs. Occasionally UnitedMore info: #370
X-ALT-DESC;FMTTYPE=text/html:<!DOCTYPE HTML PUBLIC "-//W3C//DTD HTML 3.2//E
	N">\n<HTML>\n<HEAD>\n<TITLE></TITLE>\n</HEAD>\n<BODY>\n<h3>AdParlor Algos v
	s. Occasionally United</h3>More info: <a href="https://www.golnetwork.com/g
	ame/v/64467/">#370</a>\n\n</BODY>\n</HTML>
STATUS:CONFIRMED
CLASS:PUBLIC
URL:https://www.golnetwork.com/game/v/64467/
X-MICROSOFT-CDO-BUSYSTATUS:BUSY
X-MICROSOFT-CDO-IMPORTANCE:1
END:VEVENT
BEGIN:VEVENT
UID:g6hg5@games.golnetwork.com
LOCATION:Lamport Stadium - Field 2
GEO:43.6390028;-79.4232104
CREATED:20150123T151621Z
DTSTART:20150411T030000Z
DTEND:20150411T040000Z
DTSTAMP:20260419T182711Z
SUMMARY: Business as Usual  vs. Occasionally United
DESCRIPTION:Occasionally United vs.  Business as Usual More info: #345
X-ALT-DESC;FMTTYPE=text/html:<!DOCTYPE HTML PUBLIC "-//W3C//DTD HTML 3.2//E
	N">\n<HTML>\n<HEAD>\n<TITLE></TITLE>\n</HEAD>\n<BODY>\n<h3>Occasionally Uni
	ted vs.  Business as Usual </h3>More info: <a href="https://www.golnetwork.
	com/game/v/64465/">#345</a>\n\n</BODY>\n</HTML>
STATUS:CONFIRMED
CLASS:PUBLIC
URL:https://www.golnetwork.com/game/v/64465/
X-MICROSOFT-CDO-BUSYSTATUS:BUSY
X-MICROSOFT-CDO-IMPORTANCE:1
END:VEVENT
BEGIN:VEVENT
UID:g6hfm@games.golnetwork.com
LOCATION:Lamport Stadium - Field 2
GEO:43.6390028;-79.4232104
CREATED:20150123T151621Z
DTSTART:20150328T010000Z
DTEND:20150328T020000Z
DTSTAMP:20260419T182711Z
SUMMARY:Olifanten FC vs. Occasionally United
DESCRIPTION:Occasionally United vs. Olifanten FCMore info: #301
X-ALT-DESC;FMTTYPE=text/html:<!DOCTYPE HTML PUBLIC "-//W3C//DTD HTML 3.2//E
	N">\n<HTML>\n<HEAD>\n<TITLE></TITLE>\n</HEAD>\n<BODY>\n<h3>Occasionally Uni
	ted vs. Olifanten FC</h3>More info: <a href="https://www.golnetwork.com/gam
	e/v/64460/">#301</a>\n\n</BODY>\n</HTML>
STATUS:CONFIRMED
CLASS:PUBLIC
URL:https://www.golnetwork.com/game/v/64460/
X-MICROSOFT-CDO-BUSYSTATUS:BUSY
X-MICROSOFT-CDO-IMPORTANCE:1
END:VEVENT
BEGIN:VEVENT
UID:g6hfe@games.golnetwork.com
LOCATION:Lamport Stadium - Field 2
GEO:43.6390028;-79.4232104
CREATED:20150123T151621Z
DTSTART:20150321T020000Z
DTEND:20150321T030000Z
DTSTAMP:20260419T182711Z
SUMMARY: Business as Usual  vs. Occasionally United
DESCRIPTION:Occasionally United vs.  Business as Usual More info: #274
X-ALT-DESC;FMTTYPE=text/html:<!DOCTYPE HTML PUBLIC "-//W3C//DTD HTML 3.2//E
	N">\n<HTML>\n<HEAD>\n<TITLE></TITLE>\n</HEAD>\n<BODY>\n<h3>Occasionally Uni
	ted vs.  Business as Usual </h3>More info: <a href="https://www.golnetwork.
	com/game/v/64456/">#274</a>\n\n</BODY>\n</HTML>
STATUS:CONFIRMED
CLASS:PUBLIC
URL:https://www.golnetwork.com/game/v/64456/
X-MICROSOFT-CDO-BUSYSTATUS:BUSY
X-MICROSOFT-CDO-IMPORTANCE:1
END:VEVENT
BEGIN:VEVENT
UID:g6hf4@games.golnetwork.com
LOCATION:Lamport Stadium - Field 2
GEO:43.6390028;-79.4232104
CREATED:20150123T151621Z
DTSTART:20150314T020000Z
DTEND:20150314T030000Z
DTSTAMP:20260419T182711Z
SUMMARY:Fire Ants vs. Occasionally United
DESCRIPTION:Occasionally United vs. Fire AntsMore info: #243
X-ALT-DESC;FMTTYPE=text/html:<!DOCTYPE HTML PUBLIC "-//W3C//DTD HTML 3.2//E
	N">\n<HTML>\n<HEAD>\n<TITLE></TITLE>\n</HEAD>\n<BODY>\n<h3>Occasionally Uni
	ted vs. Fire Ants</h3>More info: <a href="https://www.golnetwork.com/game/v
	/64451/">#243</a>\n\n</BODY>\n</HTML>
STATUS:CONFIRMED
CLASS:PUBLIC
URL:https://www.golnetwork.com/game/v/64451/
X-MICROSOFT-CDO-BUSYSTATUS:BUSY
X-MICROSOFT-CDO-IMPORTANCE:1
END:VEVENT
BEGIN:VEVENT
UID:g6hel@games.golnetwork.com
LOCATION:Lamport Stadium - Field 2
GEO:43.6390028;-79.4232104
CREATED:20150123T151621Z
DTSTART:20150307T030000Z
DTEND:20150307T040000Z
DTSTAMP:20260419T182711Z
SUMMARY:AdParlor Algos vs. Occasionally United
DESCRIPTION:Occasionally United vs. AdParlor AlgosMore info: #214
X-ALT-DESC;FMTTYPE=text/html:<!DOCTYPE HTML PUBLIC "-//W3C//DTD HTML 3.2//E
	N">\n<HTML>\n<HEAD>\n<TITLE></TITLE>\n</HEAD>\n<BODY>\n<h3>Occasionally Uni
	ted vs. AdParlor Algos</h3>More info: <a href="https://www.golnetwork.com/g
	ame/v/64446/">#214</a>\n\n</BODY>\n</HTML>
STATUS:CONFIRMED
CLASS:PUBLIC
URL:https://www.golnetwork.com/game/v/64446/
X-MICROSOFT-CDO-BUSYSTATUS:BUSY
X-MICROSOFT-CDO-IMPORTANCE:1
END:VEVENT
BEGIN:VEVENT
UID:g6hef@games.golnetwork.com
LOCATION:Lamport Stadium - Field 2
GEO:43.6390028;-79.4232104
CREATED:20150123T151621Z
DTSTART:20150228T040000Z
DTEND:20150228T050000Z
DTSTAMP:20260419T182711Z
SUMMARY:Occasionally United vs.  Drama Queens
DESCRIPTION: Drama Queens vs. Occasionally UnitedMore info: #179
X-ALT-DESC;FMTTYPE=text/html:<!DOCTYPE HTML PUBLIC "-//W3C//DTD HTML 3.2//E
	N">\n<HTML>\n<HEAD>\n<TITLE></TITLE>\n</HEAD>\n<BODY>\n<h3> Drama Queens vs
	. Occasionally United</h3>More info: <a href="https://www.golnetwork.com/ga
	me/v/64443/">#179</a>\n\n</BODY>\n</HTML>
STATUS:CONFIRMED
CLASS:PUBLIC
URL:https://www.golnetwork.com/game/v/64443/
X-MICROSOFT-CDO-BUSYSTATUS:BUSY
X-MICROSOFT-CDO-IMPORTANCE:1
END:VEVENT
BEGIN:VEVENT
UID:g6he9@games.golnetwork.com
LOCATION:Lamport Stadium - Field 2
GEO:43.6390028;-79.4232104
CREATED:20150123T151621Z
DTSTART:20150221T030000Z
DTEND:20150221T040000Z
DTSTAMP:20260419T182711Z
SUMMARY:Occasionally United vs. Olifanten FC
DESCRIPTION:Olifanten FC vs. Occasionally UnitedMore info: #136
X-ALT-DESC;FMTTYPE=text/html:<!DOCTYPE HTML PUBLIC "-//W3C//DTD HTML 3.2//E
	N">\n<HTML>\n<HEAD>\n<TITLE></TITLE>\n</HEAD>\n<BODY>\n<h3>Olifanten FC vs.
	 Occasionally United</h3>More info: <a href="https://www.golnetwork.com/gam
	e/v/64440/">#136</a>\n\n</BODY>\n</HTML>
STATUS:CONFIRMED
CLASS:PUBLIC
URL:https://www.golnetwork.com/game/v/64440/
X-MICROSOFT-CDO-BUSYSTATUS:BUSY
X-MICROSOFT-CDO-IMPORTANCE:1
END:VEVENT
BEGIN:VEVENT
UID:g6he3@games.golnetwork.com
LOCATION:Lamport Stadium - Field 2
GEO:43.6390028;-79.4232104
CREATED:20150123T151621Z
DTSTART:20150214T010000Z
DTEND:20150214T020000Z
DTSTAMP:20260419T182711Z
SUMMARY:Occasionally United vs. Aztecas
DESCRIPTION:Aztecas vs. Occasionally UnitedMore info: #97
X-ALT-DESC;FMTTYPE=text/html:<!DOCTYPE HTML PUBLIC "-//W3C//DTD HTML 3.2//E
	N">\n<HTML>\n<HEAD>\n<TITLE></TITLE>\n</HEAD>\n<BODY>\n<h3>Aztecas vs. Occa
	sionally United</h3>More info: <a href="https://www.golnetwork.com/game/v/6
	4437/">#97</a>\n\n</BODY>\n</HTML>
STATUS:CONFIRMED
CLASS:PUBLIC
URL:https://www.golnetwork.com/game/v/64437/
X-MICROSOFT-CDO-BUSYSTATUS:BUSY
X-MICROSOFT-CDO-IMPORTANCE:1
END:VEVENT
BEGIN:VEVENT
UID:g6hdm@games.golnetwork.com
LOCATION:Lamport Stadium - Field 2
GEO:43.6390028;-79.4232104
CREATED:20150123T151621Z
DTSTART:20150207T040000Z
DTEND:20150207T050000Z
DTSTAMP:20260419T182711Z
SUMMARY:BOOMSHAKKALAKKA! vs. Occasionally United
DESCRIPTION:Occasionally United vs. BOOMSHAKKALAKKA!More info: #63
X-ALT-DESC;FMTTYPE=text/html:<!DOCTYPE HTML PUBLIC "-//W3C//DTD HTML 3.2//E
	N">\n<HTML>\n<HEAD>\n<TITLE></TITLE>\n</HEAD>\n<BODY>\n<h3>Occasionally Uni
	ted vs. BOOMSHAKKALAKKA!</h3>More info: <a href="https://www.golnetwork.com
	/game/v/64433/">#63</a>\n\n</BODY>\n</HTML>
STATUS:CONFIRMED
CLASS:PUBLIC
URL:https://www.golnetwork.com/game/v/64433/
X-MICROSOFT-CDO-BUSYSTATUS:BUSY
X-MICROSOFT-CDO-IMPORTANCE:1
END:VEVENT
END:VCALENDAR
