BEGIN:VCALENDAR
PRODID:-//gdesolutions.com//MV Framework 1.0.0.1607 Calendar//EN
VERSION:2.0
METHOD:PUBLISH
CALSCALE:GREGORIAN
BEGIN:VEVENT
UID:g5nce@games.golnetwork.com
LOCATION:Jesse Ketchum Field
CREATED:20140912T163605Z
DTSTART:20141101T193000Z
DTEND:20141101T204500Z
DTSTAMP:20260422T033349Z
SUMMARY:Aztecas vs. Never Wuzzes
DESCRIPTION:Never Wuzzes vs. AztecasMore info: #59
X-ALT-DESC;FMTTYPE=text/html:<!DOCTYPE HTML PUBLIC "-//W3C//DTD HTML 3.2//E
	N">\n<HTML>\n<HEAD>\n<TITLE></TITLE>\n</HEAD>\n<BODY>\n<h3>Never Wuzzes vs.
	 Aztecas</h3>More info: <a href="https://www.golnetwork.com/game/v/56761/">
	#59</a>\n\n</BODY>\n</HTML>
STATUS:CONFIRMED
CLASS:PUBLIC
URL:https://www.golnetwork.com/game/v/56761/
X-MICROSOFT-CDO-BUSYSTATUS:BUSY
X-MICROSOFT-CDO-IMPORTANCE:1
END:VEVENT
BEGIN:VEVENT
UID:g5ke7@games.golnetwork.com
LOCATION:Jesse Ketchum Field
CREATED:20140904T195340Z
DTSTART:20141025T181500Z
DTEND:20141025T193000Z
DTSTAMP:20260422T033349Z
SUMMARY:Aztecas vs. MPA (Blue)
DESCRIPTION:MPA (Blue) vs. AztecasMore info: #50
X-ALT-DESC;FMTTYPE=text/html:<!DOCTYPE HTML PUBLIC "-//W3C//DTD HTML 3.2//E
	N">\n<HTML>\n<HEAD>\n<TITLE></TITLE>\n</HEAD>\n<BODY>\n<h3>MPA (Blue) vs. A
	ztecas</h3>More info: <a href="https://www.golnetwork.com/game/v/55691/">#5
	0</a>\n\n</BODY>\n</HTML>
STATUS:CONFIRMED
CLASS:PUBLIC
URL:https://www.golnetwork.com/game/v/55691/
X-MICROSOFT-CDO-BUSYSTATUS:BUSY
X-MICROSOFT-CDO-IMPORTANCE:1
END:VEVENT
BEGIN:VEVENT
UID:g5ke3@games.golnetwork.com
LOCATION:Jesse Ketchum Field
CREATED:20140904T195340Z
DTSTART:20141018T193000Z
DTEND:20141018T204500Z
DTSTAMP:20260422T033349Z
SUMMARY:Never Wuzzes vs. Aztecas
DESCRIPTION:Aztecas vs. Never WuzzesMore info: #43
X-ALT-DESC;FMTTYPE=text/html:<!DOCTYPE HTML PUBLIC "-//W3C//DTD HTML 3.2//E
	N">\n<HTML>\n<HEAD>\n<TITLE></TITLE>\n</HEAD>\n<BODY>\n<h3>Aztecas vs. Neve
	r Wuzzes</h3>More info: <a href="https://www.golnetwork.com/game/v/55689/">
	#43</a>\n\n</BODY>\n</HTML>
STATUS:CONFIRMED
CLASS:PUBLIC
URL:https://www.golnetwork.com/game/v/55689/
X-MICROSOFT-CDO-BUSYSTATUS:BUSY
X-MICROSOFT-CDO-IMPORTANCE:1
END:VEVENT
BEGIN:VEVENT
UID:g5mfa@games.golnetwork.com
LOCATION:Jesse Ketchum Field
CREATED:20140911T133321Z
DTSTART:20141011T170000Z
DTEND:20141011T181500Z
DTSTAMP:20260422T033349Z
SUMMARY:Aztecas vs. Campisi Personal Injury Lawyers
DESCRIPTION:Campisi Personal Injury Lawyers vs. AztecasMore info: #33
X-ALT-DESC;FMTTYPE=text/html:<!DOCTYPE HTML PUBLIC "-//W3C//DTD HTML 3.2//E
	N">\n<HTML>\n<HEAD>\n<TITLE></TITLE>\n</HEAD>\n<BODY>\n<h3>Campisi Personal
	 Injury Lawyers vs. Aztecas</h3>More info: <a href="https://www.golnetwork.
	com/game/v/56435/">#33</a>\n\n</BODY>\n</HTML>
STATUS:CONFIRMED
CLASS:PUBLIC
URL:https://www.golnetwork.com/game/v/56435/
X-MICROSOFT-CDO-BUSYSTATUS:BUSY
X-MICROSOFT-CDO-IMPORTANCE:1
END:VEVENT
BEGIN:VEVENT
UID:g5mf8@games.golnetwork.com
LOCATION:Jesse Ketchum Field
CREATED:20140911T133317Z
DTSTART:20141004T181500Z
DTEND:20141004T193000Z
DTSTAMP:20260422T033349Z
SUMMARY:XTSC Divers vs. Aztecas
DESCRIPTION:Aztecas vs. XTSC DiversMore info: #26
X-ALT-DESC;FMTTYPE=text/html:<!DOCTYPE HTML PUBLIC "-//W3C//DTD HTML 3.2//E
	N">\n<HTML>\n<HEAD>\n<TITLE></TITLE>\n</HEAD>\n<BODY>\n<h3>Aztecas vs. XTSC
	 Divers</h3>More info: <a href="https://www.golnetwork.com/game/v/56434/">#
	26</a>\n\n</BODY>\n</HTML>
STATUS:CONFIRMED
CLASS:PUBLIC
URL:https://www.golnetwork.com/game/v/56434/
X-MICROSOFT-CDO-BUSYSTATUS:BUSY
X-MICROSOFT-CDO-IMPORTANCE:1
END:VEVENT
BEGIN:VEVENT
UID:g5mf6@games.golnetwork.com
LOCATION:Jesse Ketchum Field
CREATED:20140911T133313Z
DTSTART:20140927T193000Z
DTEND:20140927T204500Z
DTSTAMP:20260422T033349Z
SUMMARY:Aztecas vs. The Pink Flamingos
DESCRIPTION:The Pink Flamingos vs. AztecasMore info: #19
X-ALT-DESC;FMTTYPE=text/html:<!DOCTYPE HTML PUBLIC "-//W3C//DTD HTML 3.2//E
	N">\n<HTML>\n<HEAD>\n<TITLE></TITLE>\n</HEAD>\n<BODY>\n<h3>The Pink Flaming
	os vs. Aztecas</h3>More info: <a href="https://www.golnetwork.com/game/v/56
	433/">#19</a>\n\n</BODY>\n</HTML>
STATUS:CONFIRMED
CLASS:PUBLIC
URL:https://www.golnetwork.com/game/v/56433/
X-MICROSOFT-CDO-BUSYSTATUS:BUSY
X-MICROSOFT-CDO-IMPORTANCE:1
END:VEVENT
BEGIN:VEVENT
UID:g5mf4@games.golnetwork.com
LOCATION:Jesse Ketchum Field
CREATED:20140911T133310Z
DTSTART:20140920T170000Z
DTEND:20140920T181500Z
DTSTAMP:20260422T033349Z
SUMMARY:XTSC Hattrick Heroes vs. Aztecas
DESCRIPTION:Aztecas vs. XTSC Hattrick HeroesMore info: #9
X-ALT-DESC;FMTTYPE=text/html:<!DOCTYPE HTML PUBLIC "-//W3C//DTD HTML 3.2//E
	N">\n<HTML>\n<HEAD>\n<TITLE></TITLE>\n</HEAD>\n<BODY>\n<h3>Aztecas vs. XTSC
	 Hattrick Heroes</h3>More info: <a href="https://www.golnetwork.com/game/v/
	56432/">#9</a>\n\n</BODY>\n</HTML>
STATUS:CONFIRMED
CLASS:PUBLIC
URL:https://www.golnetwork.com/game/v/56432/
X-MICROSOFT-CDO-BUSYSTATUS:BUSY
X-MICROSOFT-CDO-IMPORTANCE:1
END:VEVENT
BEGIN:VEVENT
UID:g5mf2@games.golnetwork.com
LOCATION:Jesse Ketchum Field
CREATED:20140911T133306Z
DTSTART:20140913T204500Z
DTEND:20140913T220000Z
DTSTAMP:20260422T033349Z
SUMMARY:ABCDE FC vs. Aztecas
DESCRIPTION:Aztecas vs. ABCDE FCMore info: #4
X-ALT-DESC;FMTTYPE=text/html:<!DOCTYPE HTML PUBLIC "-//W3C//DTD HTML 3.2//E
	N">\n<HTML>\n<HEAD>\n<TITLE></TITLE>\n</HEAD>\n<BODY>\n<h3>Aztecas vs. ABCD
	E FC</h3>More info: <a href="https://www.golnetwork.com/game/v/56431/">#4</
	a>\n\n</BODY>\n</HTML>
STATUS:CONFIRMED
CLASS:PUBLIC
URL:https://www.golnetwork.com/game/v/56431/
X-MICROSOFT-CDO-BUSYSTATUS:BUSY
X-MICROSOFT-CDO-IMPORTANCE:1
END:VEVENT
END:VCALENDAR
