BEGIN:VCALENDAR
PRODID:-//gdesolutions.com//MV Framework 1.0.0.1607 Calendar//EN
VERSION:2.0
METHOD:PUBLISH
CALSCALE:GREGORIAN
BEGIN:VEVENT
UID:g68f3@games.golnetwork.com
LOCATION:Louis Riel #2
GEO:45.4410208;-75.5715394
CREATED:20141107T192547Z
DTSTART:20141121T040000Z
DTEND:20141121T045000Z
DTSTAMP:20260423T072657Z
SUMMARY:The Funky Bunch vs. Fantasy Draught
DESCRIPTION:Fantasy Draught vs. The Funky BunchMore info: #14
X-ALT-DESC;FMTTYPE=text/html:<!DOCTYPE HTML PUBLIC "-//W3C//DTD HTML 3.2//E
	N">\n<HTML>\n<HEAD>\n<TITLE></TITLE>\n</HEAD>\n<BODY>\n<h3>Fantasy Draught 
	vs. The Funky Bunch</h3>More info: <a href="https://www.golnetwork.com/game
	/v/61170/">#14</a>\n\n</BODY>\n</HTML>
STATUS:CONFIRMED
CLASS:PUBLIC
URL:https://www.golnetwork.com/game/v/61170/
X-MICROSOFT-CDO-BUSYSTATUS:BUSY
X-MICROSOFT-CDO-IMPORTANCE:1
END:VEVENT
BEGIN:VEVENT
UID:g68eg@games.golnetwork.com
LOCATION:Branchaud Briere Field #1
GEO:45.4982732;-75.6421544
CREATED:20141107T192205Z
DTSTART:20141114T023000Z
DTEND:20141114T032000Z
DTSTAMP:20260423T072657Z
SUMMARY:Green Machine vs. Fantasy Draught
DESCRIPTION:Fantasy Draught vs. Green MachineMore info: #140
X-ALT-DESC;FMTTYPE=text/html:<!DOCTYPE HTML PUBLIC "-//W3C//DTD HTML 3.2//E
	N">\n<HTML>\n<HEAD>\n<TITLE></TITLE>\n</HEAD>\n<BODY>\n<h3>Fantasy Draught 
	vs. Green Machine</h3>More info: <a href="https://www.golnetwork.com/game/v
	/61163/">#140</a>\n\n</BODY>\n</HTML>
STATUS:CONFIRMED
CLASS:PUBLIC
URL:https://www.golnetwork.com/game/v/61163/
X-MICROSOFT-CDO-BUSYSTATUS:BUSY
X-MICROSOFT-CDO-IMPORTANCE:1
END:VEVENT
BEGIN:VEVENT
UID:g66ik@games.golnetwork.com
LOCATION:Branchaud Briere Field #2
GEO:45.4982732;-75.6421544
CREATED:20141021T213656Z
DTSTART:20141031T020000Z
DTEND:20141031T025000Z
DTSTAMP:20260423T072657Z
SUMMARY:Fantasy Draught vs. The Miseducation
DESCRIPTION:The Miseducation vs. Fantasy DraughtMore info: #13
X-ALT-DESC;FMTTYPE=text/html:<!DOCTYPE HTML PUBLIC "-//W3C//DTD HTML 3.2//E
	N">\n<HTML>\n<HEAD>\n<TITLE></TITLE>\n</HEAD>\n<BODY>\n<h3>The Miseducation
	 vs. Fantasy Draught</h3>More info: <a href="https://www.golnetwork.com/gam
	e/v/60490/">#13</a>\n\n</BODY>\n</HTML>
STATUS:CONFIRMED
CLASS:PUBLIC
URL:https://www.golnetwork.com/game/v/60490/
X-MICROSOFT-CDO-BUSYSTATUS:BUSY
X-MICROSOFT-CDO-IMPORTANCE:1
END:VEVENT
BEGIN:VEVENT
UID:g65qd@games.golnetwork.com
LOCATION:Branchaud Briere Field #2
GEO:45.4982732;-75.6421544
CREATED:20141020T174821Z
DTSTART:20141024T010000Z
DTEND:20141024T015000Z
DTSTAMP:20260423T072657Z
SUMMARY:Fusion vs. Fantasy Draught
DESCRIPTION:Fantasy Draught vs. FusionMore info: #10
X-ALT-DESC;FMTTYPE=text/html:<!DOCTYPE HTML PUBLIC "-//W3C//DTD HTML 3.2//E
	N">\n<HTML>\n<HEAD>\n<TITLE></TITLE>\n</HEAD>\n<BODY>\n<h3>Fantasy Draught 
	vs. Fusion</h3>More info: <a href="https://www.golnetwork.com/game/v/60230/
	">#10</a>\n\n</BODY>\n</HTML>
STATUS:CONFIRMED
CLASS:PUBLIC
URL:https://www.golnetwork.com/game/v/60230/
X-MICROSOFT-CDO-BUSYSTATUS:BUSY
X-MICROSOFT-CDO-IMPORTANCE:1
END:VEVENT
BEGIN:VEVENT
UID:g63q9@games.golnetwork.com
LOCATION:Louis Riel #3
GEO:45.4410208;-75.5715394
CREATED:20141011T190551Z
DTSTART:20141017T030000Z
DTEND:20141017T035000Z
DTSTAMP:20260423T072657Z
SUMMARY:Fantasy Draught vs. Velvet Vikings
DESCRIPTION:Velvet Vikings vs. Fantasy DraughtMore info: #18
X-ALT-DESC;FMTTYPE=text/html:<!DOCTYPE HTML PUBLIC "-//W3C//DTD HTML 3.2//E
	N">\n<HTML>\n<HEAD>\n<TITLE></TITLE>\n</HEAD>\n<BODY>\n<h3>Velvet Vikings v
	s. Fantasy Draught</h3>More info: <a href="https://www.golnetwork.com/game/
	v/59499/">#18</a>\n\n</BODY>\n</HTML>
STATUS:CONFIRMED
CLASS:PUBLIC
URL:https://www.golnetwork.com/game/v/59499/
X-MICROSOFT-CDO-BUSYSTATUS:BUSY
X-MICROSOFT-CDO-IMPORTANCE:1
END:VEVENT
BEGIN:VEVENT
UID:g63gp@games.golnetwork.com
LOCATION:Terry Fox Field West #1
GEO:45.3702572;-75.6905176
CREATED:20141006T214313Z
DTSTART:20141010T011500Z
DTEND:20141010T020500Z
DTSTAMP:20260423T072657Z
SUMMARY:Fantasy Draught vs. Green Machine
DESCRIPTION:Green Machine vs. Fantasy DraughtMore info: #13
X-ALT-DESC;FMTTYPE=text/html:<!DOCTYPE HTML PUBLIC "-//W3C//DTD HTML 3.2//E
	N">\n<HTML>\n<HEAD>\n<TITLE></TITLE>\n</HEAD>\n<BODY>\n<h3>Green Machine vs
	. Fantasy Draught</h3>More info: <a href="https://www.golnetwork.com/game/v
	/59372/">#13</a>\n\n</BODY>\n</HTML>
STATUS:CONFIRMED
CLASS:PUBLIC
URL:https://www.golnetwork.com/game/v/59372/
X-MICROSOFT-CDO-BUSYSTATUS:BUSY
X-MICROSOFT-CDO-IMPORTANCE:1
END:VEVENT
BEGIN:VEVENT
UID:g5q9c@games.golnetwork.com
LOCATION:Terry Fox Field West #2
GEO:45.3702572;-75.6905176
CREATED:20140926T210255Z
DTSTART:20141003T011500Z
DTEND:20141003T020500Z
DTSTAMP:20260423T072657Z
SUMMARY:The Funky Bunch vs. Fantasy Draught
DESCRIPTION:Fantasy Draught vs. The Funky BunchMore info: #16
X-ALT-DESC;FMTTYPE=text/html:<!DOCTYPE HTML PUBLIC "-//W3C//DTD HTML 3.2//E
	N">\n<HTML>\n<HEAD>\n<TITLE></TITLE>\n</HEAD>\n<BODY>\n<h3>Fantasy Draught 
	vs. The Funky Bunch</h3>More info: <a href="https://www.golnetwork.com/game
	/v/57813/">#16</a>\n\n</BODY>\n</HTML>
STATUS:CONFIRMED
CLASS:PUBLIC
URL:https://www.golnetwork.com/game/v/57813/
X-MICROSOFT-CDO-BUSYSTATUS:BUSY
X-MICROSOFT-CDO-IMPORTANCE:1
END:VEVENT
BEGIN:VEVENT
UID:g5qfk@games.golnetwork.com
LOCATION:Terry Fox Field West #1
GEO:45.3702572;-75.6905176
CREATED:20140929T165518Z
DTSTART:20141003T001500Z
DTEND:20141003T010500Z
DTSTAMP:20260423T072657Z
SUMMARY:Fantasy Draught vs. Elemonators
DESCRIPTION:Elemonators vs. Fantasy DraughtMore info: #43
X-ALT-DESC;FMTTYPE=text/html:<!DOCTYPE HTML PUBLIC "-//W3C//DTD HTML 3.2//E
	N">\n<HTML>\n<HEAD>\n<TITLE></TITLE>\n</HEAD>\n<BODY>\n<h3>Elemonators vs. 
	Fantasy Draught</h3>More info: <a href="https://www.golnetwork.com/game/v/5
	7898/">#43</a>\n\n</BODY>\n</HTML>
STATUS:CONFIRMED
CLASS:PUBLIC
URL:https://www.golnetwork.com/game/v/57898/
X-MICROSOFT-CDO-BUSYSTATUS:BUSY
X-MICROSOFT-CDO-IMPORTANCE:1
END:VEVENT
BEGIN:VEVENT
UID:g5p5l@games.golnetwork.com
LOCATION:Branchaud Briere Field #2
GEO:45.4982732;-75.6421544
CREATED:20140922T025820Z
DTSTART:20140925T230000Z
DTEND:20140925T235000Z
DTSTAMP:20260423T072657Z
SUMMARY:Fantasy Draught vs. 50 Shades of Pink
DESCRIPTION:50 Shades of Pink vs. Fantasy DraughtMore info: #19
X-ALT-DESC;FMTTYPE=text/html:<!DOCTYPE HTML PUBLIC "-//W3C//DTD HTML 3.2//E
	N">\n<HTML>\n<HEAD>\n<TITLE></TITLE>\n</HEAD>\n<BODY>\n<h3>50 Shades of Pin
	k vs. Fantasy Draught</h3>More info: <a href="https://www.golnetwork.com/ga
	me/v/57399/">#19</a>\n\n</BODY>\n</HTML>
STATUS:CONFIRMED
CLASS:PUBLIC
URL:https://www.golnetwork.com/game/v/57399/
X-MICROSOFT-CDO-BUSYSTATUS:BUSY
X-MICROSOFT-CDO-IMPORTANCE:1
END:VEVENT
BEGIN:VEVENT
UID:g5me5@games.golnetwork.com
LOCATION:Branchaud Briere Field #2
GEO:45.4982732;-75.6421544
CREATED:20140910T212633Z
DTSTART:20140919T010000Z
DTEND:20140919T015000Z
DTSTAMP:20260423T072657Z
SUMMARY:Fantasy Draught vs. Junkyard Dogs
DESCRIPTION:Junkyard Dogs vs. Fantasy DraughtMore info: #10
X-ALT-DESC;FMTTYPE=text/html:<!DOCTYPE HTML PUBLIC "-//W3C//DTD HTML 3.2//E
	N">\n<HTML>\n<HEAD>\n<TITLE></TITLE>\n</HEAD>\n<BODY>\n<h3>Junkyard Dogs vs
	. Fantasy Draught</h3>More info: <a href="https://www.golnetwork.com/game/v
	/56419/">#10</a>\n\n</BODY>\n</HTML>
STATUS:CONFIRMED
CLASS:PUBLIC
URL:https://www.golnetwork.com/game/v/56419/
X-MICROSOFT-CDO-BUSYSTATUS:BUSY
X-MICROSOFT-CDO-IMPORTANCE:1
END:VEVENT
END:VCALENDAR
