BEGIN:VCALENDAR
PRODID:-//gdesolutions.com//MV Framework 1.0.0.1607 Calendar//EN
VERSION:2.0
METHOD:PUBLISH
CALSCALE:GREGORIAN
BEGIN:VEVENT
UID:g6an3@games.golnetwork.com
LOCATION:Louis Riel #3
GEO:45.4410208;-75.5715394
CREATED:20141207T174259Z
DTSTART:20141212T010000Z
DTEND:20141212T015000Z
DTSTAMP:20260422T084541Z
SUMMARY:Flamingos vs. Precious Stars
DESCRIPTION:Precious Stars vs. FlamingosMore info: #197
X-ALT-DESC;FMTTYPE=text/html:<!DOCTYPE HTML PUBLIC "-//W3C//DTD HTML 3.2//E
	N">\n<HTML>\n<HEAD>\n<TITLE></TITLE>\n</HEAD>\n<BODY>\n<h3>Precious Stars v
	s. Flamingos</h3>More info: <a href="https://www.golnetwork.com/game/v/6200
	7/">#197</a>\n\n</BODY>\n</HTML>
STATUS:CONFIRMED
CLASS:PUBLIC
URL:https://www.golnetwork.com/game/v/62007/
X-MICROSOFT-CDO-BUSYSTATUS:BUSY
X-MICROSOFT-CDO-IMPORTANCE:1
END:VEVENT
BEGIN:VEVENT
UID:g6aak@games.golnetwork.com
LOCATION:Louis Riel #3
GEO:45.4410208;-75.5715394
CREATED:20141201T001123Z
DTSTART:20141205T020000Z
DTEND:20141205T025000Z
DTSTAMP:20260422T084541Z
SUMMARY:Pas l'temps de niaser vs. Precious Stars
DESCRIPTION:Precious Stars vs. Pas l'temps de niaserMore info: #185
X-ALT-DESC;FMTTYPE=text/html:<!DOCTYPE HTML PUBLIC "-//W3C//DTD HTML 3.2//E
	N">\n<HTML>\n<HEAD>\n<TITLE></TITLE>\n</HEAD>\n<BODY>\n<h3>Precious Stars v
	s. Pas l'temps de niaser</h3>More info: <a href="https://www.golnetwork.com
	/game/v/61840/">#185</a>\n\n</BODY>\n</HTML>
STATUS:CONFIRMED
CLASS:PUBLIC
URL:https://www.golnetwork.com/game/v/61840/
X-MICROSOFT-CDO-BUSYSTATUS:BUSY
X-MICROSOFT-CDO-IMPORTANCE:1
END:VEVENT
BEGIN:VEVENT
UID:g69op@games.golnetwork.com
LOCATION:Lees Dome Field #1
GEO:45.415776;-75.6684899
CREATED:20141121T181301Z
DTSTART:20141128T030000Z
DTEND:20141128T035000Z
DTSTAMP:20260422T084541Z
SUMMARY:Los Amigos vs. Precious Stars
DESCRIPTION:Precious Stars vs. Los AmigosMore info: #174
X-ALT-DESC;FMTTYPE=text/html:<!DOCTYPE HTML PUBLIC "-//W3C//DTD HTML 3.2//E
	N">\n<HTML>\n<HEAD>\n<TITLE></TITLE>\n</HEAD>\n<BODY>\n<h3>Precious Stars v
	s. Los Amigos</h3>More info: <a href="https://www.golnetwork.com/game/v/616
	67/">#174</a>\n\n</BODY>\n</HTML>
STATUS:CONFIRMED
CLASS:PUBLIC
URL:https://www.golnetwork.com/game/v/61667/
X-MICROSOFT-CDO-BUSYSTATUS:BUSY
X-MICROSOFT-CDO-IMPORTANCE:1
END:VEVENT
END:VCALENDAR
