BEGIN:VCALENDAR
PRODID:-//gdesolutions.com//MV Framework 1.0.0.1607 Calendar//EN
VERSION:2.0
METHOD:PUBLISH
CALSCALE:GREGORIAN
BEGIN:VEVENT
UID:g9elc@games.golnetwork.com
LOCATION:Molson Stadium
GEO:45.10662;-94.578209
CREATED:20160912T155346Z
DTSTART:20161104T220000Z
DTEND:20161104T224400Z
DTSTAMP:20260423T074948Z
SUMMARY:MSCORE vs. St. Henri Casuals
DESCRIPTION:St. Henri Casuals vs. MSCOREMore info: #258
X-ALT-DESC;FMTTYPE=text/html:<!DOCTYPE HTML PUBLIC "-//W3C//DTD HTML 3.2//E
	N">\n<HTML>\n<HEAD>\n<TITLE></TITLE>\n</HEAD>\n<BODY>\n<h3>St. Henri Casual
	s vs. MSCORE</h3>More info: <a href="https://www.golnetwork.com/game/v/9296
	7/">#258</a>\n\n</BODY>\n</HTML>
STATUS:CONFIRMED
CLASS:PUBLIC
URL:https://www.golnetwork.com/game/v/92967/
X-MICROSOFT-CDO-BUSYSTATUS:BUSY
X-MICROSOFT-CDO-IMPORTANCE:1
END:VEVENT
BEGIN:VEVENT
UID:g9elq@games.golnetwork.com
LOCATION:Molson Stadium
GEO:45.10662;-94.578209
CREATED:20160912T155346Z
DTSTART:20161104T210000Z
DTEND:20161104T214400Z
DTSTAMP:20260423T074948Z
SUMMARY:Balls Out 4 Harambe (CRD) vs. St. Henri Casuals
DESCRIPTION:St. Henri Casuals vs. Balls Out 4 Harambe (CRD)More info: #3
X-ALT-DESC;FMTTYPE=text/html:<!DOCTYPE HTML PUBLIC "-//W3C//DTD HTML 3.2//E
	N">\n<HTML>\n<HEAD>\n<TITLE></TITLE>\n</HEAD>\n<BODY>\n<h3>St. Henri Casual
	s vs. Balls Out 4 Harambe (CRD)</h3>More info: <a href="https://www.golnetw
	ork.com/game/v/92974/">#3</a>\n\n</BODY>\n</HTML>
STATUS:CONFIRMED
CLASS:PUBLIC
URL:https://www.golnetwork.com/game/v/92974/
X-MICROSOFT-CDO-BUSYSTATUS:BUSY
X-MICROSOFT-CDO-IMPORTANCE:1
END:VEVENT
BEGIN:VEVENT
UID:g9ehm@games.golnetwork.com
LOCATION:Molson Stadium
GEO:45.10662;-94.578209
CREATED:20160912T155344Z
DTSTART:20161022T160000Z
DTEND:20161022T164400Z
DTSTAMP:20260423T074948Z
SUMMARY:KingKev'sLastStand vs. St. Henri Casuals
DESCRIPTION:St. Henri Casuals vs. KingKev'sLastStandMore info: #208
X-ALT-DESC;FMTTYPE=text/html:<!DOCTYPE HTML PUBLIC "-//W3C//DTD HTML 3.2//E
	N">\n<HTML>\n<HEAD>\n<TITLE></TITLE>\n</HEAD>\n<BODY>\n<h3>St. Henri Casual
	s vs. KingKev'sLastStand</h3>More info: <a href="https://www.golnetwork.com
	/game/v/92918/">#208</a>\n\n</BODY>\n</HTML>
STATUS:CONFIRMED
CLASS:PUBLIC
URL:https://www.golnetwork.com/game/v/92918/
X-MICROSOFT-CDO-BUSYSTATUS:BUSY
X-MICROSOFT-CDO-IMPORTANCE:1
END:VEVENT
BEGIN:VEVENT
UID:g9eeh@games.golnetwork.com
LOCATION:Molson Stadium
GEO:45.10662;-94.578209
CREATED:20160912T155342Z
DTSTART:20161015T230000Z
DTEND:20161015T234400Z
DTSTAMP:20260423T074948Z
SUMMARY:We're Still Deciding vs. St. Henri Casuals
DESCRIPTION:St. Henri Casuals vs. We're Still DecidingMore info: #165
X-ALT-DESC;FMTTYPE=text/html:<!DOCTYPE HTML PUBLIC "-//W3C//DTD HTML 3.2//E
	N">\n<HTML>\n<HEAD>\n<TITLE></TITLE>\n</HEAD>\n<BODY>\n<h3>St. Henri Casual
	s vs. We're Still Deciding</h3>More info: <a href="https://www.golnetwork.c
	om/game/v/92875/">#165</a>\n\n</BODY>\n</HTML>
STATUS:CONFIRMED
CLASS:PUBLIC
URL:https://www.golnetwork.com/game/v/92875/
X-MICROSOFT-CDO-BUSYSTATUS:BUSY
X-MICROSOFT-CDO-IMPORTANCE:1
END:VEVENT
BEGIN:VEVENT
UID:g9e7q@games.golnetwork.com
LOCATION:Molson Stadium
GEO:45.10662;-94.578209
CREATED:20160912T155339Z
DTSTART:20160925T010000Z
DTEND:20160925T014400Z
DTSTAMP:20260423T074948Z
SUMMARY:St. Henri Casuals vs. Socceromyces
DESCRIPTION:Socceromyces vs. St. Henri CasualsMore info: #75
X-ALT-DESC;FMTTYPE=text/html:<!DOCTYPE HTML PUBLIC "-//W3C//DTD HTML 3.2//E
	N">\n<HTML>\n<HEAD>\n<TITLE></TITLE>\n</HEAD>\n<BODY>\n<h3>Socceromyces vs.
	 St. Henri Casuals</h3>More info: <a href="https://www.golnetwork.com/game/
	v/92785/">#75</a>\n\n</BODY>\n</HTML>
STATUS:CONFIRMED
CLASS:PUBLIC
URL:https://www.golnetwork.com/game/v/92785/
X-MICROSOFT-CDO-BUSYSTATUS:BUSY
X-MICROSOFT-CDO-IMPORTANCE:1
END:VEVENT
BEGIN:VEVENT
UID:g9e38@games.golnetwork.com
LOCATION:Molson Stadium
GEO:45.10662;-94.578209
CREATED:20160912T155334Z
DTSTART:20160917T170000Z
DTEND:20160917T174400Z
DTSTAMP:20260423T074948Z
SUMMARY:St. Henri Casuals vs. Sparkle
DESCRIPTION:Sparkle vs. St. Henri CasualsMore info: #12
X-ALT-DESC;FMTTYPE=text/html:<!DOCTYPE HTML PUBLIC "-//W3C//DTD HTML 3.2//E
	N">\n<HTML>\n<HEAD>\n<TITLE></TITLE>\n</HEAD>\n<BODY>\n<h3>Sparkle vs. St. 
	Henri Casuals</h3>More info: <a href="https://www.golnetwork.com/game/v/927
	22/">#12</a>\n\n</BODY>\n</HTML>
STATUS:CONFIRMED
CLASS:PUBLIC
URL:https://www.golnetwork.com/game/v/92722/
X-MICROSOFT-CDO-BUSYSTATUS:BUSY
X-MICROSOFT-CDO-IMPORTANCE:1
END:VEVENT
END:VCALENDAR
