BEGIN:VCALENDAR
PRODID:-//gdesolutions.com//MV Framework 1.0.0.1607 Calendar//EN
VERSION:2.0
METHOD:PUBLISH
CALSCALE:GREGORIAN
BEGIN:VEVENT
UID:g6m9p@games.golnetwork.com
LOCATION:Fieldhouse C & D
GEO:45.10662;-94.578209
CREATED:20150323T211108Z
DTSTART:20150411T173000Z
DTEND:20150411T181400Z
DTSTAMP:20260420T012744Z
SUMMARY:Blouses vs. Joga Bonito (M)
DESCRIPTION:Joga Bonito (M) vs. BlousesMore info: #370
X-ALT-DESC;FMTTYPE=text/html:<!DOCTYPE HTML PUBLIC "-//W3C//DTD HTML 3.2//E
	N">\n<HTML>\n<HEAD>\n<TITLE></TITLE>\n</HEAD>\n<BODY>\n<h3>Joga Bonito (M) 
	vs. Blouses</h3>More info: <a href="https://www.golnetwork.com/game/v/66203
	/">#370</a>\n\n</BODY>\n</HTML>
STATUS:CONFIRMED
CLASS:PUBLIC
URL:https://www.golnetwork.com/game/v/66203/
X-MICROSOFT-CDO-BUSYSTATUS:BUSY
X-MICROSOFT-CDO-IMPORTANCE:1
END:VEVENT
BEGIN:VEVENT
UID:g6m9j@games.golnetwork.com
LOCATION:Fieldhouse C & D
GEO:45.10662;-94.578209
CREATED:20150323T211128Z
DTSTART:20150409T233000Z
DTEND:20150410T001400Z
DTSTAMP:20260420T012744Z
SUMMARY:Arselona vs. Blouses
DESCRIPTION:Blouses vs. ArselonaMore info: #359
X-ALT-DESC;FMTTYPE=text/html:<!DOCTYPE HTML PUBLIC "-//W3C//DTD HTML 3.2//E
	N">\n<HTML>\n<HEAD>\n<TITLE></TITLE>\n</HEAD>\n<BODY>\n<h3>Blouses vs. Arse
	lona</h3>More info: <a href="https://www.golnetwork.com/game/v/66200/">#359
	</a>\n\n</BODY>\n</HTML>
STATUS:CONFIRMED
CLASS:PUBLIC
URL:https://www.golnetwork.com/game/v/66200/
X-MICROSOFT-CDO-BUSYSTATUS:BUSY
X-MICROSOFT-CDO-IMPORTANCE:1
END:VEVENT
BEGIN:VEVENT
UID:g6m97@games.golnetwork.com
LOCATION:Fieldhouse C & D
GEO:45.10662;-94.578209
CREATED:20150323T210810Z
DTSTART:20150401T003000Z
DTEND:20150401T011400Z
DTSTAMP:20260420T012744Z
SUMMARY:RBC vs. Blouses
DESCRIPTION:Blouses vs. RBCMore info: #343
X-ALT-DESC;FMTTYPE=text/html:<!DOCTYPE HTML PUBLIC "-//W3C//DTD HTML 3.2//E
	N">\n<HTML>\n<HEAD>\n<TITLE></TITLE>\n</HEAD>\n<BODY>\n<h3>Blouses vs. RBC<
	/h3>More info: <a href="https://www.golnetwork.com/game/v/66194/">#343</a>\
	n\n</BODY>\n</HTML>
STATUS:CONFIRMED
CLASS:PUBLIC
URL:https://www.golnetwork.com/game/v/66194/
X-MICROSOFT-CDO-BUSYSTATUS:BUSY
X-MICROSOFT-CDO-IMPORTANCE:1
END:VEVENT
BEGIN:VEVENT
UID:g6m84@games.golnetwork.com
LOCATION:Fieldhouse C & D
GEO:45.10662;-94.578209
CREATED:20150323T205635Z
DTSTART:20150327T003000Z
DTEND:20150327T011400Z
DTSTAMP:20260420T012744Z
SUMMARY:MBA McGill vs. Blouses
DESCRIPTION:Blouses vs. MBA McGillMore info: #310
X-ALT-DESC;FMTTYPE=text/html:<!DOCTYPE HTML PUBLIC "-//W3C//DTD HTML 3.2//E
	N">\n<HTML>\n<HEAD>\n<TITLE></TITLE>\n</HEAD>\n<BODY>\n<h3>Blouses vs. MBA 
	McGill</h3>More info: <a href="https://www.golnetwork.com/game/v/66179/">#3
	10</a>\n\n</BODY>\n</HTML>
STATUS:CONFIRMED
CLASS:PUBLIC
URL:https://www.golnetwork.com/game/v/66179/
X-MICROSOFT-CDO-BUSYSTATUS:BUSY
X-MICROSOFT-CDO-IMPORTANCE:1
END:VEVENT
END:VCALENDAR
