BEGIN:VCALENDAR
PRODID:-//gdesolutions.com//MV Framework 1.0.0.1607 Calendar//EN
VERSION:2.0
METHOD:PUBLISH
CALSCALE:GREGORIAN
BEGIN:VEVENT
UID:g5n1p@games.golnetwork.com
LOCATION:Forbes Field
GEO:45.10662;-94.578209
CREATED:20140911T144022Z
DTSTART:20141021T000000Z
DTEND:20141021T004400Z
DTSTAMP:20260421T125552Z
SUMMARY:Tinder FC vs. Spurs
DESCRIPTION:Spurs vs. Tinder FCMore info: #185
X-ALT-DESC;FMTTYPE=text/html:<!DOCTYPE HTML PUBLIC "-//W3C//DTD HTML 3.2//E
	N">\n<HTML>\n<HEAD>\n<TITLE></TITLE>\n</HEAD>\n<BODY>\n<h3>Spurs vs. Tinder
	 FC</h3>More info: <a href="https://www.golnetwork.com/game/v/56618/">#185<
	/a>\n\n</BODY>\n</HTML>
STATUS:CONFIRMED
CLASS:PUBLIC
URL:https://www.golnetwork.com/game/v/56618/
X-MICROSOFT-CDO-BUSYSTATUS:BUSY
X-MICROSOFT-CDO-IMPORTANCE:1
END:VEVENT
BEGIN:VEVENT
UID:g5mqh@games.golnetwork.com
LOCATION:Forbes Field
GEO:45.10662;-94.578209
CREATED:20140911T144021Z
DTSTART:20141014T230000Z
DTEND:20141014T234400Z
DTSTAMP:20260421T125552Z
SUMMARY:Soccer? I Hardly Know Her! vs. Spurs
DESCRIPTION:Spurs vs. Soccer? I Hardly Know Her!More info: #153
X-ALT-DESC;FMTTYPE=text/html:<!DOCTYPE HTML PUBLIC "-//W3C//DTD HTML 3.2//E
	N">\n<HTML>\n<HEAD>\n<TITLE></TITLE>\n</HEAD>\n<BODY>\n<h3>Spurs vs. Soccer
	? I Hardly Know Her!</h3>More info: <a href="https://www.golnetwork.com/gam
	e/v/56587/">#153</a>\n\n</BODY>\n</HTML>
STATUS:CONFIRMED
CLASS:PUBLIC
URL:https://www.golnetwork.com/game/v/56587/
X-MICROSOFT-CDO-BUSYSTATUS:BUSY
X-MICROSOFT-CDO-IMPORTANCE:1
END:VEVENT
BEGIN:VEVENT
UID:g5mn2@games.golnetwork.com
LOCATION:Forbes Field
GEO:45.10662;-94.578209
CREATED:20140911T144020Z
DTSTART:20141001T000000Z
DTEND:20141001T004400Z
DTSTAMP:20260421T125552Z
SUMMARY:Spurs vs. Batman Returns
DESCRIPTION:Batman Returns vs. SpursMore info: #103
X-ALT-DESC;FMTTYPE=text/html:<!DOCTYPE HTML PUBLIC "-//W3C//DTD HTML 3.2//E
	N">\n<HTML>\n<HEAD>\n<TITLE></TITLE>\n</HEAD>\n<BODY>\n<h3>Batman Returns v
	s. Spurs</h3>More info: <a href="https://www.golnetwork.com/game/v/56539/">
	#103</a>\n\n</BODY>\n</HTML>
STATUS:CONFIRMED
CLASS:PUBLIC
URL:https://www.golnetwork.com/game/v/56539/
X-MICROSOFT-CDO-BUSYSTATUS:BUSY
X-MICROSOFT-CDO-IMPORTANCE:1
END:VEVENT
BEGIN:VEVENT
UID:g5mkh@games.golnetwork.com
LOCATION:Forbes Field
GEO:45.10662;-94.578209
CREATED:20140911T144018Z
DTSTART:20140925T020000Z
DTEND:20140925T024400Z
DTSTAMP:20260421T125552Z
SUMMARY:Spurs vs. Wasif's Warriors
DESCRIPTION:Wasif's Warriors vs. SpursMore info: #68
X-ALT-DESC;FMTTYPE=text/html:<!DOCTYPE HTML PUBLIC "-//W3C//DTD HTML 3.2//E
	N">\n<HTML>\n<HEAD>\n<TITLE></TITLE>\n</HEAD>\n<BODY>\n<h3>Wasif's Warriors
	 vs. Spurs</h3>More info: <a href="https://www.golnetwork.com/game/v/56506/
	">#68</a>\n\n</BODY>\n</HTML>
STATUS:CONFIRMED
CLASS:PUBLIC
URL:https://www.golnetwork.com/game/v/56506/
X-MICROSOFT-CDO-BUSYSTATUS:BUSY
X-MICROSOFT-CDO-IMPORTANCE:1
END:VEVENT
BEGIN:VEVENT
UID:g5mh8@games.golnetwork.com
LOCATION:Forbes Field
GEO:45.10662;-94.578209
CREATED:20140911T144016Z
DTSTART:20140917T000000Z
DTEND:20140917T004400Z
DTSTAMP:20260421T125552Z
SUMMARY:Spurs vs. Special Olympiakos
DESCRIPTION:Special Olympiakos vs. SpursMore info: #23
X-ALT-DESC;FMTTYPE=text/html:<!DOCTYPE HTML PUBLIC "-//W3C//DTD HTML 3.2//E
	N">\n<HTML>\n<HEAD>\n<TITLE></TITLE>\n</HEAD>\n<BODY>\n<h3>Special Olympiak
	os vs. Spurs</h3>More info: <a href="https://www.golnetwork.com/game/v/5646
	1/">#23</a>\n\n</BODY>\n</HTML>
STATUS:CONFIRMED
CLASS:PUBLIC
URL:https://www.golnetwork.com/game/v/56461/
X-MICROSOFT-CDO-BUSYSTATUS:BUSY
X-MICROSOFT-CDO-IMPORTANCE:1
END:VEVENT
END:VCALENDAR
