BEGIN:VCALENDAR
PRODID:-//gdesolutions.com//MV Framework 1.0.0.1607 Calendar//EN
VERSION:2.0
METHOD:PUBLISH
CALSCALE:GREGORIAN
BEGIN:VEVENT
UID:g5ode@games.golnetwork.com
LOCATION:Gym 2
GEO:45.10662;-94.578209
CREATED:20140917T175026Z
DTSTART:20141112T003000Z
DTEND:20141112T013000Z
DTSTAMP:20260421T015318Z
SUMMARY:Azn Sensation vs. Channel 4 News Team
DESCRIPTION:Channel 4 News Team vs. Azn SensationMore info: #65
X-ALT-DESC;FMTTYPE=text/html:<!DOCTYPE HTML PUBLIC "-//W3C//DTD HTML 3.2//E
	N">\n<HTML>\n<HEAD>\n<TITLE></TITLE>\n</HEAD>\n<BODY>\n<h3>Channel 4 News T
	eam vs. Azn Sensation</h3>More info: <a href="https://www.golnetwork.com/ga
	me/v/57139/">#65</a>\n\n</BODY>\n</HTML>
STATUS:CONFIRMED
CLASS:PUBLIC
URL:https://www.golnetwork.com/game/v/57139/
X-MICROSOFT-CDO-BUSYSTATUS:BUSY
X-MICROSOFT-CDO-IMPORTANCE:1
END:VEVENT
BEGIN:VEVENT
UID:g5od0@games.golnetwork.com
LOCATION:Gym 2
GEO:45.10662;-94.578209
CREATED:20140917T175025Z
DTSTART:20141105T011500Z
DTEND:20141105T021500Z
DTSTAMP:20260421T015318Z
SUMMARY:Azn Sensation vs. Good Mood
DESCRIPTION:Good Mood vs. Azn SensationMore info: #58
X-ALT-DESC;FMTTYPE=text/html:<!DOCTYPE HTML PUBLIC "-//W3C//DTD HTML 3.2//E
	N">\n<HTML>\n<HEAD>\n<TITLE></TITLE>\n</HEAD>\n<BODY>\n<h3>Good Mood vs. Az
	n Sensation</h3>More info: <a href="https://www.golnetwork.com/game/v/57132
	/">#58</a>\n\n</BODY>\n</HTML>
STATUS:CONFIRMED
CLASS:PUBLIC
URL:https://www.golnetwork.com/game/v/57132/
X-MICROSOFT-CDO-BUSYSTATUS:BUSY
X-MICROSOFT-CDO-IMPORTANCE:1
END:VEVENT
BEGIN:VEVENT
UID:g5ocl@games.golnetwork.com
LOCATION:Gym 2
GEO:45.10662;-94.578209
CREATED:20140917T175025Z
DTSTART:20141105T003000Z
DTEND:20141105T013000Z
DTSTAMP:20260421T015318Z
SUMMARY:XiuMingToGuangzhou vs. Azn Sensation
DESCRIPTION:Azn Sensation vs. XiuMingToGuangzhouMore info: #55
X-ALT-DESC;FMTTYPE=text/html:<!DOCTYPE HTML PUBLIC "-//W3C//DTD HTML 3.2//E
	N">\n<HTML>\n<HEAD>\n<TITLE></TITLE>\n</HEAD>\n<BODY>\n<h3>Azn Sensation vs
	. XiuMingToGuangzhou</h3>More info: <a href="https://www.golnetwork.com/gam
	e/v/57129/">#55</a>\n\n</BODY>\n</HTML>
STATUS:CONFIRMED
CLASS:PUBLIC
URL:https://www.golnetwork.com/game/v/57129/
X-MICROSOFT-CDO-BUSYSTATUS:BUSY
X-MICROSOFT-CDO-IMPORTANCE:1
END:VEVENT
BEGIN:VEVENT
UID:g5obe@games.golnetwork.com
LOCATION:Gym 2
GEO:45.10662;-94.578209
CREATED:20140917T175025Z
DTSTART:20141015T010000Z
DTEND:20141015T020000Z
DTSTAMP:20260421T015318Z
SUMMARY:Azn Sensation vs. Bialik Bulldogs
DESCRIPTION:Bialik Bulldogs vs. Azn SensationMore info: #35
X-ALT-DESC;FMTTYPE=text/html:<!DOCTYPE HTML PUBLIC "-//W3C//DTD HTML 3.2//E
	N">\n<HTML>\n<HEAD>\n<TITLE></TITLE>\n</HEAD>\n<BODY>\n<h3>Bialik Bulldogs 
	vs. Azn Sensation</h3>More info: <a href="https://www.golnetwork.com/game/v
	/57112/">#35</a>\n\n</BODY>\n</HTML>
STATUS:CONFIRMED
CLASS:PUBLIC
URL:https://www.golnetwork.com/game/v/57112/
X-MICROSOFT-CDO-BUSYSTATUS:BUSY
X-MICROSOFT-CDO-IMPORTANCE:1
END:VEVENT
BEGIN:VEVENT
UID:g5oan@games.golnetwork.com
LOCATION:Gym 2
GEO:45.10662;-94.578209
CREATED:20140917T175024Z
DTSTART:20141008T010000Z
DTEND:20141008T020000Z
DTSTAMP:20260421T015318Z
SUMMARY:Dream Team vs. Azn Sensation
DESCRIPTION:Azn Sensation vs. Dream TeamMore info: #26
X-ALT-DESC;FMTTYPE=text/html:<!DOCTYPE HTML PUBLIC "-//W3C//DTD HTML 3.2//E
	N">\n<HTML>\n<HEAD>\n<TITLE></TITLE>\n</HEAD>\n<BODY>\n<h3>Azn Sensation vs
	. Dream Team</h3>More info: <a href="https://www.golnetwork.com/game/v/5710
	3/">#26</a>\n\n</BODY>\n</HTML>
STATUS:CONFIRMED
CLASS:PUBLIC
URL:https://www.golnetwork.com/game/v/57103/
X-MICROSOFT-CDO-BUSYSTATUS:BUSY
X-MICROSOFT-CDO-IMPORTANCE:1
END:VEVENT
BEGIN:VEVENT
UID:g5o96@games.golnetwork.com
LOCATION:Gym 2
GEO:45.10662;-94.578209
CREATED:20140917T175023Z
DTSTART:20140924T001500Z
DTEND:20140924T011500Z
DTSTAMP:20260421T015318Z
SUMMARY:Azn Sensation vs. Bialik Bulldogs
DESCRIPTION:Bialik Bulldogs vs. Azn SensationMore info: #4
X-ALT-DESC;FMTTYPE=text/html:<!DOCTYPE HTML PUBLIC "-//W3C//DTD HTML 3.2//E
	N">\n<HTML>\n<HEAD>\n<TITLE></TITLE>\n</HEAD>\n<BODY>\n<h3>Bialik Bulldogs 
	vs. Azn Sensation</h3>More info: <a href="https://www.golnetwork.com/game/v
	/57081/">#4</a>\n\n</BODY>\n</HTML>
STATUS:CONFIRMED
CLASS:PUBLIC
URL:https://www.golnetwork.com/game/v/57081/
X-MICROSOFT-CDO-BUSYSTATUS:BUSY
X-MICROSOFT-CDO-IMPORTANCE:1
END:VEVENT
BEGIN:VEVENT
UID:g5o92@games.golnetwork.com
LOCATION:Gym 2
GEO:45.10662;-94.578209
CREATED:20140917T175023Z
DTSTART:20140923T233000Z
DTEND:20140924T003000Z
DTSTAMP:20260421T015318Z
SUMMARY:Azn Sensation vs. Channel 4 News Team
DESCRIPTION:Channel 4 News Team vs. Azn SensationMore info: #2
X-ALT-DESC;FMTTYPE=text/html:<!DOCTYPE HTML PUBLIC "-//W3C//DTD HTML 3.2//E
	N">\n<HTML>\n<HEAD>\n<TITLE></TITLE>\n</HEAD>\n<BODY>\n<h3>Channel 4 News T
	eam vs. Azn Sensation</h3>More info: <a href="https://www.golnetwork.com/ga
	me/v/57079/">#2</a>\n\n</BODY>\n</HTML>
STATUS:CONFIRMED
CLASS:PUBLIC
URL:https://www.golnetwork.com/game/v/57079/
X-MICROSOFT-CDO-BUSYSTATUS:BUSY
X-MICROSOFT-CDO-IMPORTANCE:1
END:VEVENT
END:VCALENDAR
