BEGIN:VCALENDAR
PRODID:-//gdesolutions.com//MV Framework 1.0.0.1607 Calendar//EN
VERSION:2.0
METHOD:PUBLISH
CALSCALE:GREGORIAN
BEGIN:VEVENT
UID:g5og7@games.golnetwork.com
LOCATION:Fieldhouse D
GEO:45.10662;-94.578209
CREATED:20140917T182258Z
DTSTART:20141030T010000Z
DTEND:20141030T015000Z
DTSTAMP:20260420T150658Z
SUMMARY:Dodgefathers (CRB) vs. Management Undergraduate Society
DESCRIPTION:Management Undergraduate Society vs. Dodgefathers (CRB)More inf
	o: #29
X-ALT-DESC;FMTTYPE=text/html:<!DOCTYPE HTML PUBLIC "-//W3C//DTD HTML 3.2//E
	N">\n<HTML>\n<HEAD>\n<TITLE></TITLE>\n</HEAD>\n<BODY>\n<h3>Management Under
	graduate Society vs. Dodgefathers (CRB)</h3>More info: <a href="https://www
	.golnetwork.com/game/v/57176/">#29</a>\n\n</BODY>\n</HTML>
STATUS:CONFIRMED
CLASS:PUBLIC
URL:https://www.golnetwork.com/game/v/57176/
X-MICROSOFT-CDO-BUSYSTATUS:BUSY
X-MICROSOFT-CDO-IMPORTANCE:1
END:VEVENT
BEGIN:VEVENT
UID:g5ofm@games.golnetwork.com
LOCATION:Fieldhouse D
GEO:45.10662;-94.578209
CREATED:20140917T182258Z
DTSTART:20141023T010000Z
DTEND:20141023T015000Z
DTSTAMP:20260420T150658Z
SUMMARY:Dodgefathers (CRB) vs. Real Dodgefathers
DESCRIPTION:Real Dodgefathers vs. Dodgefathers (CRB)More info: #23
X-ALT-DESC;FMTTYPE=text/html:<!DOCTYPE HTML PUBLIC "-//W3C//DTD HTML 3.2//E
	N">\n<HTML>\n<HEAD>\n<TITLE></TITLE>\n</HEAD>\n<BODY>\n<h3>Real Dodgefather
	s vs. Dodgefathers (CRB)</h3>More info: <a href="https://www.golnetwork.com
	/game/v/57170/">#23</a>\n\n</BODY>\n</HTML>
STATUS:CONFIRMED
CLASS:PUBLIC
URL:https://www.golnetwork.com/game/v/57170/
X-MICROSOFT-CDO-BUSYSTATUS:BUSY
X-MICROSOFT-CDO-IMPORTANCE:1
END:VEVENT
BEGIN:VEVENT
UID:g5ofc@games.golnetwork.com
LOCATION:Fieldhouse D
GEO:45.10662;-94.578209
CREATED:20140917T182258Z
DTSTART:20141016T014500Z
DTEND:20141016T023500Z
DTSTAMP:20260420T150658Z
SUMMARY:Dodgefathers (CRB) vs. DBZ
DESCRIPTION:DBZ vs. Dodgefathers (CRB)More info: #18
X-ALT-DESC;FMTTYPE=text/html:<!DOCTYPE HTML PUBLIC "-//W3C//DTD HTML 3.2//E
	N">\n<HTML>\n<HEAD>\n<TITLE></TITLE>\n</HEAD>\n<BODY>\n<h3>DBZ vs. Dodgefat
	hers (CRB)</h3>More info: <a href="https://www.golnetwork.com/game/v/57165/
	">#18</a>\n\n</BODY>\n</HTML>
STATUS:CONFIRMED
CLASS:PUBLIC
URL:https://www.golnetwork.com/game/v/57165/
X-MICROSOFT-CDO-BUSYSTATUS:BUSY
X-MICROSOFT-CDO-IMPORTANCE:1
END:VEVENT
BEGIN:VEVENT
UID:g5of0@games.golnetwork.com
LOCATION:Fieldhouse B
GEO:45.10662;-94.578209
CREATED:20140917T182258Z
DTSTART:20141002T014500Z
DTEND:20141002T023500Z
DTSTAMP:20260420T150658Z
SUMMARY:Eballers vs. Dodgefathers (CRB)
DESCRIPTION:Dodgefathers (CRB) vs. EballersMore info: #12
X-ALT-DESC;FMTTYPE=text/html:<!DOCTYPE HTML PUBLIC "-//W3C//DTD HTML 3.2//E
	N">\n<HTML>\n<HEAD>\n<TITLE></TITLE>\n</HEAD>\n<BODY>\n<h3>Dodgefathers (CR
	B) vs. Eballers</h3>More info: <a href="https://www.golnetwork.com/game/v/5
	7159/">#12</a>\n\n</BODY>\n</HTML>
STATUS:CONFIRMED
CLASS:PUBLIC
URL:https://www.golnetwork.com/game/v/57159/
X-MICROSOFT-CDO-BUSYSTATUS:BUSY
X-MICROSOFT-CDO-IMPORTANCE:1
END:VEVENT
BEGIN:VEVENT
UID:g5oed@games.golnetwork.com
LOCATION:Fieldhouse A
GEO:45.10662;-94.578209
CREATED:20140917T182257Z
DTSTART:20140925T014500Z
DTEND:20140925T023500Z
DTSTAMP:20260420T150658Z
SUMMARY:MC Hammers vs. Dodgefathers (CRB)
DESCRIPTION:Dodgefathers (CRB) vs. MC HammersMore info: #5
X-ALT-DESC;FMTTYPE=text/html:<!DOCTYPE HTML PUBLIC "-//W3C//DTD HTML 3.2//E
	N">\n<HTML>\n<HEAD>\n<TITLE></TITLE>\n</HEAD>\n<BODY>\n<h3>Dodgefathers (CR
	B) vs. MC Hammers</h3>More info: <a href="https://www.golnetwork.com/game/v
	/57152/">#5</a>\n\n</BODY>\n</HTML>
STATUS:CONFIRMED
CLASS:PUBLIC
URL:https://www.golnetwork.com/game/v/57152/
X-MICROSOFT-CDO-BUSYSTATUS:BUSY
X-MICROSOFT-CDO-IMPORTANCE:1
END:VEVENT
END:VCALENDAR
