BEGIN:VCALENDAR
PRODID:-//gdesolutions.com//MV Framework 1.0.0.1607 Calendar//EN
VERSION:2.0
METHOD:PUBLISH
CALSCALE:GREGORIAN
BEGIN:VEVENT
UID:g7384@games.golnetwork.com
LOCATION:Cherry Beach East 1
CREATED:20150506T223201Z
DTSTART:20150708T030000Z
DTEND:20150708T040000Z
DTSTAMP:20260425T194156Z
SUMMARY:Shut your legs or I'll meg ya vs. Kay FC
DESCRIPTION:Kay FC vs. Shut your legs or I'll meg yaMore info: #457
X-ALT-DESC;FMTTYPE=text/html:<!DOCTYPE HTML PUBLIC "-//W3C//DTD HTML 3.2//E
	N">\n<HTML>\n<HEAD>\n<TITLE></TITLE>\n</HEAD>\n<BODY>\n<h3>Kay FC vs. Shut 
	your legs or I'll meg ya</h3>More info: <a href="https://www.golnetwork.com
	/game/v/69095/">#457</a>\n\n</BODY>\n</HTML>
STATUS:CONFIRMED
CLASS:PUBLIC
URL:https://www.golnetwork.com/game/v/69095/
X-MICROSOFT-CDO-BUSYSTATUS:BUSY
X-MICROSOFT-CDO-IMPORTANCE:1
END:VEVENT
BEGIN:VEVENT
UID:g737l@games.golnetwork.com
LOCATION:Cherry Beach East 2
CREATED:20150506T223117Z
DTSTART:20150701T020000Z
DTEND:20150701T030000Z
DTSTAMP:20260425T194156Z
SUMMARY:One Team One Dream vs. Kay FC
DESCRIPTION:Kay FC vs. One Team One DreamMore info: #409
X-ALT-DESC;FMTTYPE=text/html:<!DOCTYPE HTML PUBLIC "-//W3C//DTD HTML 3.2//E
	N">\n<HTML>\n<HEAD>\n<TITLE></TITLE>\n</HEAD>\n<BODY>\n<h3>Kay FC vs. One T
	eam One Dream</h3>More info: <a href="https://www.golnetwork.com/game/v/690
	90/">#409</a>\n\n</BODY>\n</HTML>
STATUS:CONFIRMED
CLASS:PUBLIC
URL:https://www.golnetwork.com/game/v/69090/
X-MICROSOFT-CDO-BUSYSTATUS:BUSY
X-MICROSOFT-CDO-IMPORTANCE:1
END:VEVENT
BEGIN:VEVENT
UID:g737j@games.golnetwork.com
LOCATION:Cherry Beach East 1
CREATED:20150506T223055Z
DTSTART:20150624T030000Z
DTEND:20150624T040000Z
DTSTAMP:20260425T194156Z
SUMMARY:The Hooligans vs. Kay FC
DESCRIPTION:Kay FC vs. The HooligansMore info: #371
X-ALT-DESC;FMTTYPE=text/html:<!DOCTYPE HTML PUBLIC "-//W3C//DTD HTML 3.2//E
	N">\n<HTML>\n<HEAD>\n<TITLE></TITLE>\n</HEAD>\n<BODY>\n<h3>Kay FC vs. The H
	ooligans</h3>More info: <a href="https://www.golnetwork.com/game/v/69089/">
	#371</a>\n\n</BODY>\n</HTML>
STATUS:CONFIRMED
CLASS:PUBLIC
URL:https://www.golnetwork.com/game/v/69089/
X-MICROSOFT-CDO-BUSYSTATUS:BUSY
X-MICROSOFT-CDO-IMPORTANCE:1
END:VEVENT
BEGIN:VEVENT
UID:g7373@games.golnetwork.com
LOCATION:Cherry Beach East 2
CREATED:20150506T222833Z
DTSTART:20150617T010000Z
DTEND:20150617T020000Z
DTSTAMP:20260425T194156Z
SUMMARY:ID FC vs. Kay FC
DESCRIPTION:Kay FC vs. ID FCMore info: #320
X-ALT-DESC;FMTTYPE=text/html:<!DOCTYPE HTML PUBLIC "-//W3C//DTD HTML 3.2//E
	N">\n<HTML>\n<HEAD>\n<TITLE></TITLE>\n</HEAD>\n<BODY>\n<h3>Kay FC vs. ID FC
	</h3>More info: <a href="https://www.golnetwork.com/game/v/69081/">#320</a>
	\n\n</BODY>\n</HTML>
STATUS:CONFIRMED
CLASS:PUBLIC
URL:https://www.golnetwork.com/game/v/69081/
X-MICROSOFT-CDO-BUSYSTATUS:BUSY
X-MICROSOFT-CDO-IMPORTANCE:1
END:VEVENT
BEGIN:VEVENT
UID:g736o@games.golnetwork.com
LOCATION:Cherry Beach East 1
CREATED:20150506T222743Z
DTSTART:20150610T030000Z
DTEND:20150610T040000Z
DTSTAMP:20260425T194156Z
SUMMARY:Molson FC vs. Kay FC
DESCRIPTION:Kay FC vs. Molson FCMore info: #270
X-ALT-DESC;FMTTYPE=text/html:<!DOCTYPE HTML PUBLIC "-//W3C//DTD HTML 3.2//E
	N">\n<HTML>\n<HEAD>\n<TITLE></TITLE>\n</HEAD>\n<BODY>\n<h3>Kay FC vs. Molso
	n FC</h3>More info: <a href="https://www.golnetwork.com/game/v/69078/">#270
	</a>\n\n</BODY>\n</HTML>
STATUS:CONFIRMED
CLASS:PUBLIC
URL:https://www.golnetwork.com/game/v/69078/
X-MICROSOFT-CDO-BUSYSTATUS:BUSY
X-MICROSOFT-CDO-IMPORTANCE:1
END:VEVENT
BEGIN:VEVENT
UID:g736e@games.golnetwork.com
LOCATION:Cherry Beach East 2
CREATED:20150506T222612Z
DTSTART:20150603T020000Z
DTEND:20150603T030000Z
DTSTAMP:20260425T194156Z
SUMMARY:Troubadours vs. Kay FC
DESCRIPTION:Kay FC vs. TroubadoursMore info: #213
X-ALT-DESC;FMTTYPE=text/html:<!DOCTYPE HTML PUBLIC "-//W3C//DTD HTML 3.2//E
	N">\n<HTML>\n<HEAD>\n<TITLE></TITLE>\n</HEAD>\n<BODY>\n<h3>Kay FC vs. Troub
	adours</h3>More info: <a href="https://www.golnetwork.com/game/v/69073/">#2
	13</a>\n\n</BODY>\n</HTML>
STATUS:CONFIRMED
CLASS:PUBLIC
URL:https://www.golnetwork.com/game/v/69073/
X-MICROSOFT-CDO-BUSYSTATUS:BUSY
X-MICROSOFT-CDO-IMPORTANCE:1
END:VEVENT
BEGIN:VEVENT
UID:g735p@games.golnetwork.com
LOCATION:Cherry Beach East 1
CREATED:20150506T222352Z
DTSTART:20150527T010000Z
DTEND:20150527T020000Z
DTSTAMP:20260425T194156Z
SUMMARY:Gringos vs. Kay FC
DESCRIPTION:Kay FC vs. GringosMore info: #154
X-ALT-DESC;FMTTYPE=text/html:<!DOCTYPE HTML PUBLIC "-//W3C//DTD HTML 3.2//E
	N">\n<HTML>\n<HEAD>\n<TITLE></TITLE>\n</HEAD>\n<BODY>\n<h3>Kay FC vs. Gring
	os</h3>More info: <a href="https://www.golnetwork.com/game/v/69065/">#154</
	a>\n\n</BODY>\n</HTML>
STATUS:CONFIRMED
CLASS:PUBLIC
URL:https://www.golnetwork.com/game/v/69065/
X-MICROSOFT-CDO-BUSYSTATUS:BUSY
X-MICROSOFT-CDO-IMPORTANCE:1
END:VEVENT
BEGIN:VEVENT
UID:g735h@games.golnetwork.com
LOCATION:Cherry Beach East 1
CREATED:20150506T222227Z
DTSTART:20150520T020000Z
DTEND:20150520T030000Z
DTSTAMP:20260425T194156Z
SUMMARY:One Team One Dream vs. Kay FC
DESCRIPTION:Kay FC vs. One Team One DreamMore info: #117
X-ALT-DESC;FMTTYPE=text/html:<!DOCTYPE HTML PUBLIC "-//W3C//DTD HTML 3.2//E
	N">\n<HTML>\n<HEAD>\n<TITLE></TITLE>\n</HEAD>\n<BODY>\n<h3>Kay FC vs. One T
	eam One Dream</h3>More info: <a href="https://www.golnetwork.com/game/v/690
	61/">#117</a>\n\n</BODY>\n</HTML>
STATUS:CONFIRMED
CLASS:PUBLIC
URL:https://www.golnetwork.com/game/v/69061/
X-MICROSOFT-CDO-BUSYSTATUS:BUSY
X-MICROSOFT-CDO-IMPORTANCE:1
END:VEVENT
BEGIN:VEVENT
UID:g735b@games.golnetwork.com
LOCATION:Cherry Beach East 2
CREATED:20150506T222105Z
DTSTART:20150513T020000Z
DTEND:20150513T030000Z
DTSTAMP:20260425T194156Z
SUMMARY:Lakeshore FC vs. Kay FC
DESCRIPTION:Kay FC vs. Lakeshore FCMore info: #81
X-ALT-DESC;FMTTYPE=text/html:<!DOCTYPE HTML PUBLIC "-//W3C//DTD HTML 3.2//E
	N">\n<HTML>\n<HEAD>\n<TITLE></TITLE>\n</HEAD>\n<BODY>\n<h3>Kay FC vs. Lakes
	hore FC</h3>More info: <a href="https://www.golnetwork.com/game/v/69058/">#
	81</a>\n\n</BODY>\n</HTML>
STATUS:CONFIRMED
CLASS:PUBLIC
URL:https://www.golnetwork.com/game/v/69058/
X-MICROSOFT-CDO-BUSYSTATUS:BUSY
X-MICROSOFT-CDO-IMPORTANCE:1
END:VEVENT
END:VCALENDAR
