BEGIN:VCALENDAR
PRODID:-//gdesolutions.com//MV Framework 1.0.0.1607 Calendar//EN
VERSION:2.0
METHOD:PUBLISH
CALSCALE:GREGORIAN
BEGIN:VEVENT
UID:g5olg@games.golnetwork.com
LOCATION:Cherry Beach East 2
CREATED:20140917T185229Z
DTSTART:20141112T030000Z
DTEND:20141112T040000Z
DTSTAMP:20260419T174817Z
SUMMARY: Livestock All Blacks vs.  GTA United
DESCRIPTION: GTA United vs.  Livestock All BlacksMore info: #231
X-ALT-DESC;FMTTYPE=text/html:<!DOCTYPE HTML PUBLIC "-//W3C//DTD HTML 3.2//E
	N">\n<HTML>\n<HEAD>\n<TITLE></TITLE>\n</HEAD>\n<BODY>\n<h3> GTA United vs. 
	 Livestock All Blacks</h3>More info: <a href="https://www.golnetwork.com/ga
	me/v/57248/">#231</a>\n\n</BODY>\n</HTML>
STATUS:CONFIRMED
CLASS:PUBLIC
URL:https://www.golnetwork.com/game/v/57248/
X-MICROSOFT-CDO-BUSYSTATUS:BUSY
X-MICROSOFT-CDO-IMPORTANCE:1
END:VEVENT
BEGIN:VEVENT
UID:g5olc@games.golnetwork.com
LOCATION:Cherry Beach East 2
CREATED:20140917T185229Z
DTSTART:20141105T040000Z
DTEND:20141105T050000Z
DTSTAMP:20260419T174817Z
SUMMARY:Team Brazil vs.  GTA United
DESCRIPTION: GTA United vs. Team BrazilMore info: #210
X-ALT-DESC;FMTTYPE=text/html:<!DOCTYPE HTML PUBLIC "-//W3C//DTD HTML 3.2//E
	N">\n<HTML>\n<HEAD>\n<TITLE></TITLE>\n</HEAD>\n<BODY>\n<h3> GTA United vs. 
	Team Brazil</h3>More info: <a href="https://www.golnetwork.com/game/v/57246
	/">#210</a>\n\n</BODY>\n</HTML>
STATUS:CONFIRMED
CLASS:PUBLIC
URL:https://www.golnetwork.com/game/v/57246/
X-MICROSOFT-CDO-BUSYSTATUS:BUSY
X-MICROSOFT-CDO-IMPORTANCE:1
END:VEVENT
BEGIN:VEVENT
UID:g5ol8@games.golnetwork.com
LOCATION:Cherry Beach East 2
CREATED:20140917T185229Z
DTSTART:20141105T030000Z
DTEND:20141105T040000Z
DTSTAMP:20260419T174817Z
SUMMARY:Vandelay Industries vs.  GTA United
DESCRIPTION: GTA United vs. Vandelay IndustriesMore info: #205
X-ALT-DESC;FMTTYPE=text/html:<!DOCTYPE HTML PUBLIC "-//W3C//DTD HTML 3.2//E
	N">\n<HTML>\n<HEAD>\n<TITLE></TITLE>\n</HEAD>\n<BODY>\n<h3> GTA United vs. 
	Vandelay Industries</h3>More info: <a href="https://www.golnetwork.com/game
	/v/57244/">#205</a>\n\n</BODY>\n</HTML>
STATUS:CONFIRMED
CLASS:PUBLIC
URL:https://www.golnetwork.com/game/v/57244/
X-MICROSOFT-CDO-BUSYSTATUS:BUSY
X-MICROSOFT-CDO-IMPORTANCE:1
END:VEVENT
BEGIN:VEVENT
UID:g5ol2@games.golnetwork.com
LOCATION:Cherry Beach East 2
CREATED:20140917T185229Z
DTSTART:20141029T020000Z
DTEND:20141029T030000Z
DTSTAMP:20260419T174817Z
SUMMARY:More Salah'd vs.  GTA United
DESCRIPTION: GTA United vs. More Salah'dMore info: #179
X-ALT-DESC;FMTTYPE=text/html:<!DOCTYPE HTML PUBLIC "-//W3C//DTD HTML 3.2//E
	N">\n<HTML>\n<HEAD>\n<TITLE></TITLE>\n</HEAD>\n<BODY>\n<h3> GTA United vs. 
	More Salah'd</h3>More info: <a href="https://www.golnetwork.com/game/v/5724
	1/">#179</a>\n\n</BODY>\n</HTML>
STATUS:CONFIRMED
CLASS:PUBLIC
URL:https://www.golnetwork.com/game/v/57241/
X-MICROSOFT-CDO-BUSYSTATUS:BUSY
X-MICROSOFT-CDO-IMPORTANCE:1
END:VEVENT
BEGIN:VEVENT
UID:g5okl@games.golnetwork.com
LOCATION:Cherry Beach East 3
CREATED:20140917T185229Z
DTSTART:20141022T020000Z
DTEND:20141022T030000Z
DTSTAMP:20260419T174817Z
SUMMARY: Livestock All Blacks vs.  GTA United
DESCRIPTION: GTA United vs.  Livestock All BlacksMore info: #154
X-ALT-DESC;FMTTYPE=text/html:<!DOCTYPE HTML PUBLIC "-//W3C//DTD HTML 3.2//E
	N">\n<HTML>\n<HEAD>\n<TITLE></TITLE>\n</HEAD>\n<BODY>\n<h3> GTA United vs. 
	 Livestock All Blacks</h3>More info: <a href="https://www.golnetwork.com/ga
	me/v/57237/">#154</a>\n\n</BODY>\n</HTML>
STATUS:CONFIRMED
CLASS:PUBLIC
URL:https://www.golnetwork.com/game/v/57237/
X-MICROSOFT-CDO-BUSYSTATUS:BUSY
X-MICROSOFT-CDO-IMPORTANCE:1
END:VEVENT
BEGIN:VEVENT
UID:g5okb@games.golnetwork.com
LOCATION:Cherry Beach East 2
CREATED:20140917T185229Z
DTSTART:20141015T020000Z
DTEND:20141015T030000Z
DTSTAMP:20260419T174817Z
SUMMARY:SAS vs.  GTA United
DESCRIPTION: GTA United vs. SASMore info: #127
X-ALT-DESC;FMTTYPE=text/html:<!DOCTYPE HTML PUBLIC "-//W3C//DTD HTML 3.2//E
	N">\n<HTML>\n<HEAD>\n<TITLE></TITLE>\n</HEAD>\n<BODY>\n<h3> GTA United vs. 
	SAS</h3>More info: <a href="https://www.golnetwork.com/game/v/57232/">#127<
	/a>\n\n</BODY>\n</HTML>
STATUS:CONFIRMED
CLASS:PUBLIC
URL:https://www.golnetwork.com/game/v/57232/
X-MICROSOFT-CDO-BUSYSTATUS:BUSY
X-MICROSOFT-CDO-IMPORTANCE:1
END:VEVENT
BEGIN:VEVENT
UID:g5ok7@games.golnetwork.com
LOCATION:Cherry Beach East 2
CREATED:20140917T185229Z
DTSTART:20141008T030000Z
DTEND:20141008T040000Z
DTSTAMP:20260419T174817Z
SUMMARY: GTA United vs. Vandelay Industries
DESCRIPTION:Vandelay Industries vs.  GTA UnitedMore info: #104
X-ALT-DESC;FMTTYPE=text/html:<!DOCTYPE HTML PUBLIC "-//W3C//DTD HTML 3.2//E
	N">\n<HTML>\n<HEAD>\n<TITLE></TITLE>\n</HEAD>\n<BODY>\n<h3>Vandelay Industr
	ies vs.  GTA United</h3>More info: <a href="https://www.golnetwork.com/game
	/v/57230/">#104</a>\n\n</BODY>\n</HTML>
STATUS:CONFIRMED
CLASS:PUBLIC
URL:https://www.golnetwork.com/game/v/57230/
X-MICROSOFT-CDO-BUSYSTATUS:BUSY
X-MICROSOFT-CDO-IMPORTANCE:1
END:VEVENT
BEGIN:VEVENT
UID:g5ojk@games.golnetwork.com
LOCATION:Cherry Beach East 3
CREATED:20140917T185229Z
DTSTART:20141001T010000Z
DTEND:20141001T020000Z
DTSTAMP:20260419T174817Z
SUMMARY:Team Brazil vs.  GTA United
DESCRIPTION: GTA United vs. Team BrazilMore info: #71
X-ALT-DESC;FMTTYPE=text/html:<!DOCTYPE HTML PUBLIC "-//W3C//DTD HTML 3.2//E
	N">\n<HTML>\n<HEAD>\n<TITLE></TITLE>\n</HEAD>\n<BODY>\n<h3> GTA United vs. 
	Team Brazil</h3>More info: <a href="https://www.golnetwork.com/game/v/57223
	/">#71</a>\n\n</BODY>\n</HTML>
STATUS:CONFIRMED
CLASS:PUBLIC
URL:https://www.golnetwork.com/game/v/57223/
X-MICROSOFT-CDO-BUSYSTATUS:BUSY
X-MICROSOFT-CDO-IMPORTANCE:1
END:VEVENT
BEGIN:VEVENT
UID:g5ojg@games.golnetwork.com
LOCATION:Cherry Beach East 3
CREATED:20140917T185229Z
DTSTART:20140924T020000Z
DTEND:20140924T030000Z
DTSTAMP:20260419T174817Z
SUMMARY:ID FC vs.  GTA United
DESCRIPTION: GTA United vs. ID FCMore info: #47
X-ALT-DESC;FMTTYPE=text/html:<!DOCTYPE HTML PUBLIC "-//W3C//DTD HTML 3.2//E
	N">\n<HTML>\n<HEAD>\n<TITLE></TITLE>\n</HEAD>\n<BODY>\n<h3> GTA United vs. 
	ID FC</h3>More info: <a href="https://www.golnetwork.com/game/v/57221/">#47
	</a>\n\n</BODY>\n</HTML>
STATUS:CONFIRMED
CLASS:PUBLIC
URL:https://www.golnetwork.com/game/v/57221/
X-MICROSOFT-CDO-BUSYSTATUS:BUSY
X-MICROSOFT-CDO-IMPORTANCE:1
END:VEVENT
END:VCALENDAR
