BEGIN:VCALENDAR
PRODID:-//gdesolutions.com//MV Framework 1.0.0.1607 Calendar//EN
VERSION:2.0
METHOD:PUBLISH
CALSCALE:GREGORIAN
BEGIN:VEVENT
UID:g6b12@games.golnetwork.com
LOCATION:Montfort
GEO:45.440619;-75.6304143
CREATED:20141215T055741Z
DTSTART:20141218T013000Z
DTEND:20141218T022000Z
DTSTAMP:20260419T152839Z
SUMMARY:Hesham's Team vs. Green Machine
DESCRIPTION:Green Machine vs. Hesham's TeamMore info: #42
X-ALT-DESC;FMTTYPE=text/html:<!DOCTYPE HTML PUBLIC "-//W3C//DTD HTML 3.2//E
	N">\n<HTML>\n<HEAD>\n<TITLE></TITLE>\n</HEAD>\n<BODY>\n<h3>Green Machine vs
	. Hesham's Team</h3>More info: <a href="https://www.golnetwork.com/game/v/6
	2074/">#42</a>\n\n</BODY>\n</HTML>
STATUS:CONFIRMED
CLASS:PUBLIC
URL:https://www.golnetwork.com/game/v/62074/
X-MICROSOFT-CDO-BUSYSTATUS:BUSY
X-MICROSOFT-CDO-IMPORTANCE:1
END:VEVENT
BEGIN:VEVENT
UID:g6ama@games.golnetwork.com
LOCATION:Annexe Trille Des Bois
GEO:45.4395952;-75.6706817
CREATED:20141206T180651Z
DTSTART:20141211T024500Z
DTEND:20141211T033500Z
DTSTAMP:20260419T152839Z
SUMMARY:Missile-toe vs. Green Machine
DESCRIPTION:Green Machine vs. Missile-toeMore info: #39
X-ALT-DESC;FMTTYPE=text/html:<!DOCTYPE HTML PUBLIC "-//W3C//DTD HTML 3.2//E
	N">\n<HTML>\n<HEAD>\n<TITLE></TITLE>\n</HEAD>\n<BODY>\n<h3>Green Machine vs
	. Missile-toe</h3>More info: <a href="https://www.golnetwork.com/game/v/619
	97/">#39</a>\n\n</BODY>\n</HTML>
STATUS:CONFIRMED
CLASS:PUBLIC
URL:https://www.golnetwork.com/game/v/61997/
X-MICROSOFT-CDO-BUSYSTATUS:BUSY
X-MICROSOFT-CDO-IMPORTANCE:1
END:VEVENT
BEGIN:VEVENT
UID:g6am6@games.golnetwork.com
LOCATION:Annexe Trille Des Bois
GEO:45.4395952;-75.6706817
CREATED:20141206T180622Z
DTSTART:20141211T014500Z
DTEND:20141211T023500Z
DTSTAMP:20260419T152839Z
SUMMARY:Green Machine vs. Ball Busters
DESCRIPTION:Ball Busters vs. Green MachineMore info: #38
X-ALT-DESC;FMTTYPE=text/html:<!DOCTYPE HTML PUBLIC "-//W3C//DTD HTML 3.2//E
	N">\n<HTML>\n<HEAD>\n<TITLE></TITLE>\n</HEAD>\n<BODY>\n<h3>Ball Busters vs.
	 Green Machine</h3>More info: <a href="https://www.golnetwork.com/game/v/61
	995/">#38</a>\n\n</BODY>\n</HTML>
STATUS:CONFIRMED
CLASS:PUBLIC
URL:https://www.golnetwork.com/game/v/61995/
X-MICROSOFT-CDO-BUSYSTATUS:BUSY
X-MICROSOFT-CDO-IMPORTANCE:1
END:VEVENT
BEGIN:VEVENT
UID:g6a9f@games.golnetwork.com
LOCATION:Annexe Trille Des Bois
GEO:45.4395952;-75.6706817
CREATED:20141130T220237Z
DTSTART:20141204T024500Z
DTEND:20141204T033500Z
DTSTAMP:20260419T152839Z
SUMMARY:Green Machine vs. Jalapeno Hotties
DESCRIPTION:Jalapeno Hotties vs. Green MachineMore info: #34
X-ALT-DESC;FMTTYPE=text/html:<!DOCTYPE HTML PUBLIC "-//W3C//DTD HTML 3.2//E
	N">\n<HTML>\n<HEAD>\n<TITLE></TITLE>\n</HEAD>\n<BODY>\n<h3>Jalapeno Hotties
	 vs. Green Machine</h3>More info: <a href="https://www.golnetwork.com/game/
	v/61824/">#34</a>\n\n</BODY>\n</HTML>
STATUS:CONFIRMED
CLASS:PUBLIC
URL:https://www.golnetwork.com/game/v/61824/
X-MICROSOFT-CDO-BUSYSTATUS:BUSY
X-MICROSOFT-CDO-IMPORTANCE:1
END:VEVENT
BEGIN:VEVENT
UID:g6a99@games.golnetwork.com
LOCATION:Annexe Trille Des Bois
GEO:45.4395952;-75.6706817
CREATED:20141130T220135Z
DTSTART:20141204T014500Z
DTEND:20141204T023500Z
DTSTAMP:20260419T152839Z
SUMMARY:Green Machine vs. Jalapeno Hotties
DESCRIPTION:Jalapeno Hotties vs. Green MachineMore info: #33
X-ALT-DESC;FMTTYPE=text/html:<!DOCTYPE HTML PUBLIC "-//W3C//DTD HTML 3.2//E
	N">\n<HTML>\n<HEAD>\n<TITLE></TITLE>\n</HEAD>\n<BODY>\n<h3>Jalapeno Hotties
	 vs. Green Machine</h3>More info: <a href="https://www.golnetwork.com/game/
	v/61821/">#33</a>\n\n</BODY>\n</HTML>
STATUS:CONFIRMED
CLASS:PUBLIC
URL:https://www.golnetwork.com/game/v/61821/
X-MICROSOFT-CDO-BUSYSTATUS:BUSY
X-MICROSOFT-CDO-IMPORTANCE:1
END:VEVENT
END:VCALENDAR
