BEGIN:VCALENDAR
PRODID:-//gdesolutions.com//MV Framework 1.0.0.1607 Calendar//EN
VERSION:2.0
METHOD:PUBLISH
CALSCALE:GREGORIAN
BEGIN:VEVENT
UID:gac59@games.golnetwork.com
LOCATION:Lamport Stadium - Field 1
GEO:43.6390028;-79.4232104
CREATED:20170123T182908Z
DTSTART:20170408T020000Z
DTEND:20170408T025000Z
DTSTAMP:20260423T180540Z
SUMMARY: Drama Queens vs. Thunder
DESCRIPTION:Thunder vs.  Drama QueensMore info: #717
X-ALT-DESC;FMTTYPE=text/html:<!DOCTYPE HTML PUBLIC "-//W3C//DTD HTML 3.2//E
	N">\n<HTML>\n<HEAD>\n<TITLE></TITLE>\n</HEAD>\n<BODY>\n<h3>Thunder vs.  Dra
	ma Queens</h3>More info: <a href="https://www.golnetwork.com/game/v/101862/
	">#717</a>\n\n</BODY>\n</HTML>
STATUS:CONFIRMED
CLASS:PUBLIC
URL:https://www.golnetwork.com/game/v/101862/
X-MICROSOFT-CDO-BUSYSTATUS:BUSY
X-MICROSOFT-CDO-IMPORTANCE:1
END:VEVENT
BEGIN:VEVENT
UID:gac53@games.golnetwork.com
LOCATION:Lamport Stadium - Field 1
GEO:43.6390028;-79.4232104
CREATED:20170123T182630Z
DTSTART:20170331T230000Z
DTEND:20170331T235000Z
DTSTAMP:20260423T180540Z
SUMMARY:Bugatti Baby Bottle Poppers vs.  Drama Queens
DESCRIPTION: Drama Queens vs. Bugatti Baby Bottle PoppersMore info: #681
X-ALT-DESC;FMTTYPE=text/html:<!DOCTYPE HTML PUBLIC "-//W3C//DTD HTML 3.2//E
	N">\n<HTML>\n<HEAD>\n<TITLE></TITLE>\n</HEAD>\n<BODY>\n<h3> Drama Queens vs
	. Bugatti Baby Bottle Poppers</h3>More info: <a href="https://www.golnetwor
	k.com/game/v/101859/">#681</a>\n\n</BODY>\n</HTML>
STATUS:CONFIRMED
CLASS:PUBLIC
URL:https://www.golnetwork.com/game/v/101859/
X-MICROSOFT-CDO-BUSYSTATUS:BUSY
X-MICROSOFT-CDO-IMPORTANCE:1
END:VEVENT
BEGIN:VEVENT
UID:gacpl@games.golnetwork.com
LOCATION:Lamport Stadium - Field 1
GEO:43.6390028;-79.4232104
CREATED:20170126T201530Z
DTSTART:20170325T000000Z
DTEND:20170325T005000Z
DTSTAMP:20260423T180540Z
SUMMARY:Views from The Pitch vs.  Drama Queens
DESCRIPTION: Drama Queens vs. Views from The PitchMore info: #653
X-ALT-DESC;FMTTYPE=text/html:<!DOCTYPE HTML PUBLIC "-//W3C//DTD HTML 3.2//E
	N">\n<HTML>\n<HEAD>\n<TITLE></TITLE>\n</HEAD>\n<BODY>\n<h3> Drama Queens vs
	. Views from The Pitch</h3>More info: <a href="https://www.golnetwork.com/g
	ame/v/102138/">#653</a>\n\n</BODY>\n</HTML>
STATUS:CONFIRMED
CLASS:PUBLIC
URL:https://www.golnetwork.com/game/v/102138/
X-MICROSOFT-CDO-BUSYSTATUS:BUSY
X-MICROSOFT-CDO-IMPORTANCE:1
END:VEVENT
BEGIN:VEVENT
UID:gac4i@games.golnetwork.com
LOCATION:Lamport Stadium - Field 3
GEO:43.6390028;-79.4232104
CREATED:20170123T182355Z
DTSTART:20170318T010000Z
DTEND:20170318T015000Z
DTSTAMP:20260423T180540Z
SUMMARY:Thunder vs.  Drama Queens
DESCRIPTION: Drama Queens vs. ThunderMore info: #629
X-ALT-DESC;FMTTYPE=text/html:<!DOCTYPE HTML PUBLIC "-//W3C//DTD HTML 3.2//E
	N">\n<HTML>\n<HEAD>\n<TITLE></TITLE>\n</HEAD>\n<BODY>\n<h3> Drama Queens vs
	. Thunder</h3>More info: <a href="https://www.golnetwork.com/game/v/101853/
	">#629</a>\n\n</BODY>\n</HTML>
STATUS:CONFIRMED
CLASS:PUBLIC
URL:https://www.golnetwork.com/game/v/101853/
X-MICROSOFT-CDO-BUSYSTATUS:BUSY
X-MICROSOFT-CDO-IMPORTANCE:1
END:VEVENT
BEGIN:VEVENT
UID:gac44@games.golnetwork.com
LOCATION:Lamport Stadium - Field 1
GEO:43.6390028;-79.4232104
CREATED:20170123T182215Z
DTSTART:20170311T000000Z
DTEND:20170311T005000Z
DTSTAMP:20260423T180540Z
SUMMARY:Bugatti Baby Bottle Poppers vs.  Drama Queens
DESCRIPTION: Drama Queens vs. Bugatti Baby Bottle PoppersMore info: #589
X-ALT-DESC;FMTTYPE=text/html:<!DOCTYPE HTML PUBLIC "-//W3C//DTD HTML 3.2//E
	N">\n<HTML>\n<HEAD>\n<TITLE></TITLE>\n</HEAD>\n<BODY>\n<h3> Drama Queens vs
	. Bugatti Baby Bottle Poppers</h3>More info: <a href="https://www.golnetwor
	k.com/game/v/101846/">#589</a>\n\n</BODY>\n</HTML>
STATUS:CONFIRMED
CLASS:PUBLIC
URL:https://www.golnetwork.com/game/v/101846/
X-MICROSOFT-CDO-BUSYSTATUS:BUSY
X-MICROSOFT-CDO-IMPORTANCE:1
END:VEVENT
BEGIN:VEVENT
UID:gac40@games.golnetwork.com
LOCATION:Lamport Stadium - Field 1
GEO:43.6390028;-79.4232104
CREATED:20170123T182136Z
DTSTART:20170304T030000Z
DTEND:20170304T035000Z
DTSTAMP:20260423T180540Z
SUMMARY: Drama Queens vs. Fire Ants
DESCRIPTION:Fire Ants vs.  Drama QueensMore info: #554
X-ALT-DESC;FMTTYPE=text/html:<!DOCTYPE HTML PUBLIC "-//W3C//DTD HTML 3.2//E
	N">\n<HTML>\n<HEAD>\n<TITLE></TITLE>\n</HEAD>\n<BODY>\n<h3>Fire Ants vs.  D
	rama Queens</h3>More info: <a href="https://www.golnetwork.com/game/v/10184
	4/">#554</a>\n\n</BODY>\n</HTML>
STATUS:CONFIRMED
CLASS:PUBLIC
URL:https://www.golnetwork.com/game/v/101844/
X-MICROSOFT-CDO-BUSYSTATUS:BUSY
X-MICROSOFT-CDO-IMPORTANCE:1
END:VEVENT
BEGIN:VEVENT
UID:gac3h@games.golnetwork.com
LOCATION:Lamport Stadium - Field 1
GEO:43.6390028;-79.4232104
CREATED:20170123T182008Z
DTSTART:20170225T000000Z
DTEND:20170225T005000Z
DTSTAMP:20260423T180540Z
SUMMARY: Drama Queens vs. Olifanten FC
DESCRIPTION:Olifanten FC vs.  Drama QueensMore info: #472
X-ALT-DESC;FMTTYPE=text/html:<!DOCTYPE HTML PUBLIC "-//W3C//DTD HTML 3.2//E
	N">\n<HTML>\n<HEAD>\n<TITLE></TITLE>\n</HEAD>\n<BODY>\n<h3>Olifanten FC vs.
	  Drama Queens</h3>More info: <a href="https://www.golnetwork.com/game/v/10
	1839/">#472</a>\n\n</BODY>\n</HTML>
STATUS:CONFIRMED
CLASS:PUBLIC
URL:https://www.golnetwork.com/game/v/101839/
X-MICROSOFT-CDO-BUSYSTATUS:BUSY
X-MICROSOFT-CDO-IMPORTANCE:1
END:VEVENT
BEGIN:VEVENT
UID:gac3f@games.golnetwork.com
LOCATION:Lamport Stadium - Field 1
GEO:43.6390028;-79.4232104
CREATED:20170123T181835Z
DTSTART:20170211T040000Z
DTEND:20170211T045000Z
DTSTAMP:20260423T180540Z
SUMMARY:La Familia vs.  Drama Queens
DESCRIPTION: Drama Queens vs. La FamiliaMore info: #352
X-ALT-DESC;FMTTYPE=text/html:<!DOCTYPE HTML PUBLIC "-//W3C//DTD HTML 3.2//E
	N">\n<HTML>\n<HEAD>\n<TITLE></TITLE>\n</HEAD>\n<BODY>\n<h3> Drama Queens vs
	. La Familia</h3>More info: <a href="https://www.golnetwork.com/game/v/1018
	38/">#352</a>\n\n</BODY>\n</HTML>
STATUS:CONFIRMED
CLASS:PUBLIC
URL:https://www.golnetwork.com/game/v/101838/
X-MICROSOFT-CDO-BUSYSTATUS:BUSY
X-MICROSOFT-CDO-IMPORTANCE:1
END:VEVENT
BEGIN:VEVENT
UID:gac37@games.golnetwork.com
LOCATION:Lamport Stadium - Field 3
GEO:43.6390028;-79.4232104
CREATED:20170123T181724Z
DTSTART:20170204T020000Z
DTEND:20170204T025000Z
DTSTAMP:20260423T180540Z
SUMMARY: Drama Queens vs. All Ballz
DESCRIPTION:All Ballz vs.  Drama QueensMore info: #267
X-ALT-DESC;FMTTYPE=text/html:<!DOCTYPE HTML PUBLIC "-//W3C//DTD HTML 3.2//E
	N">\n<HTML>\n<HEAD>\n<TITLE></TITLE>\n</HEAD>\n<BODY>\n<h3>All Ballz vs.  D
	rama Queens</h3>More info: <a href="https://www.golnetwork.com/game/v/10183
	4/">#267</a>\n\n</BODY>\n</HTML>
STATUS:CONFIRMED
CLASS:PUBLIC
URL:https://www.golnetwork.com/game/v/101834/
X-MICROSOFT-CDO-BUSYSTATUS:BUSY
X-MICROSOFT-CDO-IMPORTANCE:1
END:VEVENT
BEGIN:VEVENT
UID:gac2m@games.golnetwork.com
LOCATION:Lamport Stadium - Field 2
GEO:43.6390028;-79.4232104
CREATED:20170123T181602Z
DTSTART:20170128T030000Z
DTEND:20170128T035000Z
DTSTAMP:20260423T180540Z
SUMMARY:Views from The Pitch vs.  Drama Queens
DESCRIPTION: Drama Queens vs. Views from The PitchMore info: #198
X-ALT-DESC;FMTTYPE=text/html:<!DOCTYPE HTML PUBLIC "-//W3C//DTD HTML 3.2//E
	N">\n<HTML>\n<HEAD>\n<TITLE></TITLE>\n</HEAD>\n<BODY>\n<h3> Drama Queens vs
	. Views from The Pitch</h3>More info: <a href="https://www.golnetwork.com/g
	ame/v/101828/">#198</a>\n\n</BODY>\n</HTML>
STATUS:CONFIRMED
CLASS:PUBLIC
URL:https://www.golnetwork.com/game/v/101828/
X-MICROSOFT-CDO-BUSYSTATUS:BUSY
X-MICROSOFT-CDO-IMPORTANCE:1
END:VEVENT
END:VCALENDAR
