BEGIN:VCALENDAR
PRODID:-//gdesolutions.com//MV Framework 1.0.0.1607 Calendar//EN
VERSION:2.0
METHOD:PUBLISH
CALSCALE:GREGORIAN
BEGIN:VEVENT
UID:g7074@games.golnetwork.com
LOCATION:Marianopolis #1
GEO:45.4807868;-73.610845
CREATED:20150423T201024Z
DTSTART:20150818T223000Z
DTEND:20150818T233000Z
DTSTAMP:20260421T072621Z
SUMMARY:DAB BROTHERS vs. CREAM TEAM
DESCRIPTION:CREAM TEAM vs. DAB BROTHERSMore info: #409
X-ALT-DESC;FMTTYPE=text/html:<!DOCTYPE HTML PUBLIC "-//W3C//DTD HTML 3.2//E
	N">\n<HTML>\n<HEAD>\n<TITLE></TITLE>\n</HEAD>\n<BODY>\n<h3>CREAM TEAM vs. D
	AB BROTHERS</h3>More info: <a href="https://www.golnetwork.com/game/v/67988
	/">#409</a>\n\n</BODY>\n</HTML>
STATUS:CONFIRMED
CLASS:PUBLIC
URL:https://www.golnetwork.com/game/v/67988/
X-MICROSOFT-CDO-BUSYSTATUS:BUSY
X-MICROSOFT-CDO-IMPORTANCE:1
END:VEVENT
BEGIN:VEVENT
UID:g706d@games.golnetwork.com
LOCATION:Marianopolis #1
GEO:45.4807868;-73.610845
CREATED:20150423T201024Z
DTSTART:20150811T233000Z
DTEND:20150812T003000Z
DTSTAMP:20260421T072621Z
SUMMARY:DAB BROTHERS vs. BLACK EAGLES
DESCRIPTION:BLACK EAGLES vs. DAB BROTHERSMore info: #385
X-ALT-DESC;FMTTYPE=text/html:<!DOCTYPE HTML PUBLIC "-//W3C//DTD HTML 3.2//E
	N">\n<HTML>\n<HEAD>\n<TITLE></TITLE>\n</HEAD>\n<BODY>\n<h3>BLACK EAGLES vs.
	 DAB BROTHERS</h3>More info: <a href="https://www.golnetwork.com/game/v/679
	79/">#385</a>\n\n</BODY>\n</HTML>
STATUS:CONFIRMED
CLASS:PUBLIC
URL:https://www.golnetwork.com/game/v/67979/
X-MICROSOFT-CDO-BUSYSTATUS:BUSY
X-MICROSOFT-CDO-IMPORTANCE:1
END:VEVENT
BEGIN:VEVENT
UID:g705m@games.golnetwork.com
LOCATION:Marianopolis #1
GEO:45.4807868;-73.610845
CREATED:20150423T201023Z
DTSTART:20150805T013000Z
DTEND:20150805T023000Z
DTSTAMP:20260421T072621Z
SUMMARY:DAB BROTHERS vs. SHAWN KEMP
DESCRIPTION:SHAWN KEMP vs. DAB BROTHERSMore info: #363
X-ALT-DESC;FMTTYPE=text/html:<!DOCTYPE HTML PUBLIC "-//W3C//DTD HTML 3.2//E
	N">\n<HTML>\n<HEAD>\n<TITLE></TITLE>\n</HEAD>\n<BODY>\n<h3>SHAWN KEMP vs. D
	AB BROTHERS</h3>More info: <a href="https://www.golnetwork.com/game/v/67970
	/">#363</a>\n\n</BODY>\n</HTML>
STATUS:CONFIRMED
CLASS:PUBLIC
URL:https://www.golnetwork.com/game/v/67970/
X-MICROSOFT-CDO-BUSYSTATUS:BUSY
X-MICROSOFT-CDO-IMPORTANCE:1
END:VEVENT
BEGIN:VEVENT
UID:g7054@games.golnetwork.com
LOCATION:Marianopolis #1
GEO:45.4807868;-73.610845
CREATED:20150423T201023Z
DTSTART:20150728T223000Z
DTEND:20150728T233000Z
DTSTAMP:20260421T072621Z
SUMMARY:DAB BROTHERS vs. THE ACB
DESCRIPTION:THE ACB vs. DAB BROTHERSMore info: #325
X-ALT-DESC;FMTTYPE=text/html:<!DOCTYPE HTML PUBLIC "-//W3C//DTD HTML 3.2//E
	N">\n<HTML>\n<HEAD>\n<TITLE></TITLE>\n</HEAD>\n<BODY>\n<h3>THE ACB vs. DAB 
	BROTHERS</h3>More info: <a href="https://www.golnetwork.com/game/v/67961/">
	#325</a>\n\n</BODY>\n</HTML>
STATUS:CONFIRMED
CLASS:PUBLIC
URL:https://www.golnetwork.com/game/v/67961/
X-MICROSOFT-CDO-BUSYSTATUS:BUSY
X-MICROSOFT-CDO-IMPORTANCE:1
END:VEVENT
BEGIN:VEVENT
UID:g704d@games.golnetwork.com
LOCATION:Marianopolis #1
GEO:45.4807868;-73.610845
CREATED:20150423T201023Z
DTSTART:20150721T223000Z
DTEND:20150721T233000Z
DTSTAMP:20260421T072621Z
SUMMARY:DAB BROTHERS vs. THE COALITION
DESCRIPTION:THE COALITION vs. DAB BROTHERSMore info: #297
X-ALT-DESC;FMTTYPE=text/html:<!DOCTYPE HTML PUBLIC "-//W3C//DTD HTML 3.2//E
	N">\n<HTML>\n<HEAD>\n<TITLE></TITLE>\n</HEAD>\n<BODY>\n<h3>THE COALITION vs
	. DAB BROTHERS</h3>More info: <a href="https://www.golnetwork.com/game/v/67
	952/">#297</a>\n\n</BODY>\n</HTML>
STATUS:CONFIRMED
CLASS:PUBLIC
URL:https://www.golnetwork.com/game/v/67952/
X-MICROSOFT-CDO-BUSYSTATUS:BUSY
X-MICROSOFT-CDO-IMPORTANCE:1
END:VEVENT
BEGIN:VEVENT
UID:g703m@games.golnetwork.com
LOCATION:CVM - Court #1
GEO:45.5146585;-73.5658635
CREATED:20150423T201023Z
DTSTART:20150714T233000Z
DTEND:20150715T003000Z
DTSTAMP:20260421T072621Z
SUMMARY:DAB BROTHERS vs. AMBITIOUS RHINOS
DESCRIPTION:AMBITIOUS RHINOS vs. DAB BROTHERSMore info: #268
X-ALT-DESC;FMTTYPE=text/html:<!DOCTYPE HTML PUBLIC "-//W3C//DTD HTML 3.2//E
	N">\n<HTML>\n<HEAD>\n<TITLE></TITLE>\n</HEAD>\n<BODY>\n<h3>AMBITIOUS RHINOS
	 vs. DAB BROTHERS</h3>More info: <a href="https://www.golnetwork.com/game/v
	/67943/">#268</a>\n\n</BODY>\n</HTML>
STATUS:CONFIRMED
CLASS:PUBLIC
URL:https://www.golnetwork.com/game/v/67943/
X-MICROSOFT-CDO-BUSYSTATUS:BUSY
X-MICROSOFT-CDO-IMPORTANCE:1
END:VEVENT
BEGIN:VEVENT
UID:g7034@games.golnetwork.com
LOCATION:CVM - Court #1
GEO:45.5146585;-73.5658635
CREATED:20150423T201022Z
DTSTART:20150708T003000Z
DTEND:20150708T013000Z
DTSTAMP:20260421T072621Z
SUMMARY:DAB BROTHERS vs. PIPPEN AINT EASY
DESCRIPTION:PIPPEN AINT EASY vs. DAB BROTHERSMore info: #240
X-ALT-DESC;FMTTYPE=text/html:<!DOCTYPE HTML PUBLIC "-//W3C//DTD HTML 3.2//E
	N">\n<HTML>\n<HEAD>\n<TITLE></TITLE>\n</HEAD>\n<BODY>\n<h3>PIPPEN AINT EASY
	 vs. DAB BROTHERS</h3>More info: <a href="https://www.golnetwork.com/game/v
	/67934/">#240</a>\n\n</BODY>\n</HTML>
STATUS:CONFIRMED
CLASS:PUBLIC
URL:https://www.golnetwork.com/game/v/67934/
X-MICROSOFT-CDO-BUSYSTATUS:BUSY
X-MICROSOFT-CDO-IMPORTANCE:1
END:VEVENT
BEGIN:VEVENT
UID:g702d@games.golnetwork.com
LOCATION:Marianopolis #1
GEO:45.4807868;-73.610845
CREATED:20150423T201022Z
DTSTART:20150701T003000Z
DTEND:20150701T013000Z
DTSTAMP:20260421T072621Z
SUMMARY:DAB BROTHERS vs. DADOLLE 2
DESCRIPTION:DADOLLE 2 vs. DAB BROTHERSMore info: #217
X-ALT-DESC;FMTTYPE=text/html:<!DOCTYPE HTML PUBLIC "-//W3C//DTD HTML 3.2//E
	N">\n<HTML>\n<HEAD>\n<TITLE></TITLE>\n</HEAD>\n<BODY>\n<h3>DADOLLE 2 vs. DA
	B BROTHERS</h3>More info: <a href="https://www.golnetwork.com/game/v/67925/
	">#217</a>\n\n</BODY>\n</HTML>
STATUS:CONFIRMED
CLASS:PUBLIC
URL:https://www.golnetwork.com/game/v/67925/
X-MICROSOFT-CDO-BUSYSTATUS:BUSY
X-MICROSOFT-CDO-IMPORTANCE:1
END:VEVENT
BEGIN:VEVENT
UID:g701k@games.golnetwork.com
LOCATION:CVM - Court #1
GEO:45.5146585;-73.5658635
CREATED:20150423T201022Z
DTSTART:20150624T003000Z
DTEND:20150624T013000Z
DTSTAMP:20260421T072621Z
SUMMARY:NO EZ BASKET vs. DAB BROTHERS
DESCRIPTION:DAB BROTHERS vs. NO EZ BASKETMore info: #190
X-ALT-DESC;FMTTYPE=text/html:<!DOCTYPE HTML PUBLIC "-//W3C//DTD HTML 3.2//E
	N">\n<HTML>\n<HEAD>\n<TITLE></TITLE>\n</HEAD>\n<BODY>\n<h3>DAB BROTHERS vs.
	 NO EZ BASKET</h3>More info: <a href="https://www.golnetwork.com/game/v/679
	15/">#190</a>\n\n</BODY>\n</HTML>
STATUS:CONFIRMED
CLASS:PUBLIC
URL:https://www.golnetwork.com/game/v/67915/
X-MICROSOFT-CDO-BUSYSTATUS:BUSY
X-MICROSOFT-CDO-IMPORTANCE:1
END:VEVENT
BEGIN:VEVENT
UID:g700p@games.golnetwork.com
LOCATION:CVM - Court #1
GEO:45.5146585;-73.5658635
CREATED:20150423T201022Z
DTSTART:20150617T003000Z
DTEND:20150617T013000Z
DTSTAMP:20260421T072621Z
SUMMARY:MAIN EVENTERS vs. DAB BROTHERS
DESCRIPTION:DAB BROTHERS vs. MAIN EVENTERSMore info: #160
X-ALT-DESC;FMTTYPE=text/html:<!DOCTYPE HTML PUBLIC "-//W3C//DTD HTML 3.2//E
	N">\n<HTML>\n<HEAD>\n<TITLE></TITLE>\n</HEAD>\n<BODY>\n<h3>DAB BROTHERS vs.
	 MAIN EVENTERS</h3>More info: <a href="https://www.golnetwork.com/game/v/67
	904/">#160</a>\n\n</BODY>\n</HTML>
STATUS:CONFIRMED
CLASS:PUBLIC
URL:https://www.golnetwork.com/game/v/67904/
X-MICROSOFT-CDO-BUSYSTATUS:BUSY
X-MICROSOFT-CDO-IMPORTANCE:1
END:VEVENT
BEGIN:VEVENT
UID:g7003@games.golnetwork.com
LOCATION:Marianopolis #1
GEO:45.4807868;-73.610845
CREATED:20150423T201021Z
DTSTART:20150610T013000Z
DTEND:20150610T023000Z
DTSTAMP:20260421T072621Z
SUMMARY:SHOWTIME vs. DAB BROTHERS
DESCRIPTION:DAB BROTHERS vs. SHOWTIMEMore info: #136
X-ALT-DESC;FMTTYPE=text/html:<!DOCTYPE HTML PUBLIC "-//W3C//DTD HTML 3.2//E
	N">\n<HTML>\n<HEAD>\n<TITLE></TITLE>\n</HEAD>\n<BODY>\n<h3>DAB BROTHERS vs.
	 SHOWTIME</h3>More info: <a href="https://www.golnetwork.com/game/v/67893/"
	>#136</a>\n\n</BODY>\n</HTML>
STATUS:CONFIRMED
CLASS:PUBLIC
URL:https://www.golnetwork.com/game/v/67893/
X-MICROSOFT-CDO-BUSYSTATUS:BUSY
X-MICROSOFT-CDO-IMPORTANCE:1
END:VEVENT
BEGIN:VEVENT
UID:g6qq8@games.golnetwork.com
LOCATION:CVM - Court #1
GEO:45.5146585;-73.5658635
CREATED:20150423T201021Z
DTSTART:20150603T003000Z
DTEND:20150603T013000Z
DTSTAMP:20260421T072621Z
SUMMARY:WOLF vs. DAB BROTHERS
DESCRIPTION:DAB BROTHERS vs. WOLFMore info: #104
X-ALT-DESC;FMTTYPE=text/html:<!DOCTYPE HTML PUBLIC "-//W3C//DTD HTML 3.2//E
	N">\n<HTML>\n<HEAD>\n<TITLE></TITLE>\n</HEAD>\n<BODY>\n<h3>DAB BROTHERS vs.
	 WOLF</h3>More info: <a href="https://www.golnetwork.com/game/v/67882/">#10
	4</a>\n\n</BODY>\n</HTML>
STATUS:CONFIRMED
CLASS:PUBLIC
URL:https://www.golnetwork.com/game/v/67882/
X-MICROSOFT-CDO-BUSYSTATUS:BUSY
X-MICROSOFT-CDO-IMPORTANCE:1
END:VEVENT
BEGIN:VEVENT
UID:g6qpd@games.golnetwork.com
LOCATION:CVM - Court #1
GEO:45.5146585;-73.5658635
CREATED:20150423T201021Z
DTSTART:20150527T233000Z
DTEND:20150528T003000Z
DTSTAMP:20260421T072621Z
SUMMARY:NIPHAKIS vs. DAB BROTHERS
DESCRIPTION:DAB BROTHERS vs. NIPHAKISMore info: #81
X-ALT-DESC;FMTTYPE=text/html:<!DOCTYPE HTML PUBLIC "-//W3C//DTD HTML 3.2//E
	N">\n<HTML>\n<HEAD>\n<TITLE></TITLE>\n</HEAD>\n<BODY>\n<h3>DAB BROTHERS vs.
	 NIPHAKIS</h3>More info: <a href="https://www.golnetwork.com/game/v/67871/"
	>#81</a>\n\n</BODY>\n</HTML>
STATUS:CONFIRMED
CLASS:PUBLIC
URL:https://www.golnetwork.com/game/v/67871/
X-MICROSOFT-CDO-BUSYSTATUS:BUSY
X-MICROSOFT-CDO-IMPORTANCE:1
END:VEVENT
BEGIN:VEVENT
UID:g6qnn@games.golnetwork.com
LOCATION:CVM - Court #1
GEO:45.5146585;-73.5658635
CREATED:20150423T201020Z
DTSTART:20150512T003000Z
DTEND:20150512T013000Z
DTSTAMP:20260421T072621Z
SUMMARY:PUMP + DUNK vs. DAB BROTHERS
DESCRIPTION:DAB BROTHERS vs. PUMP + DUNKMore info: #30
X-ALT-DESC;FMTTYPE=text/html:<!DOCTYPE HTML PUBLIC "-//W3C//DTD HTML 3.2//E
	N">\n<HTML>\n<HEAD>\n<TITLE></TITLE>\n</HEAD>\n<BODY>\n<h3>DAB BROTHERS vs.
	 PUMP + DUNK</h3>More info: <a href="https://www.golnetwork.com/game/v/6784
	9/">#30</a>\n\n</BODY>\n</HTML>
STATUS:CONFIRMED
CLASS:PUBLIC
URL:https://www.golnetwork.com/game/v/67849/
X-MICROSOFT-CDO-BUSYSTATUS:BUSY
X-MICROSOFT-CDO-IMPORTANCE:1
END:VEVENT
BEGIN:VEVENT
UID:g6qoi@games.golnetwork.com
LOCATION:CVM - Court #1
GEO:45.5146585;-73.5658635
CREATED:20150423T201020Z
DTSTART:20150506T003000Z
DTEND:20150506T013000Z
DTSTAMP:20260421T072621Z
SUMMARY:NOTHING BUT NETS vs. DAB BROTHERS
DESCRIPTION:DAB BROTHERS vs. NOTHING BUT NETSMore info: #10
X-ALT-DESC;FMTTYPE=text/html:<!DOCTYPE HTML PUBLIC "-//W3C//DTD HTML 3.2//E
	N">\n<HTML>\n<HEAD>\n<TITLE></TITLE>\n</HEAD>\n<BODY>\n<h3>DAB BROTHERS vs.
	 NOTHING BUT NETS</h3>More info: <a href="https://www.golnetwork.com/game/v
	/67860/">#10</a>\n\n</BODY>\n</HTML>
STATUS:CONFIRMED
CLASS:PUBLIC
URL:https://www.golnetwork.com/game/v/67860/
X-MICROSOFT-CDO-BUSYSTATUS:BUSY
X-MICROSOFT-CDO-IMPORTANCE:1
END:VEVENT
BEGIN:VEVENT
UID:g6qn1@games.golnetwork.com
LOCATION:CVM - Court #1
GEO:45.5146585;-73.5658635
CREATED:20150423T201020Z
DTSTART:20150505T003000Z
DTEND:20150505T013000Z
DTSTAMP:20260421T072621Z
SUMMARY:PAX TOWN vs. DAB BROTHERS
DESCRIPTION:DAB BROTHERS vs. PAX TOWNMore info: #5
X-ALT-DESC;FMTTYPE=text/html:<!DOCTYPE HTML PUBLIC "-//W3C//DTD HTML 3.2//E
	N">\n<HTML>\n<HEAD>\n<TITLE></TITLE>\n</HEAD>\n<BODY>\n<h3>DAB BROTHERS vs.
	 PAX TOWN</h3>More info: <a href="https://www.golnetwork.com/game/v/67838/"
	>#5</a>\n\n</BODY>\n</HTML>
STATUS:CONFIRMED
CLASS:PUBLIC
URL:https://www.golnetwork.com/game/v/67838/
X-MICROSOFT-CDO-BUSYSTATUS:BUSY
X-MICROSOFT-CDO-IMPORTANCE:1
END:VEVENT
END:VCALENDAR
