BEGIN:VCALENDAR
PRODID:-//gdesolutions.com//MV Framework 1.0.0.1607 Calendar//EN
VERSION:2.0
METHOD:PUBLISH
CALSCALE:GREGORIAN
BEGIN:VEVENT
UID:g6qom@games.golnetwork.com
LOCATION:CVM - Court #1
GEO:45.5146585;-73.5658635
CREATED:20150423T201020Z
DTSTART:20150826T013000Z
DTEND:20150826T023000Z
DTSTAMP:20260421T175613Z
SUMMARY:NIPHAKIS vs. AFILALO
DESCRIPTION:AFILALO vs. NIPHAKISMore info: #444
X-ALT-DESC;FMTTYPE=text/html:<!DOCTYPE HTML PUBLIC "-//W3C//DTD HTML 3.2//E
	N">\n<HTML>\n<HEAD>\n<TITLE></TITLE>\n</HEAD>\n<BODY>\n<h3>AFILALO vs. NIPH
	AKIS</h3>More info: <a href="https://www.golnetwork.com/game/v/67862/">#444
	</a>\n\n</BODY>\n</HTML>
STATUS:CONFIRMED
CLASS:PUBLIC
URL:https://www.golnetwork.com/game/v/67862/
X-MICROSOFT-CDO-BUSYSTATUS:BUSY
X-MICROSOFT-CDO-IMPORTANCE:1
END:VEVENT
BEGIN:VEVENT
UID:g7070@games.golnetwork.com
LOCATION:Marianopolis #1
GEO:45.4807868;-73.610845
CREATED:20150423T201024Z
DTSTART:20150819T013000Z
DTEND:20150819T023000Z
DTSTAMP:20260421T175613Z
SUMMARY:AFILALO vs. OLD SCHOOL
DESCRIPTION:OLD SCHOOL vs. AFILALOMore info: #418
X-ALT-DESC;FMTTYPE=text/html:<!DOCTYPE HTML PUBLIC "-//W3C//DTD HTML 3.2//E
	N">\n<HTML>\n<HEAD>\n<TITLE></TITLE>\n</HEAD>\n<BODY>\n<h3>OLD SCHOOL vs. A
	FILALO</h3>More info: <a href="https://www.golnetwork.com/game/v/67986/">#4
	18</a>\n\n</BODY>\n</HTML>
STATUS:CONFIRMED
CLASS:PUBLIC
URL:https://www.golnetwork.com/game/v/67986/
X-MICROSOFT-CDO-BUSYSTATUS:BUSY
X-MICROSOFT-CDO-IMPORTANCE:1
END:VEVENT
BEGIN:VEVENT
UID:g7069@games.golnetwork.com
LOCATION:Marianopolis #1
GEO:45.4807868;-73.610845
CREATED:20150423T201024Z
DTSTART:20150812T003000Z
DTEND:20150812T013000Z
DTSTAMP:20260421T175613Z
SUMMARY:AFILALO vs. CREAM TEAM
DESCRIPTION:CREAM TEAM vs. AFILALOMore info: #386
X-ALT-DESC;FMTTYPE=text/html:<!DOCTYPE HTML PUBLIC "-//W3C//DTD HTML 3.2//E
	N">\n<HTML>\n<HEAD>\n<TITLE></TITLE>\n</HEAD>\n<BODY>\n<h3>CREAM TEAM vs. A
	FILALO</h3>More info: <a href="https://www.golnetwork.com/game/v/67977/">#3
	86</a>\n\n</BODY>\n</HTML>
STATUS:CONFIRMED
CLASS:PUBLIC
URL:https://www.golnetwork.com/game/v/67977/
X-MICROSOFT-CDO-BUSYSTATUS:BUSY
X-MICROSOFT-CDO-IMPORTANCE:1
END:VEVENT
BEGIN:VEVENT
UID:g705i@games.golnetwork.com
LOCATION:Marianopolis #1
GEO:45.4807868;-73.610845
CREATED:20150423T201023Z
DTSTART:20150805T003000Z
DTEND:20150805T013000Z
DTSTAMP:20260421T175613Z
SUMMARY:AFILALO vs. BLACK EAGLES
DESCRIPTION:BLACK EAGLES vs. AFILALOMore info: #360
X-ALT-DESC;FMTTYPE=text/html:<!DOCTYPE HTML PUBLIC "-//W3C//DTD HTML 3.2//E
	N">\n<HTML>\n<HEAD>\n<TITLE></TITLE>\n</HEAD>\n<BODY>\n<h3>BLACK EAGLES vs.
	 AFILALO</h3>More info: <a href="https://www.golnetwork.com/game/v/67968/">
	#360</a>\n\n</BODY>\n</HTML>
STATUS:CONFIRMED
CLASS:PUBLIC
URL:https://www.golnetwork.com/game/v/67968/
X-MICROSOFT-CDO-BUSYSTATUS:BUSY
X-MICROSOFT-CDO-IMPORTANCE:1
END:VEVENT
BEGIN:VEVENT
UID:g7050@games.golnetwork.com
LOCATION:Marianopolis #1
GEO:45.4807868;-73.610845
CREATED:20150423T201023Z
DTSTART:20150729T013000Z
DTEND:20150729T023000Z
DTSTAMP:20260421T175613Z
SUMMARY:AFILALO vs. SHAWN KEMP
DESCRIPTION:SHAWN KEMP vs. AFILALOMore info: #335
X-ALT-DESC;FMTTYPE=text/html:<!DOCTYPE HTML PUBLIC "-//W3C//DTD HTML 3.2//E
	N">\n<HTML>\n<HEAD>\n<TITLE></TITLE>\n</HEAD>\n<BODY>\n<h3>SHAWN KEMP vs. A
	FILALO</h3>More info: <a href="https://www.golnetwork.com/game/v/67959/">#3
	35</a>\n\n</BODY>\n</HTML>
STATUS:CONFIRMED
CLASS:PUBLIC
URL:https://www.golnetwork.com/game/v/67959/
X-MICROSOFT-CDO-BUSYSTATUS:BUSY
X-MICROSOFT-CDO-IMPORTANCE:1
END:VEVENT
BEGIN:VEVENT
UID:g7049@games.golnetwork.com
LOCATION:Marianopolis #1
GEO:45.4807868;-73.610845
CREATED:20150423T201023Z
DTSTART:20150722T013000Z
DTEND:20150722T023000Z
DTSTAMP:20260421T175613Z
SUMMARY:AFILALO vs. THE ACB
DESCRIPTION:THE ACB vs. AFILALOMore info: #307
X-ALT-DESC;FMTTYPE=text/html:<!DOCTYPE HTML PUBLIC "-//W3C//DTD HTML 3.2//E
	N">\n<HTML>\n<HEAD>\n<TITLE></TITLE>\n</HEAD>\n<BODY>\n<h3>THE ACB vs. AFIL
	ALO</h3>More info: <a href="https://www.golnetwork.com/game/v/67950/">#307<
	/a>\n\n</BODY>\n</HTML>
STATUS:CONFIRMED
CLASS:PUBLIC
URL:https://www.golnetwork.com/game/v/67950/
X-MICROSOFT-CDO-BUSYSTATUS:BUSY
X-MICROSOFT-CDO-IMPORTANCE:1
END:VEVENT
BEGIN:VEVENT
UID:g703i@games.golnetwork.com
LOCATION:Marianopolis #1
GEO:45.4807868;-73.610845
CREATED:20150423T201023Z
DTSTART:20150715T013000Z
DTEND:20150715T023000Z
DTSTAMP:20260421T175613Z
SUMMARY:AFILALO vs. THE COALITION
DESCRIPTION:THE COALITION vs. AFILALOMore info: #278
X-ALT-DESC;FMTTYPE=text/html:<!DOCTYPE HTML PUBLIC "-//W3C//DTD HTML 3.2//E
	N">\n<HTML>\n<HEAD>\n<TITLE></TITLE>\n</HEAD>\n<BODY>\n<h3>THE COALITION vs
	. AFILALO</h3>More info: <a href="https://www.golnetwork.com/game/v/67941/"
	>#278</a>\n\n</BODY>\n</HTML>
STATUS:CONFIRMED
CLASS:PUBLIC
URL:https://www.golnetwork.com/game/v/67941/
X-MICROSOFT-CDO-BUSYSTATUS:BUSY
X-MICROSOFT-CDO-IMPORTANCE:1
END:VEVENT
BEGIN:VEVENT
UID:g7030@games.golnetwork.com
LOCATION:Marianopolis #1
GEO:45.4807868;-73.610845
CREATED:20150423T201022Z
DTSTART:20150708T013000Z
DTEND:20150708T023000Z
DTSTAMP:20260421T175613Z
SUMMARY:AFILALO vs. AMBITIOUS RHINOS
DESCRIPTION:AMBITIOUS RHINOS vs. AFILALOMore info: #246
X-ALT-DESC;FMTTYPE=text/html:<!DOCTYPE HTML PUBLIC "-//W3C//DTD HTML 3.2//E
	N">\n<HTML>\n<HEAD>\n<TITLE></TITLE>\n</HEAD>\n<BODY>\n<h3>AMBITIOUS RHINOS
	 vs. AFILALO</h3>More info: <a href="https://www.golnetwork.com/game/v/6793
	2/">#246</a>\n\n</BODY>\n</HTML>
STATUS:CONFIRMED
CLASS:PUBLIC
URL:https://www.golnetwork.com/game/v/67932/
X-MICROSOFT-CDO-BUSYSTATUS:BUSY
X-MICROSOFT-CDO-IMPORTANCE:1
END:VEVENT
BEGIN:VEVENT
UID:g7029@games.golnetwork.com
LOCATION:Marianopolis #1
GEO:45.4807868;-73.610845
CREATED:20150423T201022Z
DTSTART:20150701T003000Z
DTEND:20150701T013000Z
DTSTAMP:20260421T175613Z
SUMMARY:AFILALO vs. PIPPEN AINT EASY
DESCRIPTION:PIPPEN AINT EASY vs. AFILALOMore info: #216
X-ALT-DESC;FMTTYPE=text/html:<!DOCTYPE HTML PUBLIC "-//W3C//DTD HTML 3.2//E
	N">\n<HTML>\n<HEAD>\n<TITLE></TITLE>\n</HEAD>\n<BODY>\n<h3>PIPPEN AINT EASY
	 vs. AFILALO</h3>More info: <a href="https://www.golnetwork.com/game/v/6792
	3/">#216</a>\n\n</BODY>\n</HTML>
STATUS:CONFIRMED
CLASS:PUBLIC
URL:https://www.golnetwork.com/game/v/67923/
X-MICROSOFT-CDO-BUSYSTATUS:BUSY
X-MICROSOFT-CDO-IMPORTANCE:1
END:VEVENT
BEGIN:VEVENT
UID:g701i@games.golnetwork.com
LOCATION:Marianopolis #1
GEO:45.4807868;-73.610845
CREATED:20150423T201022Z
DTSTART:20150624T003000Z
DTEND:20150624T013000Z
DTSTAMP:20260421T175613Z
SUMMARY:AFILALO vs. DADOLLE 2
DESCRIPTION:DADOLLE 2 vs. AFILALOMore info: #191
X-ALT-DESC;FMTTYPE=text/html:<!DOCTYPE HTML PUBLIC "-//W3C//DTD HTML 3.2//E
	N">\n<HTML>\n<HEAD>\n<TITLE></TITLE>\n</HEAD>\n<BODY>\n<h3>DADOLLE 2 vs. AF
	ILALO</h3>More info: <a href="https://www.golnetwork.com/game/v/67914/">#19
	1</a>\n\n</BODY>\n</HTML>
STATUS:CONFIRMED
CLASS:PUBLIC
URL:https://www.golnetwork.com/game/v/67914/
X-MICROSOFT-CDO-BUSYSTATUS:BUSY
X-MICROSOFT-CDO-IMPORTANCE:1
END:VEVENT
BEGIN:VEVENT
UID:g7010@games.golnetwork.com
LOCATION:Marianopolis #1
GEO:45.4807868;-73.610845
CREATED:20150423T201022Z
DTSTART:20150617T013000Z
DTEND:20150617T023000Z
DTSTAMP:20260421T175613Z
SUMMARY:AFILALO vs. NO EZ BASKET
DESCRIPTION:NO EZ BASKET vs. AFILALOMore info: #165
X-ALT-DESC;FMTTYPE=text/html:<!DOCTYPE HTML PUBLIC "-//W3C//DTD HTML 3.2//E
	N">\n<HTML>\n<HEAD>\n<TITLE></TITLE>\n</HEAD>\n<BODY>\n<h3>NO EZ BASKET vs.
	 AFILALO</h3>More info: <a href="https://www.golnetwork.com/game/v/67905/">
	#165</a>\n\n</BODY>\n</HTML>
STATUS:CONFIRMED
CLASS:PUBLIC
URL:https://www.golnetwork.com/game/v/67905/
X-MICROSOFT-CDO-BUSYSTATUS:BUSY
X-MICROSOFT-CDO-IMPORTANCE:1
END:VEVENT
BEGIN:VEVENT
UID:g7007@games.golnetwork.com
LOCATION:Marianopolis #1
GEO:45.4807868;-73.610845
CREATED:20150423T201021Z
DTSTART:20150610T003000Z
DTEND:20150610T013000Z
DTSTAMP:20260421T175613Z
SUMMARY:MAIN EVENTERS vs. AFILALO
DESCRIPTION:AFILALO vs. MAIN EVENTERSMore info: #133
X-ALT-DESC;FMTTYPE=text/html:<!DOCTYPE HTML PUBLIC "-//W3C//DTD HTML 3.2//E
	N">\n<HTML>\n<HEAD>\n<TITLE></TITLE>\n</HEAD>\n<BODY>\n<h3>AFILALO vs. MAIN
	 EVENTERS</h3>More info: <a href="https://www.golnetwork.com/game/v/67895/"
	>#133</a>\n\n</BODY>\n</HTML>
STATUS:CONFIRMED
CLASS:PUBLIC
URL:https://www.golnetwork.com/game/v/67895/
X-MICROSOFT-CDO-BUSYSTATUS:BUSY
X-MICROSOFT-CDO-IMPORTANCE:1
END:VEVENT
BEGIN:VEVENT
UID:g6qqc@games.golnetwork.com
LOCATION:Marianopolis #1
GEO:45.4807868;-73.610845
CREATED:20150423T201021Z
DTSTART:20150603T013000Z
DTEND:20150603T023000Z
DTSTAMP:20260421T175613Z
SUMMARY:SHOWTIME vs. AFILALO
DESCRIPTION:AFILALO vs. SHOWTIMEMore info: #110
X-ALT-DESC;FMTTYPE=text/html:<!DOCTYPE HTML PUBLIC "-//W3C//DTD HTML 3.2//E
	N">\n<HTML>\n<HEAD>\n<TITLE></TITLE>\n</HEAD>\n<BODY>\n<h3>AFILALO vs. SHOW
	TIME</h3>More info: <a href="https://www.golnetwork.com/game/v/67884/">#110
	</a>\n\n</BODY>\n</HTML>
STATUS:CONFIRMED
CLASS:PUBLIC
URL:https://www.golnetwork.com/game/v/67884/
X-MICROSOFT-CDO-BUSYSTATUS:BUSY
X-MICROSOFT-CDO-IMPORTANCE:1
END:VEVENT
BEGIN:VEVENT
UID:g6qph@games.golnetwork.com
LOCATION:CVM - Court #1
GEO:45.5146585;-73.5658635
CREATED:20150423T201021Z
DTSTART:20150527T003000Z
DTEND:20150527T013000Z
DTSTAMP:20260421T175613Z
SUMMARY:WOLF vs. AFILALO
DESCRIPTION:AFILALO vs. WOLFMore info: #76
X-ALT-DESC;FMTTYPE=text/html:<!DOCTYPE HTML PUBLIC "-//W3C//DTD HTML 3.2//E
	N">\n<HTML>\n<HEAD>\n<TITLE></TITLE>\n</HEAD>\n<BODY>\n<h3>AFILALO vs. WOLF
	</h3>More info: <a href="https://www.golnetwork.com/game/v/67873/">#76</a>\
	n\n</BODY>\n</HTML>
STATUS:CONFIRMED
CLASS:PUBLIC
URL:https://www.golnetwork.com/game/v/67873/
X-MICROSOFT-CDO-BUSYSTATUS:BUSY
X-MICROSOFT-CDO-IMPORTANCE:1
END:VEVENT
BEGIN:VEVENT
UID:g6qo0@games.golnetwork.com
LOCATION:CVM - Court #1
GEO:45.5146585;-73.5658635
CREATED:20150423T201020Z
DTSTART:20150511T233000Z
DTEND:20150512T003000Z
DTSTAMP:20260421T175613Z
SUMMARY:NOTHING BUT NETS vs. AFILALO
DESCRIPTION:AFILALO vs. NOTHING BUT NETSMore info: #28
X-ALT-DESC;FMTTYPE=text/html:<!DOCTYPE HTML PUBLIC "-//W3C//DTD HTML 3.2//E
	N">\n<HTML>\n<HEAD>\n<TITLE></TITLE>\n</HEAD>\n<BODY>\n<h3>AFILALO vs. NOTH
	ING BUT NETS</h3>More info: <a href="https://www.golnetwork.com/game/v/6785
	1/">#28</a>\n\n</BODY>\n</HTML>
STATUS:CONFIRMED
CLASS:PUBLIC
URL:https://www.golnetwork.com/game/v/67851/
X-MICROSOFT-CDO-BUSYSTATUS:BUSY
X-MICROSOFT-CDO-IMPORTANCE:1
END:VEVENT
BEGIN:VEVENT
UID:g6qn5@games.golnetwork.com
LOCATION:CVM - Court #1
GEO:45.5146585;-73.5658635
CREATED:20150423T201020Z
DTSTART:20150505T003000Z
DTEND:20150505T013000Z
DTSTAMP:20260421T175613Z
SUMMARY:PUMP + DUNK vs. AFILALO
DESCRIPTION:AFILALO vs. PUMP + DUNKMore info: #6
X-ALT-DESC;FMTTYPE=text/html:<!DOCTYPE HTML PUBLIC "-//W3C//DTD HTML 3.2//E
	N">\n<HTML>\n<HEAD>\n<TITLE></TITLE>\n</HEAD>\n<BODY>\n<h3>AFILALO vs. PUMP
	 + DUNK</h3>More info: <a href="https://www.golnetwork.com/game/v/67840/">#
	6</a>\n\n</BODY>\n</HTML>
STATUS:CONFIRMED
CLASS:PUBLIC
URL:https://www.golnetwork.com/game/v/67840/
X-MICROSOFT-CDO-BUSYSTATUS:BUSY
X-MICROSOFT-CDO-IMPORTANCE:1
END:VEVENT
END:VCALENDAR
