BEGIN:VCALENDAR
PRODID:-//gdesolutions.com//MV Framework 1.0.0.1607 Calendar//EN
VERSION:2.0
METHOD:PUBLISH
CALSCALE:GREGORIAN
BEGIN:VEVENT
UID:g707g@games.golnetwork.com
LOCATION:CVM - Court #1
GEO:45.5146585;-73.5658635
CREATED:20150423T201024Z
DTSTART:20150819T013000Z
DTEND:20150819T023000Z
DTSTAMP:20260421T052810Z
SUMMARY:PUMP + DUNK vs. THE ACB
DESCRIPTION:THE ACB vs. PUMP + DUNKMore info: #416
X-ALT-DESC;FMTTYPE=text/html:<!DOCTYPE HTML PUBLIC "-//W3C//DTD HTML 3.2//E
	N">\n<HTML>\n<HEAD>\n<TITLE></TITLE>\n</HEAD>\n<BODY>\n<h3>THE ACB vs. PUMP
	 + DUNK</h3>More info: <a href="https://www.golnetwork.com/game/v/67994/">#
	416</a>\n\n</BODY>\n</HTML>
STATUS:CONFIRMED
CLASS:PUBLIC
URL:https://www.golnetwork.com/game/v/67994/
X-MICROSOFT-CDO-BUSYSTATUS:BUSY
X-MICROSOFT-CDO-IMPORTANCE:1
END:VEVENT
BEGIN:VEVENT
UID:g706p@games.golnetwork.com
LOCATION:Marianopolis #1
GEO:45.4807868;-73.610845
CREATED:20150423T201024Z
DTSTART:20150812T003000Z
DTEND:20150812T013000Z
DTSTAMP:20260421T052810Z
SUMMARY:PUMP + DUNK vs. THE COALITION
DESCRIPTION:THE COALITION vs. PUMP + DUNKMore info: #387
X-ALT-DESC;FMTTYPE=text/html:<!DOCTYPE HTML PUBLIC "-//W3C//DTD HTML 3.2//E
	N">\n<HTML>\n<HEAD>\n<TITLE></TITLE>\n</HEAD>\n<BODY>\n<h3>THE COALITION vs
	. PUMP + DUNK</h3>More info: <a href="https://www.golnetwork.com/game/v/679
	85/">#387</a>\n\n</BODY>\n</HTML>
STATUS:CONFIRMED
CLASS:PUBLIC
URL:https://www.golnetwork.com/game/v/67985/
X-MICROSOFT-CDO-BUSYSTATUS:BUSY
X-MICROSOFT-CDO-IMPORTANCE:1
END:VEVENT
BEGIN:VEVENT
UID:g7065@games.golnetwork.com
LOCATION:Marianopolis #1
GEO:45.4807868;-73.610845
CREATED:20150423T201024Z
DTSTART:20150804T233000Z
DTEND:20150805T003000Z
DTSTAMP:20260421T052810Z
SUMMARY:AMBITIOUS RHINOS vs. PUMP + DUNK
DESCRIPTION:PUMP + DUNK vs. AMBITIOUS RHINOSMore info: #357
X-ALT-DESC;FMTTYPE=text/html:<!DOCTYPE HTML PUBLIC "-//W3C//DTD HTML 3.2//E
	N">\n<HTML>\n<HEAD>\n<TITLE></TITLE>\n</HEAD>\n<BODY>\n<h3>PUMP + DUNK vs. 
	AMBITIOUS RHINOS</h3>More info: <a href="https://www.golnetwork.com/game/v/
	67975/">#357</a>\n\n</BODY>\n</HTML>
STATUS:CONFIRMED
CLASS:PUBLIC
URL:https://www.golnetwork.com/game/v/67975/
X-MICROSOFT-CDO-BUSYSTATUS:BUSY
X-MICROSOFT-CDO-IMPORTANCE:1
END:VEVENT
BEGIN:VEVENT
UID:g705a@games.golnetwork.com
LOCATION:CVM - Court #1
GEO:45.5146585;-73.5658635
CREATED:20150423T201023Z
DTSTART:20150729T003000Z
DTEND:20150729T013000Z
DTSTAMP:20260421T052810Z
SUMMARY:PIPPEN AINT EASY vs. PUMP + DUNK
DESCRIPTION:PUMP + DUNK vs. PIPPEN AINT EASYMore info: #331
X-ALT-DESC;FMTTYPE=text/html:<!DOCTYPE HTML PUBLIC "-//W3C//DTD HTML 3.2//E
	N">\n<HTML>\n<HEAD>\n<TITLE></TITLE>\n</HEAD>\n<BODY>\n<h3>PUMP + DUNK vs. 
	PIPPEN AINT EASY</h3>More info: <a href="https://www.golnetwork.com/game/v/
	67964/">#331</a>\n\n</BODY>\n</HTML>
STATUS:CONFIRMED
CLASS:PUBLIC
URL:https://www.golnetwork.com/game/v/67964/
X-MICROSOFT-CDO-BUSYSTATUS:BUSY
X-MICROSOFT-CDO-IMPORTANCE:1
END:VEVENT
BEGIN:VEVENT
UID:g704f@games.golnetwork.com
LOCATION:CVM - Court #1
GEO:45.5146585;-73.5658635
CREATED:20150423T201023Z
DTSTART:20150721T233000Z
DTEND:20150722T003000Z
DTSTAMP:20260421T052810Z
SUMMARY:DADOLLE 2 vs. PUMP + DUNK
DESCRIPTION:PUMP + DUNK vs. DADOLLE 2More info: #299
X-ALT-DESC;FMTTYPE=text/html:<!DOCTYPE HTML PUBLIC "-//W3C//DTD HTML 3.2//E
	N">\n<HTML>\n<HEAD>\n<TITLE></TITLE>\n</HEAD>\n<BODY>\n<h3>PUMP + DUNK vs. 
	DADOLLE 2</h3>More info: <a href="https://www.golnetwork.com/game/v/67953/"
	>#299</a>\n\n</BODY>\n</HTML>
STATUS:CONFIRMED
CLASS:PUBLIC
URL:https://www.golnetwork.com/game/v/67953/
X-MICROSOFT-CDO-BUSYSTATUS:BUSY
X-MICROSOFT-CDO-IMPORTANCE:1
END:VEVENT
BEGIN:VEVENT
UID:g703k@games.golnetwork.com
LOCATION:Marianopolis #1
GEO:45.4807868;-73.610845
CREATED:20150423T201023Z
DTSTART:20150714T233000Z
DTEND:20150715T003000Z
DTSTAMP:20260421T052810Z
SUMMARY:NO EZ BASKET vs. PUMP + DUNK
DESCRIPTION:PUMP + DUNK vs. NO EZ BASKETMore info: #269
X-ALT-DESC;FMTTYPE=text/html:<!DOCTYPE HTML PUBLIC "-//W3C//DTD HTML 3.2//E
	N">\n<HTML>\n<HEAD>\n<TITLE></TITLE>\n</HEAD>\n<BODY>\n<h3>PUMP + DUNK vs. 
	NO EZ BASKET</h3>More info: <a href="https://www.golnetwork.com/game/v/6794
	2/">#269</a>\n\n</BODY>\n</HTML>
STATUS:CONFIRMED
CLASS:PUBLIC
URL:https://www.golnetwork.com/game/v/67942/
X-MICROSOFT-CDO-BUSYSTATUS:BUSY
X-MICROSOFT-CDO-IMPORTANCE:1
END:VEVENT
BEGIN:VEVENT
UID:g702p@games.golnetwork.com
LOCATION:CVM - Court #1
GEO:45.5146585;-73.5658635
CREATED:20150423T201022Z
DTSTART:20150708T013000Z
DTEND:20150708T023000Z
DTSTAMP:20260421T052810Z
SUMMARY:MAIN EVENTERS vs. PUMP + DUNK
DESCRIPTION:PUMP + DUNK vs. MAIN EVENTERSMore info: #243
X-ALT-DESC;FMTTYPE=text/html:<!DOCTYPE HTML PUBLIC "-//W3C//DTD HTML 3.2//E
	N">\n<HTML>\n<HEAD>\n<TITLE></TITLE>\n</HEAD>\n<BODY>\n<h3>PUMP + DUNK vs. 
	MAIN EVENTERS</h3>More info: <a href="https://www.golnetwork.com/game/v/679
	31/">#243</a>\n\n</BODY>\n</HTML>
STATUS:CONFIRMED
CLASS:PUBLIC
URL:https://www.golnetwork.com/game/v/67931/
X-MICROSOFT-CDO-BUSYSTATUS:BUSY
X-MICROSOFT-CDO-IMPORTANCE:1
END:VEVENT
BEGIN:VEVENT
UID:g7023@games.golnetwork.com
LOCATION:Marianopolis #1
GEO:45.4807868;-73.610845
CREATED:20150423T201022Z
DTSTART:20150701T013000Z
DTEND:20150701T023000Z
DTSTAMP:20260421T052810Z
SUMMARY:SHOWTIME vs. PUMP + DUNK
DESCRIPTION:PUMP + DUNK vs. SHOWTIMEMore info: #220
X-ALT-DESC;FMTTYPE=text/html:<!DOCTYPE HTML PUBLIC "-//W3C//DTD HTML 3.2//E
	N">\n<HTML>\n<HEAD>\n<TITLE></TITLE>\n</HEAD>\n<BODY>\n<h3>PUMP + DUNK vs. 
	SHOWTIME</h3>More info: <a href="https://www.golnetwork.com/game/v/67920/">
	#220</a>\n\n</BODY>\n</HTML>
STATUS:CONFIRMED
CLASS:PUBLIC
URL:https://www.golnetwork.com/game/v/67920/
X-MICROSOFT-CDO-BUSYSTATUS:BUSY
X-MICROSOFT-CDO-IMPORTANCE:1
END:VEVENT
BEGIN:VEVENT
UID:g7018@games.golnetwork.com
LOCATION:CVM - Court #1
GEO:45.5146585;-73.5658635
CREATED:20150423T201022Z
DTSTART:20150624T013000Z
DTEND:20150624T023000Z
DTSTAMP:20260421T052810Z
SUMMARY:WOLF vs. PUMP + DUNK
DESCRIPTION:PUMP + DUNK vs. WOLFMore info: #193
X-ALT-DESC;FMTTYPE=text/html:<!DOCTYPE HTML PUBLIC "-//W3C//DTD HTML 3.2//E
	N">\n<HTML>\n<HEAD>\n<TITLE></TITLE>\n</HEAD>\n<BODY>\n<h3>PUMP + DUNK vs. 
	WOLF</h3>More info: <a href="https://www.golnetwork.com/game/v/67909/">#193
	</a>\n\n</BODY>\n</HTML>
STATUS:CONFIRMED
CLASS:PUBLIC
URL:https://www.golnetwork.com/game/v/67909/
X-MICROSOFT-CDO-BUSYSTATUS:BUSY
X-MICROSOFT-CDO-IMPORTANCE:1
END:VEVENT
BEGIN:VEVENT
UID:g700d@games.golnetwork.com
LOCATION:CVM - Court #1
GEO:45.5146585;-73.5658635
CREATED:20150423T201021Z
DTSTART:20150617T013000Z
DTEND:20150617T023000Z
DTSTAMP:20260421T052810Z
SUMMARY:NIPHAKIS vs. PUMP + DUNK
DESCRIPTION:PUMP + DUNK vs. NIPHAKISMore info: #164
X-ALT-DESC;FMTTYPE=text/html:<!DOCTYPE HTML PUBLIC "-//W3C//DTD HTML 3.2//E
	N">\n<HTML>\n<HEAD>\n<TITLE></TITLE>\n</HEAD>\n<BODY>\n<h3>PUMP + DUNK vs. 
	NIPHAKIS</h3>More info: <a href="https://www.golnetwork.com/game/v/67898/">
	#164</a>\n\n</BODY>\n</HTML>
STATUS:CONFIRMED
CLASS:PUBLIC
URL:https://www.golnetwork.com/game/v/67898/
X-MICROSOFT-CDO-BUSYSTATUS:BUSY
X-MICROSOFT-CDO-IMPORTANCE:1
END:VEVENT
BEGIN:VEVENT
UID:g6qqi@games.golnetwork.com
LOCATION:Marianopolis #1
GEO:45.4807868;-73.610845
CREATED:20150423T201021Z
DTSTART:20150609T223000Z
DTEND:20150609T233000Z
DTSTAMP:20260421T052810Z
SUMMARY:NOTHING BUT NETS vs. PUMP + DUNK
DESCRIPTION:PUMP + DUNK vs. NOTHING BUT NETSMore info: #128
X-ALT-DESC;FMTTYPE=text/html:<!DOCTYPE HTML PUBLIC "-//W3C//DTD HTML 3.2//E
	N">\n<HTML>\n<HEAD>\n<TITLE></TITLE>\n</HEAD>\n<BODY>\n<h3>PUMP + DUNK vs. 
	NOTHING BUT NETS</h3>More info: <a href="https://www.golnetwork.com/game/v/
	67887/">#128</a>\n\n</BODY>\n</HTML>
STATUS:CONFIRMED
CLASS:PUBLIC
URL:https://www.golnetwork.com/game/v/67887/
X-MICROSOFT-CDO-BUSYSTATUS:BUSY
X-MICROSOFT-CDO-IMPORTANCE:1
END:VEVENT
BEGIN:VEVENT
UID:g6qpn@games.golnetwork.com
LOCATION:CVM - Court #1
GEO:45.5146585;-73.5658635
CREATED:20150423T201021Z
DTSTART:20150603T003000Z
DTEND:20150603T013000Z
DTSTAMP:20260421T052810Z
SUMMARY:OLD SCHOOL vs. PUMP + DUNK
DESCRIPTION:PUMP + DUNK vs. OLD SCHOOLMore info: #103
X-ALT-DESC;FMTTYPE=text/html:<!DOCTYPE HTML PUBLIC "-//W3C//DTD HTML 3.2//E
	N">\n<HTML>\n<HEAD>\n<TITLE></TITLE>\n</HEAD>\n<BODY>\n<h3>PUMP + DUNK vs. 
	OLD SCHOOL</h3>More info: <a href="https://www.golnetwork.com/game/v/67876/
	">#103</a>\n\n</BODY>\n</HTML>
STATUS:CONFIRMED
CLASS:PUBLIC
URL:https://www.golnetwork.com/game/v/67876/
X-MICROSOFT-CDO-BUSYSTATUS:BUSY
X-MICROSOFT-CDO-IMPORTANCE:1
END:VEVENT
BEGIN:VEVENT
UID:g6qp5@games.golnetwork.com
LOCATION:CVM - Court #1
GEO:45.5146585;-73.5658635
CREATED:20150423T201021Z
DTSTART:20150526T003000Z
DTEND:20150526T013000Z
DTSTAMP:20260421T052810Z
SUMMARY:PUMP + DUNK vs. PAX TOWN
DESCRIPTION:PAX TOWN vs. PUMP + DUNKMore info: #67
X-ALT-DESC;FMTTYPE=text/html:<!DOCTYPE HTML PUBLIC "-//W3C//DTD HTML 3.2//E
	N">\n<HTML>\n<HEAD>\n<TITLE></TITLE>\n</HEAD>\n<BODY>\n<h3>PAX TOWN vs. PUM
	P + DUNK</h3>More info: <a href="https://www.golnetwork.com/game/v/67867/">
	#67</a>\n\n</BODY>\n</HTML>
STATUS:CONFIRMED
CLASS:PUBLIC
URL:https://www.golnetwork.com/game/v/67867/
X-MICROSOFT-CDO-BUSYSTATUS:BUSY
X-MICROSOFT-CDO-IMPORTANCE:1
END:VEVENT
BEGIN:VEVENT
UID:g6qoe@games.golnetwork.com
LOCATION:Trafalgar
GEO:45.4987672;-73.5845067
CREATED:20150423T201020Z
DTSTART:20150519T233000Z
DTEND:20150520T003000Z
DTSTAMP:20260421T052810Z
SUMMARY:PUMP + DUNK vs. BERALL
DESCRIPTION:BERALL vs. PUMP + DUNKMore info: #52
X-ALT-DESC;FMTTYPE=text/html:<!DOCTYPE HTML PUBLIC "-//W3C//DTD HTML 3.2//E
	N">\n<HTML>\n<HEAD>\n<TITLE></TITLE>\n</HEAD>\n<BODY>\n<h3>BERALL vs. PUMP 
	+ DUNK</h3>More info: <a href="https://www.golnetwork.com/game/v/67858/">#5
	2</a>\n\n</BODY>\n</HTML>
STATUS:CONFIRMED
CLASS:PUBLIC
URL:https://www.golnetwork.com/game/v/67858/
X-MICROSOFT-CDO-BUSYSTATUS:BUSY
X-MICROSOFT-CDO-IMPORTANCE:1
END:VEVENT
BEGIN:VEVENT
UID:g6qnn@games.golnetwork.com
LOCATION:CVM - Court #1
GEO:45.5146585;-73.5658635
CREATED:20150423T201020Z
DTSTART:20150512T003000Z
DTEND:20150512T013000Z
DTSTAMP:20260421T052810Z
SUMMARY:PUMP + DUNK vs. DAB BROTHERS
DESCRIPTION:DAB BROTHERS vs. PUMP + DUNKMore info: #30
X-ALT-DESC;FMTTYPE=text/html:<!DOCTYPE HTML PUBLIC "-//W3C//DTD HTML 3.2//E
	N">\n<HTML>\n<HEAD>\n<TITLE></TITLE>\n</HEAD>\n<BODY>\n<h3>DAB BROTHERS vs.
	 PUMP + DUNK</h3>More info: <a href="https://www.golnetwork.com/game/v/6784
	9/">#30</a>\n\n</BODY>\n</HTML>
STATUS:CONFIRMED
CLASS:PUBLIC
URL:https://www.golnetwork.com/game/v/67849/
X-MICROSOFT-CDO-BUSYSTATUS:BUSY
X-MICROSOFT-CDO-IMPORTANCE:1
END:VEVENT
BEGIN:VEVENT
UID:g6qn5@games.golnetwork.com
LOCATION:CVM - Court #1
GEO:45.5146585;-73.5658635
CREATED:20150423T201020Z
DTSTART:20150505T003000Z
DTEND:20150505T013000Z
DTSTAMP:20260421T052810Z
SUMMARY:PUMP + DUNK vs. AFILALO
DESCRIPTION:AFILALO vs. PUMP + DUNKMore info: #6
X-ALT-DESC;FMTTYPE=text/html:<!DOCTYPE HTML PUBLIC "-//W3C//DTD HTML 3.2//E
	N">\n<HTML>\n<HEAD>\n<TITLE></TITLE>\n</HEAD>\n<BODY>\n<h3>AFILALO vs. PUMP
	 + DUNK</h3>More info: <a href="https://www.golnetwork.com/game/v/67840/">#
	6</a>\n\n</BODY>\n</HTML>
STATUS:CONFIRMED
CLASS:PUBLIC
URL:https://www.golnetwork.com/game/v/67840/
X-MICROSOFT-CDO-BUSYSTATUS:BUSY
X-MICROSOFT-CDO-IMPORTANCE:1
END:VEVENT
END:VCALENDAR
