BEGIN:VCALENDAR
PRODID:-//gdesolutions.com//MV Framework 1.0.0.1607 Calendar//EN
VERSION:2.0
METHOD:PUBLISH
CALSCALE:GREGORIAN
BEGIN:VEVENT
UID:g707a@games.golnetwork.com
LOCATION:CVM - Court #1
GEO:45.5146585;-73.5658635
CREATED:20150423T201024Z
DTSTART:20150818T233000Z
DTEND:20150819T003000Z
DTSTAMP:20260421T214845Z
SUMMARY:PIPPEN AINT EASY vs. WOLF
DESCRIPTION:WOLF vs. PIPPEN AINT EASYMore info: #411
X-ALT-DESC;FMTTYPE=text/html:<!DOCTYPE HTML PUBLIC "-//W3C//DTD HTML 3.2//E
	N">\n<HTML>\n<HEAD>\n<TITLE></TITLE>\n</HEAD>\n<BODY>\n<h3>WOLF vs. PIPPEN 
	AINT EASY</h3>More info: <a href="https://www.golnetwork.com/game/v/67991/"
	>#411</a>\n\n</BODY>\n</HTML>
STATUS:CONFIRMED
CLASS:PUBLIC
URL:https://www.golnetwork.com/game/v/67991/
X-MICROSOFT-CDO-BUSYSTATUS:BUSY
X-MICROSOFT-CDO-IMPORTANCE:1
END:VEVENT
BEGIN:VEVENT
UID:g706f@games.golnetwork.com
LOCATION:Marianopolis #1
GEO:45.4807868;-73.610845
CREATED:20150423T201024Z
DTSTART:20150811T233000Z
DTEND:20150812T003000Z
DTSTAMP:20260421T214845Z
SUMMARY:DADOLLE 2 vs. WOLF
DESCRIPTION:WOLF vs. DADOLLE 2More info: #384
X-ALT-DESC;FMTTYPE=text/html:<!DOCTYPE HTML PUBLIC "-//W3C//DTD HTML 3.2//E
	N">\n<HTML>\n<HEAD>\n<TITLE></TITLE>\n</HEAD>\n<BODY>\n<h3>WOLF vs. DADOLLE
	 2</h3>More info: <a href="https://www.golnetwork.com/game/v/67980/">#384</
	a>\n\n</BODY>\n</HTML>
STATUS:CONFIRMED
CLASS:PUBLIC
URL:https://www.golnetwork.com/game/v/67980/
X-MICROSOFT-CDO-BUSYSTATUS:BUSY
X-MICROSOFT-CDO-IMPORTANCE:1
END:VEVENT
BEGIN:VEVENT
UID:g705k@games.golnetwork.com
LOCATION:Marianopolis #1
GEO:45.4807868;-73.610845
CREATED:20150423T201023Z
DTSTART:20150804T223000Z
DTEND:20150804T233000Z
DTSTAMP:20260421T214845Z
SUMMARY:NO EZ BASKET vs. WOLF
DESCRIPTION:WOLF vs. NO EZ BASKETMore info: #353
X-ALT-DESC;FMTTYPE=text/html:<!DOCTYPE HTML PUBLIC "-//W3C//DTD HTML 3.2//E
	N">\n<HTML>\n<HEAD>\n<TITLE></TITLE>\n</HEAD>\n<BODY>\n<h3>WOLF vs. NO EZ B
	ASKET</h3>More info: <a href="https://www.golnetwork.com/game/v/67969/">#35
	3</a>\n\n</BODY>\n</HTML>
STATUS:CONFIRMED
CLASS:PUBLIC
URL:https://www.golnetwork.com/game/v/67969/
X-MICROSOFT-CDO-BUSYSTATUS:BUSY
X-MICROSOFT-CDO-IMPORTANCE:1
END:VEVENT
BEGIN:VEVENT
UID:g704p@games.golnetwork.com
LOCATION:CVM - Court #1
GEO:45.5146585;-73.5658635
CREATED:20150423T201023Z
DTSTART:20150729T003000Z
DTEND:20150729T013000Z
DTSTAMP:20260421T214845Z
SUMMARY:MAIN EVENTERS vs. WOLF
DESCRIPTION:WOLF vs. MAIN EVENTERSMore info: #330
X-ALT-DESC;FMTTYPE=text/html:<!DOCTYPE HTML PUBLIC "-//W3C//DTD HTML 3.2//E
	N">\n<HTML>\n<HEAD>\n<TITLE></TITLE>\n</HEAD>\n<BODY>\n<h3>WOLF vs. MAIN EV
	ENTERS</h3>More info: <a href="https://www.golnetwork.com/game/v/67958/">#3
	30</a>\n\n</BODY>\n</HTML>
STATUS:CONFIRMED
CLASS:PUBLIC
URL:https://www.golnetwork.com/game/v/67958/
X-MICROSOFT-CDO-BUSYSTATUS:BUSY
X-MICROSOFT-CDO-IMPORTANCE:1
END:VEVENT
BEGIN:VEVENT
UID:g7043@games.golnetwork.com
LOCATION:Marianopolis #1
GEO:45.4807868;-73.610845
CREATED:20150423T201023Z
DTSTART:20150722T013000Z
DTEND:20150722T023000Z
DTSTAMP:20260421T214845Z
SUMMARY:SHOWTIME vs. WOLF
DESCRIPTION:WOLF vs. SHOWTIMEMore info: #306
X-ALT-DESC;FMTTYPE=text/html:<!DOCTYPE HTML PUBLIC "-//W3C//DTD HTML 3.2//E
	N">\n<HTML>\n<HEAD>\n<TITLE></TITLE>\n</HEAD>\n<BODY>\n<h3>WOLF vs. SHOWTIM
	E</h3>More info: <a href="https://www.golnetwork.com/game/v/67947/">#306</a
	>\n\n</BODY>\n</HTML>
STATUS:CONFIRMED
CLASS:PUBLIC
URL:https://www.golnetwork.com/game/v/67947/
X-MICROSOFT-CDO-BUSYSTATUS:BUSY
X-MICROSOFT-CDO-IMPORTANCE:1
END:VEVENT
BEGIN:VEVENT
UID:g7038@games.golnetwork.com
LOCATION:CVM - Court #1
GEO:45.5146585;-73.5658635
CREATED:20150423T201022Z
DTSTART:20150715T003000Z
DTEND:20150715T013000Z
DTSTAMP:20260421T214845Z
SUMMARY:OLD SCHOOL vs. WOLF
DESCRIPTION:WOLF vs. OLD SCHOOLMore info: #272
X-ALT-DESC;FMTTYPE=text/html:<!DOCTYPE HTML PUBLIC "-//W3C//DTD HTML 3.2//E
	N">\n<HTML>\n<HEAD>\n<TITLE></TITLE>\n</HEAD>\n<BODY>\n<h3>WOLF vs. OLD SCH
	OOL</h3>More info: <a href="https://www.golnetwork.com/game/v/67936/">#272<
	/a>\n\n</BODY>\n</HTML>
STATUS:CONFIRMED
CLASS:PUBLIC
URL:https://www.golnetwork.com/game/v/67936/
X-MICROSOFT-CDO-BUSYSTATUS:BUSY
X-MICROSOFT-CDO-IMPORTANCE:1
END:VEVENT
BEGIN:VEVENT
UID:g702h@games.golnetwork.com
LOCATION:Marianopolis #1
GEO:45.4807868;-73.610845
CREATED:20150423T201022Z
DTSTART:20150708T013000Z
DTEND:20150708T023000Z
DTSTAMP:20260421T214845Z
SUMMARY:WOLF vs. NIPHAKIS
DESCRIPTION:NIPHAKIS vs. WOLFMore info: #245
X-ALT-DESC;FMTTYPE=text/html:<!DOCTYPE HTML PUBLIC "-//W3C//DTD HTML 3.2//E
	N">\n<HTML>\n<HEAD>\n<TITLE></TITLE>\n</HEAD>\n<BODY>\n<h3>NIPHAKIS vs. WOL
	F</h3>More info: <a href="https://www.golnetwork.com/game/v/67927/">#245</a
	>\n\n</BODY>\n</HTML>
STATUS:CONFIRMED
CLASS:PUBLIC
URL:https://www.golnetwork.com/game/v/67927/
X-MICROSOFT-CDO-BUSYSTATUS:BUSY
X-MICROSOFT-CDO-IMPORTANCE:1
END:VEVENT
BEGIN:VEVENT
UID:g701q@games.golnetwork.com
LOCATION:CVM - Court #1
GEO:45.5146585;-73.5658635
CREATED:20150423T201022Z
DTSTART:20150630T233000Z
DTEND:20150701T003000Z
DTSTAMP:20260421T214845Z
SUMMARY:WOLF vs. NOTHING BUT NETS
DESCRIPTION:NOTHING BUT NETS vs. WOLFMore info: #211
X-ALT-DESC;FMTTYPE=text/html:<!DOCTYPE HTML PUBLIC "-//W3C//DTD HTML 3.2//E
	N">\n<HTML>\n<HEAD>\n<TITLE></TITLE>\n</HEAD>\n<BODY>\n<h3>NOTHING BUT NETS
	 vs. WOLF</h3>More info: <a href="https://www.golnetwork.com/game/v/67918/"
	>#211</a>\n\n</BODY>\n</HTML>
STATUS:CONFIRMED
CLASS:PUBLIC
URL:https://www.golnetwork.com/game/v/67918/
X-MICROSOFT-CDO-BUSYSTATUS:BUSY
X-MICROSOFT-CDO-IMPORTANCE:1
END:VEVENT
BEGIN:VEVENT
UID:g7018@games.golnetwork.com
LOCATION:CVM - Court #1
GEO:45.5146585;-73.5658635
CREATED:20150423T201022Z
DTSTART:20150624T013000Z
DTEND:20150624T023000Z
DTSTAMP:20260421T214845Z
SUMMARY:WOLF vs. PUMP + DUNK
DESCRIPTION:PUMP + DUNK vs. WOLFMore info: #193
X-ALT-DESC;FMTTYPE=text/html:<!DOCTYPE HTML PUBLIC "-//W3C//DTD HTML 3.2//E
	N">\n<HTML>\n<HEAD>\n<TITLE></TITLE>\n</HEAD>\n<BODY>\n<h3>PUMP + DUNK vs. 
	WOLF</h3>More info: <a href="https://www.golnetwork.com/game/v/67909/">#193
	</a>\n\n</BODY>\n</HTML>
STATUS:CONFIRMED
CLASS:PUBLIC
URL:https://www.golnetwork.com/game/v/67909/
X-MICROSOFT-CDO-BUSYSTATUS:BUSY
X-MICROSOFT-CDO-IMPORTANCE:1
END:VEVENT
BEGIN:VEVENT
UID:g700h@games.golnetwork.com
LOCATION:CVM - Court #1
GEO:45.5146585;-73.5658635
CREATED:20150423T201021Z
DTSTART:20150616T233000Z
DTEND:20150617T003000Z
DTSTAMP:20260421T214845Z
SUMMARY:WOLF vs. PAX TOWN
DESCRIPTION:PAX TOWN vs. WOLFMore info: #157
X-ALT-DESC;FMTTYPE=text/html:<!DOCTYPE HTML PUBLIC "-//W3C//DTD HTML 3.2//E
	N">\n<HTML>\n<HEAD>\n<TITLE></TITLE>\n</HEAD>\n<BODY>\n<h3>PAX TOWN vs. WOL
	F</h3>More info: <a href="https://www.golnetwork.com/game/v/67900/">#157</a
	>\n\n</BODY>\n</HTML>
STATUS:CONFIRMED
CLASS:PUBLIC
URL:https://www.golnetwork.com/game/v/67900/
X-MICROSOFT-CDO-BUSYSTATUS:BUSY
X-MICROSOFT-CDO-IMPORTANCE:1
END:VEVENT
BEGIN:VEVENT
UID:g6qqq@games.golnetwork.com
LOCATION:Marianopolis #1
GEO:45.4807868;-73.610845
CREATED:20150423T201021Z
DTSTART:20150609T223000Z
DTEND:20150609T233000Z
DTSTAMP:20260421T214845Z
SUMMARY:WOLF vs. BERALL
DESCRIPTION:BERALL vs. WOLFMore info: #129
X-ALT-DESC;FMTTYPE=text/html:<!DOCTYPE HTML PUBLIC "-//W3C//DTD HTML 3.2//E
	N">\n<HTML>\n<HEAD>\n<TITLE></TITLE>\n</HEAD>\n<BODY>\n<h3>BERALL vs. WOLF<
	/h3>More info: <a href="https://www.golnetwork.com/game/v/67891/">#129</a>\
	n\n</BODY>\n</HTML>
STATUS:CONFIRMED
CLASS:PUBLIC
URL:https://www.golnetwork.com/game/v/67891/
X-MICROSOFT-CDO-BUSYSTATUS:BUSY
X-MICROSOFT-CDO-IMPORTANCE:1
END:VEVENT
BEGIN:VEVENT
UID:g6qq8@games.golnetwork.com
LOCATION:CVM - Court #1
GEO:45.5146585;-73.5658635
CREATED:20150423T201021Z
DTSTART:20150603T003000Z
DTEND:20150603T013000Z
DTSTAMP:20260421T214845Z
SUMMARY:WOLF vs. DAB BROTHERS
DESCRIPTION:DAB BROTHERS vs. WOLFMore info: #104
X-ALT-DESC;FMTTYPE=text/html:<!DOCTYPE HTML PUBLIC "-//W3C//DTD HTML 3.2//E
	N">\n<HTML>\n<HEAD>\n<TITLE></TITLE>\n</HEAD>\n<BODY>\n<h3>DAB BROTHERS vs.
	 WOLF</h3>More info: <a href="https://www.golnetwork.com/game/v/67882/">#10
	4</a>\n\n</BODY>\n</HTML>
STATUS:CONFIRMED
CLASS:PUBLIC
URL:https://www.golnetwork.com/game/v/67882/
X-MICROSOFT-CDO-BUSYSTATUS:BUSY
X-MICROSOFT-CDO-IMPORTANCE:1
END:VEVENT
BEGIN:VEVENT
UID:g6qph@games.golnetwork.com
LOCATION:CVM - Court #1
GEO:45.5146585;-73.5658635
CREATED:20150423T201021Z
DTSTART:20150527T003000Z
DTEND:20150527T013000Z
DTSTAMP:20260421T214845Z
SUMMARY:WOLF vs. AFILALO
DESCRIPTION:AFILALO vs. WOLFMore info: #76
X-ALT-DESC;FMTTYPE=text/html:<!DOCTYPE HTML PUBLIC "-//W3C//DTD HTML 3.2//E
	N">\n<HTML>\n<HEAD>\n<TITLE></TITLE>\n</HEAD>\n<BODY>\n<h3>AFILALO vs. WOLF
	</h3>More info: <a href="https://www.golnetwork.com/game/v/67873/">#76</a>\
	n\n</BODY>\n</HTML>
STATUS:CONFIRMED
CLASS:PUBLIC
URL:https://www.golnetwork.com/game/v/67873/
X-MICROSOFT-CDO-BUSYSTATUS:BUSY
X-MICROSOFT-CDO-IMPORTANCE:1
END:VEVENT
BEGIN:VEVENT
UID:g6qoq@games.golnetwork.com
LOCATION:CVM - Court #1
GEO:45.5146585;-73.5658635
CREATED:20150423T201021Z
DTSTART:20150520T013000Z
DTEND:20150520T023000Z
DTSTAMP:20260421T214845Z
SUMMARY:WOLF vs. CREAM TEAM
DESCRIPTION:CREAM TEAM vs. WOLFMore info: #55
X-ALT-DESC;FMTTYPE=text/html:<!DOCTYPE HTML PUBLIC "-//W3C//DTD HTML 3.2//E
	N">\n<HTML>\n<HEAD>\n<TITLE></TITLE>\n</HEAD>\n<BODY>\n<h3>CREAM TEAM vs. W
	OLF</h3>More info: <a href="https://www.golnetwork.com/game/v/67864/">#55</
	a>\n\n</BODY>\n</HTML>
STATUS:CONFIRMED
CLASS:PUBLIC
URL:https://www.golnetwork.com/game/v/67864/
X-MICROSOFT-CDO-BUSYSTATUS:BUSY
X-MICROSOFT-CDO-IMPORTANCE:1
END:VEVENT
BEGIN:VEVENT
UID:g6qo8@games.golnetwork.com
LOCATION:CVM - Court #1
GEO:45.5146585;-73.5658635
CREATED:20150423T201020Z
DTSTART:20150514T233000Z
DTEND:20150515T003000Z
DTSTAMP:20260421T214845Z
SUMMARY:WOLF vs. BLACK EAGLES
DESCRIPTION:BLACK EAGLES vs. WOLFMore info: #45
X-ALT-DESC;FMTTYPE=text/html:<!DOCTYPE HTML PUBLIC "-//W3C//DTD HTML 3.2//E
	N">\n<HTML>\n<HEAD>\n<TITLE></TITLE>\n</HEAD>\n<BODY>\n<h3>BLACK EAGLES vs.
	 WOLF</h3>More info: <a href="https://www.golnetwork.com/game/v/67855/">#45
	</a>\n\n</BODY>\n</HTML>
STATUS:CONFIRMED
CLASS:PUBLIC
URL:https://www.golnetwork.com/game/v/67855/
X-MICROSOFT-CDO-BUSYSTATUS:BUSY
X-MICROSOFT-CDO-IMPORTANCE:1
END:VEVENT
BEGIN:VEVENT
UID:g6qnf@games.golnetwork.com
LOCATION:CVM - Court #1
GEO:45.5146585;-73.5658635
CREATED:20150423T201020Z
DTSTART:20150505T003000Z
DTEND:20150505T013000Z
DTSTAMP:20260421T214845Z
SUMMARY:SHAWN KEMP vs. WOLF
DESCRIPTION:WOLF vs. SHAWN KEMPMore info: #4
X-ALT-DESC;FMTTYPE=text/html:<!DOCTYPE HTML PUBLIC "-//W3C//DTD HTML 3.2//E
	N">\n<HTML>\n<HEAD>\n<TITLE></TITLE>\n</HEAD>\n<BODY>\n<h3>WOLF vs. SHAWN K
	EMP</h3>More info: <a href="https://www.golnetwork.com/game/v/67845/">#4</a
	>\n\n</BODY>\n</HTML>
STATUS:CONFIRMED
CLASS:PUBLIC
URL:https://www.golnetwork.com/game/v/67845/
X-MICROSOFT-CDO-BUSYSTATUS:BUSY
X-MICROSOFT-CDO-IMPORTANCE:1
END:VEVENT
END:VCALENDAR
