BEGIN:VCALENDAR
PRODID:-//gdesolutions.com//MV Framework 1.0.0.1607 Calendar//EN
VERSION:2.0
METHOD:PUBLISH
CALSCALE:GREGORIAN
BEGIN:VEVENT
UID:g7380@games.golnetwork.com
LOCATION:Cherry Beach East 2
CREATED:20150506T223151Z
DTSTART:20150708T010000Z
DTEND:20150708T020000Z
DTSTAMP:20260419T143713Z
SUMMARY:One Team One Dream vs. ID FC
DESCRIPTION:ID FC vs. One Team One DreamMore info: #452
X-ALT-DESC;FMTTYPE=text/html:<!DOCTYPE HTML PUBLIC "-//W3C//DTD HTML 3.2//E
	N">\n<HTML>\n<HEAD>\n<TITLE></TITLE>\n</HEAD>\n<BODY>\n<h3>ID FC vs. One Te
	am One Dream</h3>More info: <a href="https://www.golnetwork.com/game/v/6909
	3/">#452</a>\n\n</BODY>\n</HTML>
STATUS:CONFIRMED
CLASS:PUBLIC
URL:https://www.golnetwork.com/game/v/69093/
X-MICROSOFT-CDO-BUSYSTATUS:BUSY
X-MICROSOFT-CDO-IMPORTANCE:1
END:VEVENT
BEGIN:VEVENT
UID:g737l@games.golnetwork.com
LOCATION:Cherry Beach East 2
CREATED:20150506T223117Z
DTSTART:20150701T020000Z
DTEND:20150701T030000Z
DTSTAMP:20260419T143713Z
SUMMARY:One Team One Dream vs. Kay FC
DESCRIPTION:Kay FC vs. One Team One DreamMore info: #409
X-ALT-DESC;FMTTYPE=text/html:<!DOCTYPE HTML PUBLIC "-//W3C//DTD HTML 3.2//E
	N">\n<HTML>\n<HEAD>\n<TITLE></TITLE>\n</HEAD>\n<BODY>\n<h3>Kay FC vs. One T
	eam One Dream</h3>More info: <a href="https://www.golnetwork.com/game/v/690
	90/">#409</a>\n\n</BODY>\n</HTML>
STATUS:CONFIRMED
CLASS:PUBLIC
URL:https://www.golnetwork.com/game/v/69090/
X-MICROSOFT-CDO-BUSYSTATUS:BUSY
X-MICROSOFT-CDO-IMPORTANCE:1
END:VEVENT
BEGIN:VEVENT
UID:g737h@games.golnetwork.com
LOCATION:Cherry Beach East 2
CREATED:20150506T223037Z
DTSTART:20150624T020000Z
DTEND:20150624T030000Z
DTSTAMP:20260419T143713Z
SUMMARY:Troubadours vs. One Team One Dream
DESCRIPTION:One Team One Dream vs. TroubadoursMore info: #369
X-ALT-DESC;FMTTYPE=text/html:<!DOCTYPE HTML PUBLIC "-//W3C//DTD HTML 3.2//E
	N">\n<HTML>\n<HEAD>\n<TITLE></TITLE>\n</HEAD>\n<BODY>\n<h3>One Team One Dre
	am vs. Troubadours</h3>More info: <a href="https://www.golnetwork.com/game/
	v/69088/">#369</a>\n\n</BODY>\n</HTML>
STATUS:CONFIRMED
CLASS:PUBLIC
URL:https://www.golnetwork.com/game/v/69088/
X-MICROSOFT-CDO-BUSYSTATUS:BUSY
X-MICROSOFT-CDO-IMPORTANCE:1
END:VEVENT
BEGIN:VEVENT
UID:g7377@games.golnetwork.com
LOCATION:Cherry Beach East 1
CREATED:20150506T222914Z
DTSTART:20150617T030000Z
DTEND:20150617T040000Z
DTSTAMP:20260419T143713Z
SUMMARY:One Team One Dream vs. Lakeshore FC
DESCRIPTION:Lakeshore FC vs. One Team One DreamMore info: #325
X-ALT-DESC;FMTTYPE=text/html:<!DOCTYPE HTML PUBLIC "-//W3C//DTD HTML 3.2//E
	N">\n<HTML>\n<HEAD>\n<TITLE></TITLE>\n</HEAD>\n<BODY>\n<h3>Lakeshore FC vs.
	 One Team One Dream</h3>More info: <a href="https://www.golnetwork.com/game
	/v/69083/">#325</a>\n\n</BODY>\n</HTML>
STATUS:CONFIRMED
CLASS:PUBLIC
URL:https://www.golnetwork.com/game/v/69083/
X-MICROSOFT-CDO-BUSYSTATUS:BUSY
X-MICROSOFT-CDO-IMPORTANCE:1
END:VEVENT
BEGIN:VEVENT
UID:g736q@games.golnetwork.com
LOCATION:Cherry Beach East 2
CREATED:20150506T222755Z
DTSTART:20150610T030000Z
DTEND:20150610T040000Z
DTSTAMP:20260419T143713Z
SUMMARY:Gringos vs. One Team One Dream
DESCRIPTION:One Team One Dream vs. GringosMore info: #271
X-ALT-DESC;FMTTYPE=text/html:<!DOCTYPE HTML PUBLIC "-//W3C//DTD HTML 3.2//E
	N">\n<HTML>\n<HEAD>\n<TITLE></TITLE>\n</HEAD>\n<BODY>\n<h3>One Team One Dre
	am vs. Gringos</h3>More info: <a href="https://www.golnetwork.com/game/v/69
	079/">#271</a>\n\n</BODY>\n</HTML>
STATUS:CONFIRMED
CLASS:PUBLIC
URL:https://www.golnetwork.com/game/v/69079/
X-MICROSOFT-CDO-BUSYSTATUS:BUSY
X-MICROSOFT-CDO-IMPORTANCE:1
END:VEVENT
BEGIN:VEVENT
UID:g736a@games.golnetwork.com
LOCATION:Cherry Beach East 2
CREATED:20150506T222540Z
DTSTART:20150603T010000Z
DTEND:20150603T020000Z
DTSTAMP:20260419T143713Z
SUMMARY:One Team One Dream vs. The Hooligans
DESCRIPTION:The Hooligans vs. One Team One DreamMore info: #210
X-ALT-DESC;FMTTYPE=text/html:<!DOCTYPE HTML PUBLIC "-//W3C//DTD HTML 3.2//E
	N">\n<HTML>\n<HEAD>\n<TITLE></TITLE>\n</HEAD>\n<BODY>\n<h3>The Hooligans vs
	. One Team One Dream</h3>More info: <a href="https://www.golnetwork.com/gam
	e/v/69071/">#210</a>\n\n</BODY>\n</HTML>
STATUS:CONFIRMED
CLASS:PUBLIC
URL:https://www.golnetwork.com/game/v/69071/
X-MICROSOFT-CDO-BUSYSTATUS:BUSY
X-MICROSOFT-CDO-IMPORTANCE:1
END:VEVENT
BEGIN:VEVENT
UID:g7360@games.golnetwork.com
LOCATION:Cherry Beach East 2
CREATED:20150506T222413Z
DTSTART:20150527T010000Z
DTEND:20150527T020000Z
DTSTAMP:20260419T143713Z
SUMMARY:One Team One Dream vs. Ball so Hard
DESCRIPTION:Ball so Hard vs. One Team One DreamMore info: #155
X-ALT-DESC;FMTTYPE=text/html:<!DOCTYPE HTML PUBLIC "-//W3C//DTD HTML 3.2//E
	N">\n<HTML>\n<HEAD>\n<TITLE></TITLE>\n</HEAD>\n<BODY>\n<h3>Ball so Hard vs.
	 One Team One Dream</h3>More info: <a href="https://www.golnetwork.com/game
	/v/69066/">#155</a>\n\n</BODY>\n</HTML>
STATUS:CONFIRMED
CLASS:PUBLIC
URL:https://www.golnetwork.com/game/v/69066/
X-MICROSOFT-CDO-BUSYSTATUS:BUSY
X-MICROSOFT-CDO-IMPORTANCE:1
END:VEVENT
BEGIN:VEVENT
UID:g735h@games.golnetwork.com
LOCATION:Cherry Beach East 1
CREATED:20150506T222227Z
DTSTART:20150520T020000Z
DTEND:20150520T030000Z
DTSTAMP:20260419T143713Z
SUMMARY:One Team One Dream vs. Kay FC
DESCRIPTION:Kay FC vs. One Team One DreamMore info: #117
X-ALT-DESC;FMTTYPE=text/html:<!DOCTYPE HTML PUBLIC "-//W3C//DTD HTML 3.2//E
	N">\n<HTML>\n<HEAD>\n<TITLE></TITLE>\n</HEAD>\n<BODY>\n<h3>Kay FC vs. One T
	eam One Dream</h3>More info: <a href="https://www.golnetwork.com/game/v/690
	61/">#117</a>\n\n</BODY>\n</HTML>
STATUS:CONFIRMED
CLASS:PUBLIC
URL:https://www.golnetwork.com/game/v/69061/
X-MICROSOFT-CDO-BUSYSTATUS:BUSY
X-MICROSOFT-CDO-IMPORTANCE:1
END:VEVENT
BEGIN:VEVENT
UID:g7359@games.golnetwork.com
LOCATION:Cherry Beach East 1
CREATED:20150506T222052Z
DTSTART:20150513T020000Z
DTEND:20150513T030000Z
DTSTAMP:20260419T143713Z
SUMMARY:One Team One Dream vs. Molson FC
DESCRIPTION:Molson FC vs. One Team One DreamMore info: #80
X-ALT-DESC;FMTTYPE=text/html:<!DOCTYPE HTML PUBLIC "-//W3C//DTD HTML 3.2//E
	N">\n<HTML>\n<HEAD>\n<TITLE></TITLE>\n</HEAD>\n<BODY>\n<h3>Molson FC vs. On
	e Team One Dream</h3>More info: <a href="https://www.golnetwork.com/game/v/
	69057/">#80</a>\n\n</BODY>\n</HTML>
STATUS:CONFIRMED
CLASS:PUBLIC
URL:https://www.golnetwork.com/game/v/69057/
X-MICROSOFT-CDO-BUSYSTATUS:BUSY
X-MICROSOFT-CDO-IMPORTANCE:1
END:VEVENT
END:VCALENDAR
