BEGIN:VCALENDAR
PRODID:-//gdesolutions.com//MV Framework 1.0.0.1607 Calendar//EN
VERSION:2.0
METHOD:PUBLISH
CALSCALE:GREGORIAN
BEGIN:VEVENT
UID:g97db@games.golnetwork.com
LOCATION:Cherry Beach East 3
CREATED:20160707T184601Z
DTSTART:20160831T020000Z
DTEND:20160831T030000Z
DTSTAMP:20260422T212956Z
SUMMARY:XTSC Stars  vs. Gringos
DESCRIPTION:Gringos vs. XTSC Stars More info: #348
X-ALT-DESC;FMTTYPE=text/html:<!DOCTYPE HTML PUBLIC "-//W3C//DTD HTML 3.2//E
	N">\n<HTML>\n<HEAD>\n<TITLE></TITLE>\n</HEAD>\n<BODY>\n<h3>Gringos vs. XTSC
	 Stars </h3>More info: <a href="https://www.golnetwork.com/game/v/90307/">#
	348</a>\n\n</BODY>\n</HTML>
STATUS:CONFIRMED
CLASS:PUBLIC
URL:https://www.golnetwork.com/game/v/90307/
X-MICROSOFT-CDO-BUSYSTATUS:BUSY
X-MICROSOFT-CDO-IMPORTANCE:1
END:VEVENT
BEGIN:VEVENT
UID:g97d7@games.golnetwork.com
LOCATION:Cherry Beach East 3
CREATED:20160707T184601Z
DTSTART:20160824T010000Z
DTEND:20160824T020000Z
DTSTAMP:20260422T212956Z
SUMMARY:Gringos vs. XTSC Warriors
DESCRIPTION:XTSC Warriors vs. GringosMore info: #266
X-ALT-DESC;FMTTYPE=text/html:<!DOCTYPE HTML PUBLIC "-//W3C//DTD HTML 3.2//E
	N">\n<HTML>\n<HEAD>\n<TITLE></TITLE>\n</HEAD>\n<BODY>\n<h3>XTSC Warriors vs
	. Gringos</h3>More info: <a href="https://www.golnetwork.com/game/v/90305/"
	>#266</a>\n\n</BODY>\n</HTML>
STATUS:CONFIRMED
CLASS:PUBLIC
URL:https://www.golnetwork.com/game/v/90305/
X-MICROSOFT-CDO-BUSYSTATUS:BUSY
X-MICROSOFT-CDO-IMPORTANCE:1
END:VEVENT
BEGIN:VEVENT
UID:g97cq@games.golnetwork.com
LOCATION:Cherry Beach East 3
CREATED:20160707T184600Z
DTSTART:20160817T030000Z
DTEND:20160817T040000Z
DTSTAMP:20260422T212956Z
SUMMARY:Gringos vs. Free Agents
DESCRIPTION:Free Agents vs. GringosMore info: #197
X-ALT-DESC;FMTTYPE=text/html:<!DOCTYPE HTML PUBLIC "-//W3C//DTD HTML 3.2//E
	N">\n<HTML>\n<HEAD>\n<TITLE></TITLE>\n</HEAD>\n<BODY>\n<h3>Free Agents vs. 
	Gringos</h3>More info: <a href="https://www.golnetwork.com/game/v/90301/">#
	197</a>\n\n</BODY>\n</HTML>
STATUS:CONFIRMED
CLASS:PUBLIC
URL:https://www.golnetwork.com/game/v/90301/
X-MICROSOFT-CDO-BUSYSTATUS:BUSY
X-MICROSOFT-CDO-IMPORTANCE:1
END:VEVENT
BEGIN:VEVENT
UID:g97ck@games.golnetwork.com
LOCATION:Cherry Beach East 3
CREATED:20160707T184600Z
DTSTART:20160810T010000Z
DTEND:20160810T020000Z
DTSTAMP:20260422T212956Z
SUMMARY:Gringos vs. XTSC Stars 
DESCRIPTION:XTSC Stars  vs. GringosMore info: #132
X-ALT-DESC;FMTTYPE=text/html:<!DOCTYPE HTML PUBLIC "-//W3C//DTD HTML 3.2//E
	N">\n<HTML>\n<HEAD>\n<TITLE></TITLE>\n</HEAD>\n<BODY>\n<h3>XTSC Stars  vs. 
	Gringos</h3>More info: <a href="https://www.golnetwork.com/game/v/90298/">#
	132</a>\n\n</BODY>\n</HTML>
STATUS:CONFIRMED
CLASS:PUBLIC
URL:https://www.golnetwork.com/game/v/90298/
X-MICROSOFT-CDO-BUSYSTATUS:BUSY
X-MICROSOFT-CDO-IMPORTANCE:1
END:VEVENT
BEGIN:VEVENT
UID:g97ce@games.golnetwork.com
LOCATION:Cherry Beach East 3
CREATED:20160707T184600Z
DTSTART:20160803T030000Z
DTEND:20160803T040000Z
DTSTAMP:20260422T212956Z
SUMMARY:Gringos vs. Blue Agave FC
DESCRIPTION:Blue Agave FC vs. GringosMore info: #92
X-ALT-DESC;FMTTYPE=text/html:<!DOCTYPE HTML PUBLIC "-//W3C//DTD HTML 3.2//E
	N">\n<HTML>\n<HEAD>\n<TITLE></TITLE>\n</HEAD>\n<BODY>\n<h3>Blue Agave FC vs
	. Gringos</h3>More info: <a href="https://www.golnetwork.com/game/v/90295/"
	>#92</a>\n\n</BODY>\n</HTML>
STATUS:CONFIRMED
CLASS:PUBLIC
URL:https://www.golnetwork.com/game/v/90295/
X-MICROSOFT-CDO-BUSYSTATUS:BUSY
X-MICROSOFT-CDO-IMPORTANCE:1
END:VEVENT
BEGIN:VEVENT
UID:g97c8@games.golnetwork.com
LOCATION:Cherry Beach East 3
CREATED:20160707T184600Z
DTSTART:20160727T030000Z
DTEND:20160727T040000Z
DTSTAMP:20260422T212956Z
SUMMARY:XTSC Warriors vs. Gringos
DESCRIPTION:Gringos vs. XTSC WarriorsMore info: #64
X-ALT-DESC;FMTTYPE=text/html:<!DOCTYPE HTML PUBLIC "-//W3C//DTD HTML 3.2//E
	N">\n<HTML>\n<HEAD>\n<TITLE></TITLE>\n</HEAD>\n<BODY>\n<h3>Gringos vs. XTSC
	 Warriors</h3>More info: <a href="https://www.golnetwork.com/game/v/90292/"
	>#64</a>\n\n</BODY>\n</HTML>
STATUS:CONFIRMED
CLASS:PUBLIC
URL:https://www.golnetwork.com/game/v/90292/
X-MICROSOFT-CDO-BUSYSTATUS:BUSY
X-MICROSOFT-CDO-IMPORTANCE:1
END:VEVENT
BEGIN:VEVENT
UID:g97c2@games.golnetwork.com
LOCATION:Cherry Beach East 3
CREATED:20160707T184600Z
DTSTART:20160720T010000Z
DTEND:20160720T020000Z
DTSTAMP:20260422T212956Z
SUMMARY:Gringos vs. Shut your legs or I'll meg ya
DESCRIPTION:Shut your legs or I'll meg ya vs. GringosMore info: #36
X-ALT-DESC;FMTTYPE=text/html:<!DOCTYPE HTML PUBLIC "-//W3C//DTD HTML 3.2//E
	N">\n<HTML>\n<HEAD>\n<TITLE></TITLE>\n</HEAD>\n<BODY>\n<h3>Shut your legs o
	r I'll meg ya vs. Gringos</h3>More info: <a href="https://www.golnetwork.co
	m/game/v/90289/">#36</a>\n\n</BODY>\n</HTML>
STATUS:CONFIRMED
CLASS:PUBLIC
URL:https://www.golnetwork.com/game/v/90289/
X-MICROSOFT-CDO-BUSYSTATUS:BUSY
X-MICROSOFT-CDO-IMPORTANCE:1
END:VEVENT
END:VCALENDAR
