BEGIN:VCALENDAR
PRODID:-//gdesolutions.com//MV Framework 1.0.0.1607 Calendar//EN
VERSION:2.0
METHOD:PUBLISH
CALSCALE:GREGORIAN
BEGIN:VEVENT
UID:g9ahg@games.golnetwork.com
LOCATION:Lester B. Pearson Field 1
GEO:45.4429892;-75.5963901
CREATED:20160815T215207Z
DTSTART:20160818T223000Z
DTEND:20160819T000000Z
DTSTAMP:20260419T212852Z
SUMMARY:One Kick Wonders FC vs. Arsenanal FC
DESCRIPTION:Arsenanal FC vs. One Kick Wonders FCMore info: #191
X-ALT-DESC;FMTTYPE=text/html:<!DOCTYPE HTML PUBLIC "-//W3C//DTD HTML 3.2//E
	N">\n<HTML>\n<HEAD>\n<TITLE></TITLE>\n</HEAD>\n<BODY>\n<h3>Arsenanal FC vs.
	 One Kick Wonders FC</h3>More info: <a href="https://www.golnetwork.com/gam
	e/v/91457/">#191</a>\n\n</BODY>\n</HTML>
STATUS:CONFIRMED
CLASS:PUBLIC
URL:https://www.golnetwork.com/game/v/91457/
X-MICROSOFT-CDO-BUSYSTATUS:BUSY
X-MICROSOFT-CDO-IMPORTANCE:1
END:VEVENT
BEGIN:VEVENT
UID:g97g8@games.golnetwork.com
LOCATION:McCarthy Park Field #5
GEO:45.3517739;-75.6718247
CREATED:20160708T195455Z
DTSTART:20160721T224500Z
DTEND:20160722T001500Z
DTSTAMP:20260419T212852Z
SUMMARY:One Kick Wonders FC vs. Team Doug
DESCRIPTION:Team Doug vs. One Kick Wonders FCMore info: #31
X-ALT-DESC;FMTTYPE=text/html:<!DOCTYPE HTML PUBLIC "-//W3C//DTD HTML 3.2//E
	N">\n<HTML>\n<HEAD>\n<TITLE></TITLE>\n</HEAD>\n<BODY>\n<h3>Team Doug vs. On
	e Kick Wonders FC</h3>More info: <a href="https://www.golnetwork.com/game/v
	/90346/">#31</a>\n\n</BODY>\n</HTML>
STATUS:CONFIRMED
CLASS:PUBLIC
URL:https://www.golnetwork.com/game/v/90346/
X-MICROSOFT-CDO-BUSYSTATUS:BUSY
X-MICROSOFT-CDO-IMPORTANCE:1
END:VEVENT
BEGIN:VEVENT
UID:g97e4@games.golnetwork.com
LOCATION:Louis Riel #2
GEO:45.4410208;-75.5715394
CREATED:20160708T195454Z
DTSTART:20160714T223000Z
DTEND:20160715T000000Z
DTSTAMP:20260419T212852Z
SUMMARY:Mercury Man Dem vs. One Kick Wonders FC
DESCRIPTION:One Kick Wonders FC vs. Mercury Man DemMore info: #2
X-ALT-DESC;FMTTYPE=text/html:<!DOCTYPE HTML PUBLIC "-//W3C//DTD HTML 3.2//E
	N">\n<HTML>\n<HEAD>\n<TITLE></TITLE>\n</HEAD>\n<BODY>\n<h3>One Kick Wonders
	 FC vs. Mercury Man Dem</h3>More info: <a href="https://www.golnetwork.com/
	game/v/90317/">#2</a>\n\n</BODY>\n</HTML>
STATUS:CONFIRMED
CLASS:PUBLIC
URL:https://www.golnetwork.com/game/v/90317/
X-MICROSOFT-CDO-BUSYSTATUS:BUSY
X-MICROSOFT-CDO-IMPORTANCE:1
END:VEVENT
BEGIN:VEVENT
UID:g959n@games.golnetwork.com
LOCATION:Louis Riel #1
GEO:45.4410208;-75.5715394
CREATED:20160621T055043Z
DTSTART:20160707T223000Z
DTEND:20160708T000000Z
DTSTAMP:20260419T212852Z
SUMMARY:Arsenanal FC vs. One Kick Wonders FC
DESCRIPTION:One Kick Wonders FC vs. Arsenanal FCMore info: #34
X-ALT-DESC;FMTTYPE=text/html:<!DOCTYPE HTML PUBLIC "-//W3C//DTD HTML 3.2//E
	N">\n<HTML>\n<HEAD>\n<TITLE></TITLE>\n</HEAD>\n<BODY>\n<h3>One Kick Wonders
	 FC vs. Arsenanal FC</h3>More info: <a href="https://www.golnetwork.com/gam
	e/v/89530/">#34</a>\n\n</BODY>\n</HTML>
STATUS:CONFIRMED
CLASS:PUBLIC
URL:https://www.golnetwork.com/game/v/89530/
X-MICROSOFT-CDO-BUSYSTATUS:BUSY
X-MICROSOFT-CDO-IMPORTANCE:1
END:VEVENT
BEGIN:VEVENT
UID:g959f@games.golnetwork.com
LOCATION:McCarthy Park Field #5
GEO:45.3517739;-75.6718247
CREATED:20160621T055043Z
DTSTART:20160630T224500Z
DTEND:20160701T001500Z
DTSTAMP:20260419T212852Z
SUMMARY:SupportMyMac Attack vs. One Kick Wonders FC
DESCRIPTION:One Kick Wonders FC vs. SupportMyMac AttackMore info: #30
X-ALT-DESC;FMTTYPE=text/html:<!DOCTYPE HTML PUBLIC "-//W3C//DTD HTML 3.2//E
	N">\n<HTML>\n<HEAD>\n<TITLE></TITLE>\n</HEAD>\n<BODY>\n<h3>One Kick Wonders
	 FC vs. SupportMyMac Attack</h3>More info: <a href="https://www.golnetwork.
	com/game/v/89526/">#30</a>\n\n</BODY>\n</HTML>
STATUS:CONFIRMED
CLASS:PUBLIC
URL:https://www.golnetwork.com/game/v/89526/
X-MICROSOFT-CDO-BUSYSTATUS:BUSY
X-MICROSOFT-CDO-IMPORTANCE:1
END:VEVENT
BEGIN:VEVENT
UID:g957h@games.golnetwork.com
LOCATION:Louis Riel #1
GEO:45.4410208;-75.5715394
CREATED:20160621T055041Z
DTSTART:20160624T000000Z
DTEND:20160624T013000Z
DTSTAMP:20260419T212852Z
SUMMARY:One Kick Wonders FC vs. Cornerstone FC
DESCRIPTION:Cornerstone FC vs. One Kick Wonders FCMore info: #4
X-ALT-DESC;FMTTYPE=text/html:<!DOCTYPE HTML PUBLIC "-//W3C//DTD HTML 3.2//E
	N">\n<HTML>\n<HEAD>\n<TITLE></TITLE>\n</HEAD>\n<BODY>\n<h3>Cornerstone FC v
	s. One Kick Wonders FC</h3>More info: <a href="https://www.golnetwork.com/g
	ame/v/89500/">#4</a>\n\n</BODY>\n</HTML>
STATUS:CONFIRMED
CLASS:PUBLIC
URL:https://www.golnetwork.com/game/v/89500/
X-MICROSOFT-CDO-BUSYSTATUS:BUSY
X-MICROSOFT-CDO-IMPORTANCE:1
END:VEVENT
BEGIN:VEVENT
UID:g94fa@games.golnetwork.com
LOCATION:McCarthy Park Field #2
GEO:45.3518541;-75.6719009
CREATED:20160530T033909Z
DTSTART:20160616T224500Z
DTEND:20160617T001500Z
DTSTAMP:20260419T212852Z
SUMMARY:Missile-toe vs. One Kick Wonders FC
DESCRIPTION:One Kick Wonders FC vs. Missile-toeMore info: #44
X-ALT-DESC;FMTTYPE=text/html:<!DOCTYPE HTML PUBLIC "-//W3C//DTD HTML 3.2//E
	N">\n<HTML>\n<HEAD>\n<TITLE></TITLE>\n</HEAD>\n<BODY>\n<h3>One Kick Wonders
	 FC vs. Missile-toe</h3>More info: <a href="https://www.golnetwork.com/game
	/v/89240/">#44</a>\n\n</BODY>\n</HTML>
STATUS:CONFIRMED
CLASS:PUBLIC
URL:https://www.golnetwork.com/game/v/89240/
X-MICROSOFT-CDO-BUSYSTATUS:BUSY
X-MICROSOFT-CDO-IMPORTANCE:1
END:VEVENT
BEGIN:VEVENT
UID:g94dc@games.golnetwork.com
LOCATION:Louis Riel #1
GEO:45.4410208;-75.5715394
CREATED:20160530T033908Z
DTSTART:20160609T223000Z
DTEND:20160610T000000Z
DTSTAMP:20260419T212852Z
SUMMARY:JFC vs. One Kick Wonders FC
DESCRIPTION:One Kick Wonders FC vs. JFCMore info: #18
X-ALT-DESC;FMTTYPE=text/html:<!DOCTYPE HTML PUBLIC "-//W3C//DTD HTML 3.2//E
	N">\n<HTML>\n<HEAD>\n<TITLE></TITLE>\n</HEAD>\n<BODY>\n<h3>One Kick Wonders
	 FC vs. JFC</h3>More info: <a href="https://www.golnetwork.com/game/v/89214
	/">#18</a>\n\n</BODY>\n</HTML>
STATUS:CONFIRMED
CLASS:PUBLIC
URL:https://www.golnetwork.com/game/v/89214/
X-MICROSOFT-CDO-BUSYSTATUS:BUSY
X-MICROSOFT-CDO-IMPORTANCE:1
END:VEVENT
BEGIN:VEVENT
UID:g94d4@games.golnetwork.com
LOCATION:McCarthy Park Field #5
GEO:45.3517739;-75.6718247
CREATED:20160530T033908Z
DTSTART:20160602T224500Z
DTEND:20160603T001500Z
DTSTAMP:20260419T212852Z
SUMMARY:One Kick Wonders FC vs. Hooligans United
DESCRIPTION:Hooligans United vs. One Kick Wonders FCMore info: #14
X-ALT-DESC;FMTTYPE=text/html:<!DOCTYPE HTML PUBLIC "-//W3C//DTD HTML 3.2//E
	N">\n<HTML>\n<HEAD>\n<TITLE></TITLE>\n</HEAD>\n<BODY>\n<h3>Hooligans United
	 vs. One Kick Wonders FC</h3>More info: <a href="https://www.golnetwork.com
	/game/v/89210/">#14</a>\n\n</BODY>\n</HTML>
STATUS:CONFIRMED
CLASS:PUBLIC
URL:https://www.golnetwork.com/game/v/89210/
X-MICROSOFT-CDO-BUSYSTATUS:BUSY
X-MICROSOFT-CDO-IMPORTANCE:1
END:VEVENT
BEGIN:VEVENT
UID:g922d@games.golnetwork.com
LOCATION:McCarthy Park Field #4
GEO:45.3518541;-75.6719009
CREATED:20160516T202553Z
DTSTART:20160526T224500Z
DTEND:20160527T001500Z
DTSTAMP:20260419T212852Z
SUMMARY:One Kick Wonders FC vs. The Miseducation
DESCRIPTION:The Miseducation vs. One Kick Wonders FCMore info: #12
X-ALT-DESC;FMTTYPE=text/html:<!DOCTYPE HTML PUBLIC "-//W3C//DTD HTML 3.2//E
	N">\n<HTML>\n<HEAD>\n<TITLE></TITLE>\n</HEAD>\n<BODY>\n<h3>The Miseducation
	 vs. One Kick Wonders FC</h3>More info: <a href="https://www.golnetwork.com
	/game/v/88337/">#12</a>\n\n</BODY>\n</HTML>
STATUS:CONFIRMED
CLASS:PUBLIC
URL:https://www.golnetwork.com/game/v/88337/
X-MICROSOFT-CDO-BUSYSTATUS:BUSY
X-MICROSOFT-CDO-IMPORTANCE:1
END:VEVENT
END:VCALENDAR
