BEGIN:VCALENDAR
PRODID:-//gdesolutions.com//MV Framework 1.0.0.1607 Calendar//EN
VERSION:2.0
METHOD:PUBLISH
CALSCALE:GREGORIAN
BEGIN:VEVENT
UID:g7dq6@games.golnetwork.com
LOCATION:Louis Riel #3
GEO:45.4410208;-75.5715394
CREATED:20150715T182251Z
DTSTART:20150724T000000Z
DTEND:20150724T013000Z
DTSTAMP:20260421T052343Z
SUMMARY:FC AA vs. Spartans
DESCRIPTION:Spartans vs. FC AAMore info: #11
X-ALT-DESC;FMTTYPE=text/html:<!DOCTYPE HTML PUBLIC "-//W3C//DTD HTML 3.2//E
	N">\n<HTML>\n<HEAD>\n<TITLE></TITLE>\n</HEAD>\n<BODY>\n<h3>Spartans vs. FC 
	AA</h3>More info: <a href="https://www.golnetwork.com/game/v/72984/">#11</a
	>\n\n</BODY>\n</HTML>
STATUS:CONFIRMED
CLASS:PUBLIC
URL:https://www.golnetwork.com/game/v/72984/
X-MICROSOFT-CDO-BUSYSTATUS:BUSY
X-MICROSOFT-CDO-IMPORTANCE:1
END:VEVENT
BEGIN:VEVENT
UID:g7cho@games.golnetwork.com
LOCATION:Louis Riel #1
GEO:45.4410208;-75.5715394
CREATED:20150710T061125Z
DTSTART:20150717T000000Z
DTEND:20150717T013000Z
DTSTAMP:20260421T052343Z
SUMMARY:Spartans vs. Flamingos
DESCRIPTION:Flamingos vs. SpartansMore info: #118
X-ALT-DESC;FMTTYPE=text/html:<!DOCTYPE HTML PUBLIC "-//W3C//DTD HTML 3.2//E
	N">\n<HTML>\n<HEAD>\n<TITLE></TITLE>\n</HEAD>\n<BODY>\n<h3>Flamingos vs. Sp
	artans</h3>More info: <a href="https://www.golnetwork.com/game/v/72507/">#1
	18</a>\n\n</BODY>\n</HTML>
STATUS:CONFIRMED
CLASS:PUBLIC
URL:https://www.golnetwork.com/game/v/72507/
X-MICROSOFT-CDO-BUSYSTATUS:BUSY
X-MICROSOFT-CDO-IMPORTANCE:1
END:VEVENT
BEGIN:VEVENT
UID:g7agj@games.golnetwork.com
LOCATION:McCarthy Park Field #5
GEO:45.3517739;-75.6718247
CREATED:20150707T063048Z
DTSTART:20150709T224500Z
DTEND:20150710T001500Z
DTSTAMP:20260421T052343Z
SUMMARY:50 Shades of Pink vs. Spartans
DESCRIPTION:Spartans vs. 50 Shades of PinkMore info: #5
X-ALT-DESC;FMTTYPE=text/html:<!DOCTYPE HTML PUBLIC "-//W3C//DTD HTML 3.2//E
	N">\n<HTML>\n<HEAD>\n<TITLE></TITLE>\n</HEAD>\n<BODY>\n<h3>Spartans vs. 50 
	Shades of Pink</h3>More info: <a href="https://www.golnetwork.com/game/v/71
	762/">#5</a>\n\n</BODY>\n</HTML>
STATUS:CONFIRMED
CLASS:PUBLIC
URL:https://www.golnetwork.com/game/v/71762/
X-MICROSOFT-CDO-BUSYSTATUS:BUSY
X-MICROSOFT-CDO-IMPORTANCE:1
END:VEVENT
BEGIN:VEVENT
UID:g78na@games.golnetwork.com
LOCATION:McCarthy Park Field #3
GEO:45.3518541;-75.6719009
CREATED:20150622T201106Z
DTSTART:20150702T224500Z
DTEND:20150703T001500Z
DTSTAMP:20260421T052343Z
SUMMARY:Spartans vs. Pas l'temps de niaser
DESCRIPTION:Pas l'temps de niaser vs. SpartansMore info: #20
X-ALT-DESC;FMTTYPE=text/html:<!DOCTYPE HTML PUBLIC "-//W3C//DTD HTML 3.2//E
	N">\n<HTML>\n<HEAD>\n<TITLE></TITLE>\n</HEAD>\n<BODY>\n<h3>Pas l'temps de n
	iaser vs. Spartans</h3>More info: <a href="https://www.golnetwork.com/game/
	v/71123/">#20</a>\n\n</BODY>\n</HTML>
STATUS:CONFIRMED
CLASS:PUBLIC
URL:https://www.golnetwork.com/game/v/71123/
X-MICROSOFT-CDO-BUSYSTATUS:BUSY
X-MICROSOFT-CDO-IMPORTANCE:1
END:VEVENT
BEGIN:VEVENT
UID:g78mf@games.golnetwork.com
LOCATION:Louis Riel #3
GEO:45.4410208;-75.5715394
CREATED:20150622T201104Z
DTSTART:20150625T223000Z
DTEND:20150626T000000Z
DTSTAMP:20260421T052343Z
SUMMARY:Spartans vs. Let the Drummer Kick
DESCRIPTION:Let the Drummer Kick vs. SpartansMore info: #8
X-ALT-DESC;FMTTYPE=text/html:<!DOCTYPE HTML PUBLIC "-//W3C//DTD HTML 3.2//E
	N">\n<HTML>\n<HEAD>\n<TITLE></TITLE>\n</HEAD>\n<BODY>\n<h3>Let the Drummer 
	Kick vs. Spartans</h3>More info: <a href="https://www.golnetwork.com/game/v
	/71112/">#8</a>\n\n</BODY>\n</HTML>
STATUS:CONFIRMED
CLASS:PUBLIC
URL:https://www.golnetwork.com/game/v/71112/
X-MICROSOFT-CDO-BUSYSTATUS:BUSY
X-MICROSOFT-CDO-IMPORTANCE:1
END:VEVENT
BEGIN:VEVENT
UID:g779h@games.golnetwork.com
LOCATION:McCarthy Park Field #3
GEO:45.3518541;-75.6719009
CREATED:20150530T191930Z
DTSTART:20150618T224500Z
DTEND:20150619T001500Z
DTSTAMP:20260421T052343Z
SUMMARY:Fluorescent Platypuses vs. Spartans
DESCRIPTION:Spartans vs. Fluorescent PlatypusesMore info: #19
X-ALT-DESC;FMTTYPE=text/html:<!DOCTYPE HTML PUBLIC "-//W3C//DTD HTML 3.2//E
	N">\n<HTML>\n<HEAD>\n<TITLE></TITLE>\n</HEAD>\n<BODY>\n<h3>Spartans vs. Flu
	orescent Platypuses</h3>More info: <a href="https://www.golnetwork.com/game
	/v/70573/">#19</a>\n\n</BODY>\n</HTML>
STATUS:CONFIRMED
CLASS:PUBLIC
URL:https://www.golnetwork.com/game/v/70573/
X-MICROSOFT-CDO-BUSYSTATUS:BUSY
X-MICROSOFT-CDO-IMPORTANCE:1
END:VEVENT
BEGIN:VEVENT
UID:g778c@games.golnetwork.com
LOCATION:McCarthy Park Field #2
GEO:45.3518541;-75.6719009
CREATED:20150530T191928Z
DTSTART:20150611T224500Z
DTEND:20150612T001500Z
DTSTAMP:20260421T052343Z
SUMMARY:Int Individuals 1 vs. Spartans
DESCRIPTION:Spartans vs. Int Individuals 1More info: #2
X-ALT-DESC;FMTTYPE=text/html:<!DOCTYPE HTML PUBLIC "-//W3C//DTD HTML 3.2//E
	N">\n<HTML>\n<HEAD>\n<TITLE></TITLE>\n</HEAD>\n<BODY>\n<h3>Spartans vs. Int
	 Individuals 1</h3>More info: <a href="https://www.golnetwork.com/game/v/70
	557/">#2</a>\n\n</BODY>\n</HTML>
STATUS:CONFIRMED
CLASS:PUBLIC
URL:https://www.golnetwork.com/game/v/70557/
X-MICROSOFT-CDO-BUSYSTATUS:BUSY
X-MICROSOFT-CDO-IMPORTANCE:1
END:VEVENT
BEGIN:VEVENT
UID:g777l@games.golnetwork.com
LOCATION:Louis Riel #3
GEO:45.4410208;-75.5715394
CREATED:20150529T221254Z
DTSTART:20150604T223000Z
DTEND:20150605T000000Z
DTSTAMP:20260421T052343Z
SUMMARY:FC AA vs. Spartans
DESCRIPTION:Spartans vs. FC AAMore info: #8
X-ALT-DESC;FMTTYPE=text/html:<!DOCTYPE HTML PUBLIC "-//W3C//DTD HTML 3.2//E
	N">\n<HTML>\n<HEAD>\n<TITLE></TITLE>\n</HEAD>\n<BODY>\n<h3>Spartans vs. FC 
	AA</h3>More info: <a href="https://www.golnetwork.com/game/v/70548/">#8</a>
	\n\n</BODY>\n</HTML>
STATUS:CONFIRMED
CLASS:PUBLIC
URL:https://www.golnetwork.com/game/v/70548/
X-MICROSOFT-CDO-BUSYSTATUS:BUSY
X-MICROSOFT-CDO-IMPORTANCE:1
END:VEVENT
BEGIN:VEVENT
UID:g75d5@games.golnetwork.com
LOCATION:Louis Riel #3
GEO:45.4410208;-75.5715394
CREATED:20150523T091650Z
DTSTART:20150529T013000Z
DTEND:20150529T030000Z
DTSTAMP:20260421T052343Z
SUMMARY:Spartans vs. Cleat Elite
DESCRIPTION:Cleat Elite vs. SpartansMore info: #14
X-ALT-DESC;FMTTYPE=text/html:<!DOCTYPE HTML PUBLIC "-//W3C//DTD HTML 3.2//E
	N">\n<HTML>\n<HEAD>\n<TITLE></TITLE>\n</HEAD>\n<BODY>\n<h3>Cleat Elite vs. 
	Spartans</h3>More info: <a href="https://www.golnetwork.com/game/v/69892/">
	#14</a>\n\n</BODY>\n</HTML>
STATUS:CONFIRMED
CLASS:PUBLIC
URL:https://www.golnetwork.com/game/v/69892/
X-MICROSOFT-CDO-BUSYSTATUS:BUSY
X-MICROSOFT-CDO-IMPORTANCE:1
END:VEVENT
END:VCALENDAR
