BEGIN:VCALENDAR
PRODID:-//gdesolutions.com//MV Framework 1.0.0.1607 Calendar//EN
VERSION:2.0
METHOD:PUBLISH
CALSCALE:GREGORIAN
BEGIN:VEVENT
UID:g7gmp@games.golnetwork.com
LOCATION:Lester B. Pearson Field 1
GEO:45.4429892;-75.5963901
CREATED:20150824T142830Z
DTSTART:20150827T223000Z
DTEND:20150828T000000Z
DTSTAMP:20260420T131443Z
SUMMARY:Picante Pelotas vs. TMNT
DESCRIPTION:TMNT vs. Picante PelotasMore info: R#185
X-ALT-DESC;FMTTYPE=text/html:<!DOCTYPE HTML PUBLIC "-//W3C//DTD HTML 3.2//E
	N">\n<HTML>\n<HEAD>\n<TITLE></TITLE>\n</HEAD>\n<BODY>\n<h3>TMNT vs. Picante
	 Pelotas</h3>More info: <a href="https://www.golnetwork.com/game/v/74033/">
	R#185</a>\n\n</BODY>\n</HTML>
STATUS:CONFIRMED
CLASS:PUBLIC
URL:https://www.golnetwork.com/game/v/74033/
X-MICROSOFT-CDO-BUSYSTATUS:BUSY
X-MICROSOFT-CDO-IMPORTANCE:1
END:VEVENT
BEGIN:VEVENT
UID:g7gi7@games.golnetwork.com
LOCATION:Lester B. Pearson Field 1
GEO:45.4429892;-75.5963901
CREATED:20150817T175449Z
DTSTART:20150820T224500Z
DTEND:20150821T001500Z
DTSTAMP:20260420T131443Z
SUMMARY:Picante Pelotas vs. TMNT
DESCRIPTION:TMNT vs. Picante PelotasMore info: #184
X-ALT-DESC;FMTTYPE=text/html:<!DOCTYPE HTML PUBLIC "-//W3C//DTD HTML 3.2//E
	N">\n<HTML>\n<HEAD>\n<TITLE></TITLE>\n</HEAD>\n<BODY>\n<h3>TMNT vs. Picante
	 Pelotas</h3>More info: <a href="https://www.golnetwork.com/game/v/73970/">
	#184</a>\n\n</BODY>\n</HTML>
STATUS:RESCHEDULED
CLASS:PUBLIC
URL:https://www.golnetwork.com/game/v/73970/
X-MICROSOFT-CDO-BUSYSTATUS:BUSY
X-MICROSOFT-CDO-IMPORTANCE:1
END:VEVENT
BEGIN:VEVENT
UID:g7fa2@games.golnetwork.com
LOCATION:Louis Riel #1
GEO:45.4410208;-75.5715394
CREATED:20150809T180529Z
DTSTART:20150813T223000Z
DTEND:20150814T000000Z
DTSTAMP:20260420T131443Z
SUMMARY:TMNT vs. The Miseducation
DESCRIPTION:The Miseducation vs. TMNTMore info: #161
X-ALT-DESC;FMTTYPE=text/html:<!DOCTYPE HTML PUBLIC "-//W3C//DTD HTML 3.2//E
	N">\n<HTML>\n<HEAD>\n<TITLE></TITLE>\n</HEAD>\n<BODY>\n<h3>The Miseducation
	 vs. TMNT</h3>More info: <a href="https://www.golnetwork.com/game/v/73495/"
	>#161</a>\n\n</BODY>\n</HTML>
STATUS:CONFIRMED
CLASS:PUBLIC
URL:https://www.golnetwork.com/game/v/73495/
X-MICROSOFT-CDO-BUSYSTATUS:BUSY
X-MICROSOFT-CDO-IMPORTANCE:1
END:VEVENT
BEGIN:VEVENT
UID:g7faa@games.golnetwork.com
LOCATION:Louis Riel #1
GEO:45.4410208;-75.5715394
CREATED:20150809T180901Z
DTSTART:20150813T222000Z
DTEND:20150813T235000Z
DTSTAMP:20260420T131443Z
SUMMARY:TMNT vs. The Yellow Devils
DESCRIPTION:The Yellow Devils vs. TMNTMore info: R#152
X-ALT-DESC;FMTTYPE=text/html:<!DOCTYPE HTML PUBLIC "-//W3C//DTD HTML 3.2//E
	N">\n<HTML>\n<HEAD>\n<TITLE></TITLE>\n</HEAD>\n<BODY>\n<h3>The Yellow Devil
	s vs. TMNT</h3>More info: <a href="https://www.golnetwork.com/game/v/73499/
	">R#152</a>\n\n</BODY>\n</HTML>
STATUS:CONFIRMED
CLASS:PUBLIC
URL:https://www.golnetwork.com/game/v/73499/
X-MICROSOFT-CDO-BUSYSTATUS:BUSY
X-MICROSOFT-CDO-IMPORTANCE:1
END:VEVENT
BEGIN:VEVENT
UID:g7f6a@games.golnetwork.com
LOCATION:Lester B. Pearson Field 1
GEO:45.4429892;-75.5963901
CREATED:20150803T233825Z
DTSTART:20150806T224500Z
DTEND:20150807T001500Z
DTSTAMP:20260420T131443Z
SUMMARY:TMNT vs. The Yellow Devils
DESCRIPTION:The Yellow Devils vs. TMNTMore info: #152
X-ALT-DESC;FMTTYPE=text/html:<!DOCTYPE HTML PUBLIC "-//W3C//DTD HTML 3.2//E
	N">\n<HTML>\n<HEAD>\n<TITLE></TITLE>\n</HEAD>\n<BODY>\n<h3>The Yellow Devil
	s vs. TMNT</h3>More info: <a href="https://www.golnetwork.com/game/v/73445/
	">#152</a>\n\n</BODY>\n</HTML>
STATUS:RESCHEDULED
CLASS:PUBLIC
URL:https://www.golnetwork.com/game/v/73445/
X-MICROSOFT-CDO-BUSYSTATUS:BUSY
X-MICROSOFT-CDO-IMPORTANCE:1
END:VEVENT
END:VCALENDAR
