BEGIN:VCALENDAR
PRODID:-//gdesolutions.com//MV Framework 1.0.0.1607 Calendar//EN
VERSION:2.0
METHOD:PUBLISH
CALSCALE:GREGORIAN
BEGIN:VEVENT
UID:g8mbd@games.golnetwork.com
LOCATION:Monarch Park Stadium - Field 3
GEO:43.6792789;-79.3234873
CREATED:20160407T213556Z
DTSTART:20160604T020000Z
DTEND:20160604T030000Z
DTSTAMP:20260420T062046Z
SUMMARY:Strikers vs. Local vs. Everyone
DESCRIPTION:Local vs. Everyone vs. StrikersMore info: #126
X-ALT-DESC;FMTTYPE=text/html:<!DOCTYPE HTML PUBLIC "-//W3C//DTD HTML 3.2//E
	N">\n<HTML>\n<HEAD>\n<TITLE></TITLE>\n</HEAD>\n<BODY>\n<h3>Local vs. Everyo
	ne vs. Strikers</h3>More info: <a href="https://www.golnetwork.com/game/v/8
	5907/">#126</a>\n\n</BODY>\n</HTML>
STATUS:CONFIRMED
CLASS:PUBLIC
URL:https://www.golnetwork.com/game/v/85907/
X-MICROSOFT-CDO-BUSYSTATUS:BUSY
X-MICROSOFT-CDO-IMPORTANCE:1
END:VEVENT
BEGIN:VEVENT
UID:g8mbb@games.golnetwork.com
LOCATION:Monarch Park Stadium - Field 3
GEO:43.6792789;-79.3234873
CREATED:20160407T213556Z
DTSTART:20160521T010000Z
DTEND:20160521T020000Z
DTSTAMP:20260420T062046Z
SUMMARY:Local vs. Everyone vs. XTSC Internationals
DESCRIPTION:XTSC Internationals vs. Local vs. EveryoneMore info: #121
X-ALT-DESC;FMTTYPE=text/html:<!DOCTYPE HTML PUBLIC "-//W3C//DTD HTML 3.2//E
	N">\n<HTML>\n<HEAD>\n<TITLE></TITLE>\n</HEAD>\n<BODY>\n<h3>XTSC Internation
	als vs. Local vs. Everyone</h3>More info: <a href="https://www.golnetwork.c
	om/game/v/85906/">#121</a>\n\n</BODY>\n</HTML>
STATUS:CONFIRMED
CLASS:PUBLIC
URL:https://www.golnetwork.com/game/v/85906/
X-MICROSOFT-CDO-BUSYSTATUS:BUSY
X-MICROSOFT-CDO-IMPORTANCE:1
END:VEVENT
BEGIN:VEVENT
UID:g8mb5@games.golnetwork.com
LOCATION:Monarch Park Stadium - Field 3
GEO:43.6792789;-79.3234873
CREATED:20160407T213556Z
DTSTART:20160514T020000Z
DTEND:20160514T030000Z
DTSTAMP:20260420T062046Z
SUMMARY:Local vs. Everyone vs. The Academy
DESCRIPTION:The Academy vs. Local vs. EveryoneMore info: #120
X-ALT-DESC;FMTTYPE=text/html:<!DOCTYPE HTML PUBLIC "-//W3C//DTD HTML 3.2//E
	N">\n<HTML>\n<HEAD>\n<TITLE></TITLE>\n</HEAD>\n<BODY>\n<h3>The Academy vs. 
	Local vs. Everyone</h3>More info: <a href="https://www.golnetwork.com/game/
	v/85903/">#120</a>\n\n</BODY>\n</HTML>
STATUS:CONFIRMED
CLASS:PUBLIC
URL:https://www.golnetwork.com/game/v/85903/
X-MICROSOFT-CDO-BUSYSTATUS:BUSY
X-MICROSOFT-CDO-IMPORTANCE:1
END:VEVENT
BEGIN:VEVENT
UID:g8mb1@games.golnetwork.com
LOCATION:Monarch Park Stadium - Field 3
GEO:43.6792789;-79.3234873
CREATED:20160407T213556Z
DTSTART:20160507T010000Z
DTEND:20160507T020000Z
DTSTAMP:20260420T062046Z
SUMMARY:Strikers vs. Local vs. Everyone
DESCRIPTION:Local vs. Everyone vs. StrikersMore info: #117
X-ALT-DESC;FMTTYPE=text/html:<!DOCTYPE HTML PUBLIC "-//W3C//DTD HTML 3.2//E
	N">\n<HTML>\n<HEAD>\n<TITLE></TITLE>\n</HEAD>\n<BODY>\n<h3>Local vs. Everyo
	ne vs. Strikers</h3>More info: <a href="https://www.golnetwork.com/game/v/8
	5901/">#117</a>\n\n</BODY>\n</HTML>
STATUS:CONFIRMED
CLASS:PUBLIC
URL:https://www.golnetwork.com/game/v/85901/
X-MICROSOFT-CDO-BUSYSTATUS:BUSY
X-MICROSOFT-CDO-IMPORTANCE:1
END:VEVENT
BEGIN:VEVENT
UID:g8mai@games.golnetwork.com
LOCATION:Monarch Park Stadium - Field 3
GEO:43.6792789;-79.3234873
CREATED:20160407T213556Z
DTSTART:20160423T000000Z
DTEND:20160423T010000Z
DTSTAMP:20260420T062046Z
SUMMARY:Local vs. Everyone vs. XTSC Internationals
DESCRIPTION:XTSC Internationals vs. Local vs. EveryoneMore info: #111
X-ALT-DESC;FMTTYPE=text/html:<!DOCTYPE HTML PUBLIC "-//W3C//DTD HTML 3.2//E
	N">\n<HTML>\n<HEAD>\n<TITLE></TITLE>\n</HEAD>\n<BODY>\n<h3>XTSC Internation
	als vs. Local vs. Everyone</h3>More info: <a href="https://www.golnetwork.c
	om/game/v/85896/">#111</a>\n\n</BODY>\n</HTML>
STATUS:CONFIRMED
CLASS:PUBLIC
URL:https://www.golnetwork.com/game/v/85896/
X-MICROSOFT-CDO-BUSYSTATUS:BUSY
X-MICROSOFT-CDO-IMPORTANCE:1
END:VEVENT
BEGIN:VEVENT
UID:g8mak@games.golnetwork.com
LOCATION:Monarch Park Stadium - Field 3
GEO:43.6792789;-79.3234873
CREATED:20160407T213556Z
DTSTART:20160416T010000Z
DTEND:20160416T020000Z
DTSTAMP:20260420T062046Z
SUMMARY:Local vs. Everyone vs. Strikers
DESCRIPTION:Strikers vs. Local vs. EveryoneMore info: #104
X-ALT-DESC;FMTTYPE=text/html:<!DOCTYPE HTML PUBLIC "-//W3C//DTD HTML 3.2//E
	N">\n<HTML>\n<HEAD>\n<TITLE></TITLE>\n</HEAD>\n<BODY>\n<h3>Strikers vs. Loc
	al vs. Everyone</h3>More info: <a href="https://www.golnetwork.com/game/v/8
	5897/">#104</a>\n\n</BODY>\n</HTML>
STATUS:CONFIRMED
CLASS:PUBLIC
URL:https://www.golnetwork.com/game/v/85897/
X-MICROSOFT-CDO-BUSYSTATUS:BUSY
X-MICROSOFT-CDO-IMPORTANCE:1
END:VEVENT
BEGIN:VEVENT
UID:g8maq@games.golnetwork.com
LOCATION:Monarch Park Stadium - Field 3
GEO:43.6792789;-79.3234873
CREATED:20160407T213556Z
DTSTART:20160409T010000Z
DTEND:20160409T020000Z
DTSTAMP:20260420T062046Z
SUMMARY:The Academy vs. Local vs. Everyone
DESCRIPTION:Local vs. Everyone vs. The AcademyMore info: #94
X-ALT-DESC;FMTTYPE=text/html:<!DOCTYPE HTML PUBLIC "-//W3C//DTD HTML 3.2//E
	N">\n<HTML>\n<HEAD>\n<TITLE></TITLE>\n</HEAD>\n<BODY>\n<h3>Local vs. Everyo
	ne vs. The Academy</h3>More info: <a href="https://www.golnetwork.com/game/
	v/85900/">#94</a>\n\n</BODY>\n</HTML>
STATUS:CONFIRMED
CLASS:PUBLIC
URL:https://www.golnetwork.com/game/v/85900/
X-MICROSOFT-CDO-BUSYSTATUS:BUSY
X-MICROSOFT-CDO-IMPORTANCE:1
END:VEVENT
END:VCALENDAR
