BEGIN:VCALENDAR
PRODID:-//gdesolutions.com//MV Framework 1.0.0.1607 Calendar//EN
VERSION:2.0
METHOD:PUBLISH
CALSCALE:GREGORIAN
BEGIN:VEVENT
UID:g9ah2@games.golnetwork.com
LOCATION:McCarthy Park Field #1
GEO:45.3518541;-75.6719009
CREATED:20160815T195158Z
DTSTART:20160818T223000Z
DTEND:20160819T000000Z
DTSTAMP:20260420T030612Z
SUMMARY:Foot Loose FC vs. Hooligans United
DESCRIPTION:Hooligans United vs. Foot Loose FCMore info: #186
X-ALT-DESC;FMTTYPE=text/html:<!DOCTYPE HTML PUBLIC "-//W3C//DTD HTML 3.2//E
	N">\n<HTML>\n<HEAD>\n<TITLE></TITLE>\n</HEAD>\n<BODY>\n<h3>Hooligans United
	 vs. Foot Loose FC</h3>More info: <a href="https://www.golnetwork.com/game/
	v/91450/">#186</a>\n\n</BODY>\n</HTML>
STATUS:CONFIRMED
CLASS:PUBLIC
URL:https://www.golnetwork.com/game/v/91450/
X-MICROSOFT-CDO-BUSYSTATUS:BUSY
X-MICROSOFT-CDO-IMPORTANCE:1
END:VEVENT
BEGIN:VEVENT
UID:g9a56@games.golnetwork.com
LOCATION:McCarthy Park Field #3
GEO:45.3518541;-75.6719009
CREATED:20160808T173845Z
DTSTART:20160811T224500Z
DTEND:20160812T001500Z
DTSTAMP:20260420T030612Z
SUMMARY:The Kickers vs. Hooligans United
DESCRIPTION:Hooligans United vs. The KickersMore info: #171
X-ALT-DESC;FMTTYPE=text/html:<!DOCTYPE HTML PUBLIC "-//W3C//DTD HTML 3.2//E
	N">\n<HTML>\n<HEAD>\n<TITLE></TITLE>\n</HEAD>\n<BODY>\n<h3>Hooligans United
	 vs. The Kickers</h3>More info: <a href="https://www.golnetwork.com/game/v/
	91290/">#171</a>\n\n</BODY>\n</HTML>
STATUS:CONFIRMED
CLASS:PUBLIC
URL:https://www.golnetwork.com/game/v/91290/
X-MICROSOFT-CDO-BUSYSTATUS:BUSY
X-MICROSOFT-CDO-IMPORTANCE:1
END:VEVENT
BEGIN:VEVENT
UID:g9908@games.golnetwork.com
LOCATION:McCarthy Park Field #4
GEO:45.3518541;-75.6719009
CREATED:20160726T075057Z
DTSTART:20160804T224500Z
DTEND:20160805T001500Z
DTSTAMP:20260420T030612Z
SUMMARY:Hooligans United vs. Individuals 2
DESCRIPTION:Individuals 2 vs. Hooligans UnitedMore info: #156
X-ALT-DESC;FMTTYPE=text/html:<!DOCTYPE HTML PUBLIC "-//W3C//DTD HTML 3.2//E
	N">\n<HTML>\n<HEAD>\n<TITLE></TITLE>\n</HEAD>\n<BODY>\n<h3>Individuals 2 vs
	. Hooligans United</h3>More info: <a href="https://www.golnetwork.com/game/
	v/90859/">#156</a>\n\n</BODY>\n</HTML>
STATUS:CONFIRMED
CLASS:PUBLIC
URL:https://www.golnetwork.com/game/v/90859/
X-MICROSOFT-CDO-BUSYSTATUS:BUSY
X-MICROSOFT-CDO-IMPORTANCE:1
END:VEVENT
END:VCALENDAR
