BEGIN:VCALENDAR
PRODID:-//gdesolutions.com//MV Framework 1.0.0.1607 Calendar//EN
VERSION:2.0
METHOD:PUBLISH
CALSCALE:GREGORIAN
BEGIN:VEVENT
UID:g887h@games.golnetwork.com
LOCATION:Louis Riel #3
GEO:45.4410208;-75.5715394
CREATED:20151123T204947Z
DTSTART:20151129T220000Z
DTEND:20151129T230000Z
DTSTAMP:20260420T172308Z
SUMMARY:Raiders FC vs. Redbulls FC
DESCRIPTION:Redbulls FC vs. Raiders FCMore info: #124
X-ALT-DESC;FMTTYPE=text/html:<!DOCTYPE HTML PUBLIC "-//W3C//DTD HTML 3.2//E
	N">\n<HTML>\n<HEAD>\n<TITLE></TITLE>\n</HEAD>\n<BODY>\n<h3>Redbulls FC vs. 
	Raiders FC</h3>More info: <a href="https://www.golnetwork.com/game/v/80752/
	">#124</a>\n\n</BODY>\n</HTML>
STATUS:CONFIRMED
CLASS:PUBLIC
URL:https://www.golnetwork.com/game/v/80752/
X-MICROSOFT-CDO-BUSYSTATUS:BUSY
X-MICROSOFT-CDO-IMPORTANCE:1
END:VEVENT
BEGIN:VEVENT
UID:g87g3@games.golnetwork.com
LOCATION:Louis Riel #3
GEO:45.4410208;-75.5715394
CREATED:20151117T194010Z
DTSTART:20151122T200000Z
DTEND:20151122T210000Z
DTSTAMP:20260420T172308Z
SUMMARY:helpingwithfurniture.org vs. Redbulls FC
DESCRIPTION:Redbulls FC vs. helpingwithfurniture.orgMore info: #110
X-ALT-DESC;FMTTYPE=text/html:<!DOCTYPE HTML PUBLIC "-//W3C//DTD HTML 3.2//E
	N">\n<HTML>\n<HEAD>\n<TITLE></TITLE>\n</HEAD>\n<BODY>\n<h3>Redbulls FC vs. 
	helpingwithfurniture.org</h3>More info: <a href="https://www.golnetwork.com
	/game/v/80502/">#110</a>\n\n</BODY>\n</HTML>
STATUS:CONFIRMED
CLASS:PUBLIC
URL:https://www.golnetwork.com/game/v/80502/
X-MICROSOFT-CDO-BUSYSTATUS:BUSY
X-MICROSOFT-CDO-IMPORTANCE:1
END:VEVENT
BEGIN:VEVENT
UID:g86q8@games.golnetwork.com
LOCATION:Louis Riel #3
GEO:45.4410208;-75.5715394
CREATED:20151110T184434Z
DTSTART:20151115T180000Z
DTEND:20151115T190000Z
DTSTAMP:20260420T172308Z
SUMMARY:Redbulls FC vs. Hot Tub Time Machine
DESCRIPTION:Hot Tub Time Machine vs. Redbulls FCMore info: #94
X-ALT-DESC;FMTTYPE=text/html:<!DOCTYPE HTML PUBLIC "-//W3C//DTD HTML 3.2//E
	N">\n<HTML>\n<HEAD>\n<TITLE></TITLE>\n</HEAD>\n<BODY>\n<h3>Hot Tub Time Mac
	hine vs. Redbulls FC</h3>More info: <a href="https://www.golnetwork.com/gam
	e/v/80275/">#94</a>\n\n</BODY>\n</HTML>
STATUS:CONFIRMED
CLASS:PUBLIC
URL:https://www.golnetwork.com/game/v/80275/
X-MICROSOFT-CDO-BUSYSTATUS:BUSY
X-MICROSOFT-CDO-IMPORTANCE:1
END:VEVENT
END:VCALENDAR
