BEGIN:VCALENDAR
PRODID:-//gdesolutions.com//MV Framework 1.0.0.1607 Calendar//EN
VERSION:2.0
METHOD:PUBLISH
CALSCALE:GREGORIAN
BEGIN:VEVENT
UID:g7m0f@games.golnetwork.com
LOCATION:Fieldhouse D
GEO:45.10662;-94.578209
CREATED:20150921T152414Z
DTSTART:20151110T233000Z
DTEND:20151111T003000Z
DTSTAMP:20260422T140644Z
SUMMARY:Rough Sets vs. Just The Tip
DESCRIPTION:Just The Tip vs. Rough SetsMore info: #146
X-ALT-DESC;FMTTYPE=text/html:<!DOCTYPE HTML PUBLIC "-//W3C//DTD HTML 3.2//E
	N">\n<HTML>\n<HEAD>\n<TITLE></TITLE>\n</HEAD>\n<BODY>\n<h3>Just The Tip vs.
	 Rough Sets</h3>More info: <a href="https://www.golnetwork.com/game/v/75918
	/">#146</a>\n\n</BODY>\n</HTML>
STATUS:CONFIRMED
CLASS:PUBLIC
URL:https://www.golnetwork.com/game/v/75918/
X-MICROSOFT-CDO-BUSYSTATUS:BUSY
X-MICROSOFT-CDO-IMPORTANCE:1
END:VEVENT
BEGIN:VEVENT
UID:g7lp1@games.golnetwork.com
LOCATION:Fieldhouse D
GEO:45.10662;-94.578209
CREATED:20150921T152413Z
DTSTART:20151023T013000Z
DTEND:20151023T023000Z
DTSTAMP:20260422T140644Z
SUMMARY:Sons of Beaches vs. Just The Tip
DESCRIPTION:Just The Tip vs. Sons of BeachesMore info: #112
X-ALT-DESC;FMTTYPE=text/html:<!DOCTYPE HTML PUBLIC "-//W3C//DTD HTML 3.2//E
	N">\n<HTML>\n<HEAD>\n<TITLE></TITLE>\n</HEAD>\n<BODY>\n<h3>Just The Tip vs.
	 Sons of Beaches</h3>More info: <a href="https://www.golnetwork.com/game/v/
	75884/">#112</a>\n\n</BODY>\n</HTML>
STATUS:CONFIRMED
CLASS:PUBLIC
URL:https://www.golnetwork.com/game/v/75884/
X-MICROSOFT-CDO-BUSYSTATUS:BUSY
X-MICROSOFT-CDO-IMPORTANCE:1
END:VEVENT
BEGIN:VEVENT
UID:g7ln1@games.golnetwork.com
LOCATION:Fieldhouse C
GEO:45.10662;-94.578209
CREATED:20150921T152411Z
DTSTART:20151014T003000Z
DTEND:20151014T013000Z
DTSTAMP:20260422T140644Z
SUMMARY:That's What She Set (CRA) vs. Just The Tip
DESCRIPTION:Just The Tip vs. That's What She Set (CRA)More info: #85
X-ALT-DESC;FMTTYPE=text/html:<!DOCTYPE HTML PUBLIC "-//W3C//DTD HTML 3.2//E
	N">\n<HTML>\n<HEAD>\n<TITLE></TITLE>\n</HEAD>\n<BODY>\n<h3>Just The Tip vs.
	 That's What She Set (CRA)</h3>More info: <a href="https://www.golnetwork.c
	om/game/v/75857/">#85</a>\n\n</BODY>\n</HTML>
STATUS:CONFIRMED
CLASS:PUBLIC
URL:https://www.golnetwork.com/game/v/75857/
X-MICROSOFT-CDO-BUSYSTATUS:BUSY
X-MICROSOFT-CDO-IMPORTANCE:1
END:VEVENT
BEGIN:VEVENT
UID:g7ll7@games.golnetwork.com
LOCATION:Fieldhouse C
GEO:45.10662;-94.578209
CREATED:20150921T152410Z
DTSTART:20151007T003000Z
DTEND:20151007T013000Z
DTSTAMP:20260422T140644Z
SUMMARY:Rough Sets vs. Just The Tip
DESCRIPTION:Just The Tip vs. Rough SetsMore info: #61
X-ALT-DESC;FMTTYPE=text/html:<!DOCTYPE HTML PUBLIC "-//W3C//DTD HTML 3.2//E
	N">\n<HTML>\n<HEAD>\n<TITLE></TITLE>\n</HEAD>\n<BODY>\n<h3>Just The Tip vs.
	 Rough Sets</h3>More info: <a href="https://www.golnetwork.com/game/v/75833
	/">#61</a>\n\n</BODY>\n</HTML>
STATUS:CONFIRMED
CLASS:PUBLIC
URL:https://www.golnetwork.com/game/v/75833/
X-MICROSOFT-CDO-BUSYSTATUS:BUSY
X-MICROSOFT-CDO-IMPORTANCE:1
END:VEVENT
BEGIN:VEVENT
UID:g7ljb@games.golnetwork.com
LOCATION:Fieldhouse D
GEO:45.10662;-94.578209
CREATED:20150921T152410Z
DTSTART:20150929T233000Z
DTEND:20150930T003000Z
DTSTAMP:20260422T140644Z
SUMMARY:Sons of Beaches vs. Just The Tip
DESCRIPTION:Just The Tip vs. Sons of BeachesMore info: #36
X-ALT-DESC;FMTTYPE=text/html:<!DOCTYPE HTML PUBLIC "-//W3C//DTD HTML 3.2//E
	N">\n<HTML>\n<HEAD>\n<TITLE></TITLE>\n</HEAD>\n<BODY>\n<h3>Just The Tip vs.
	 Sons of Beaches</h3>More info: <a href="https://www.golnetwork.com/game/v/
	75808/">#36</a>\n\n</BODY>\n</HTML>
STATUS:CONFIRMED
CLASS:PUBLIC
URL:https://www.golnetwork.com/game/v/75808/
X-MICROSOFT-CDO-BUSYSTATUS:BUSY
X-MICROSOFT-CDO-IMPORTANCE:1
END:VEVENT
BEGIN:VEVENT
UID:g7lgm@games.golnetwork.com
LOCATION:Fieldhouse C
GEO:45.10662;-94.578209
CREATED:20150921T152407Z
DTSTART:20150922T223000Z
DTEND:20150922T233000Z
DTSTAMP:20260422T140644Z
SUMMARY:That's What She Set (CRA) vs. Just The Tip
DESCRIPTION:Just The Tip vs. That's What She Set (CRA)More info: #1
X-ALT-DESC;FMTTYPE=text/html:<!DOCTYPE HTML PUBLIC "-//W3C//DTD HTML 3.2//E
	N">\n<HTML>\n<HEAD>\n<TITLE></TITLE>\n</HEAD>\n<BODY>\n<h3>Just The Tip vs.
	 That's What She Set (CRA)</h3>More info: <a href="https://www.golnetwork.c
	om/game/v/75773/">#1</a>\n\n</BODY>\n</HTML>
STATUS:CONFIRMED
CLASS:PUBLIC
URL:https://www.golnetwork.com/game/v/75773/
X-MICROSOFT-CDO-BUSYSTATUS:BUSY
X-MICROSOFT-CDO-IMPORTANCE:1
END:VEVENT
END:VCALENDAR
