BEGIN:VCALENDAR
PRODID:-//gdesolutions.com//MV Framework 1.0.0.1607 Calendar//EN
VERSION:2.0
METHOD:PUBLISH
CALSCALE:GREGORIAN
BEGIN:VEVENT
UID:g99l5@games.golnetwork.com
LOCATION:Central Tech - Field 3
CREATED:20160804T155609Z
DTSTART:20161012T000000Z
DTEND:20161012T005500Z
DTSTAMP:20260423T031809Z
SUMMARY:Tuesday Team vs. Friendship United FC
DESCRIPTION:Friendship United FC vs. Tuesday TeamMore info: #665
X-ALT-DESC;FMTTYPE=text/html:<!DOCTYPE HTML PUBLIC "-//W3C//DTD HTML 3.2//E
	N">\n<HTML>\n<HEAD>\n<TITLE></TITLE>\n</HEAD>\n<BODY>\n<h3>Friendship Unite
	d FC vs. Tuesday Team</h3>More info: <a href="https://www.golnetwork.com/ga
	me/v/91141/">#665</a>\n\n</BODY>\n</HTML>
STATUS:CONFIRMED
CLASS:PUBLIC
URL:https://www.golnetwork.com/game/v/91141/
X-MICROSOFT-CDO-BUSYSTATUS:BUSY
X-MICROSOFT-CDO-IMPORTANCE:1
END:VEVENT
BEGIN:VEVENT
UID:g99l1@games.golnetwork.com
LOCATION:Central Tech - Field 3
CREATED:20160804T155609Z
DTSTART:20161004T230000Z
DTEND:20161004T235500Z
DTSTAMP:20260423T031809Z
SUMMARY:Friendship United FC vs. Surfing Llamas
DESCRIPTION:Surfing Llamas vs. Friendship United FCMore info: #644
X-ALT-DESC;FMTTYPE=text/html:<!DOCTYPE HTML PUBLIC "-//W3C//DTD HTML 3.2//E
	N">\n<HTML>\n<HEAD>\n<TITLE></TITLE>\n</HEAD>\n<BODY>\n<h3>Surfing Llamas v
	s. Friendship United FC</h3>More info: <a href="https://www.golnetwork.com/
	game/v/91139/">#644</a>\n\n</BODY>\n</HTML>
STATUS:CONFIRMED
CLASS:PUBLIC
URL:https://www.golnetwork.com/game/v/91139/
X-MICROSOFT-CDO-BUSYSTATUS:BUSY
X-MICROSOFT-CDO-IMPORTANCE:1
END:VEVENT
BEGIN:VEVENT
UID:g99kq@games.golnetwork.com
LOCATION:Central Tech - Field 3
CREATED:20160804T155609Z
DTSTART:20160928T020000Z
DTEND:20160928T025500Z
DTSTAMP:20260423T031809Z
SUMMARY:Abe Froman and the Blue Coalition to Save Ferris vs. Friendship Uni
	ted FC
DESCRIPTION:Friendship United FC vs. Abe Froman and the Blue Coalition to S
	ave FerrisMore info: #593
X-ALT-DESC;FMTTYPE=text/html:<!DOCTYPE HTML PUBLIC "-//W3C//DTD HTML 3.2//E
	N">\n<HTML>\n<HEAD>\n<TITLE></TITLE>\n</HEAD>\n<BODY>\n<h3>Friendship Unite
	d FC vs. Abe Froman and the Blue Coalition to Save Ferris</h3>More info: <a
	 href="https://www.golnetwork.com/game/v/91138/">#593</a>\n\n</BODY>\n</HTM
	L>
STATUS:CONFIRMED
CLASS:PUBLIC
URL:https://www.golnetwork.com/game/v/91138/
X-MICROSOFT-CDO-BUSYSTATUS:BUSY
X-MICROSOFT-CDO-IMPORTANCE:1
END:VEVENT
END:VCALENDAR
