BEGIN:VCALENDAR
PRODID:-//gdesolutions.com//MV Framework 1.0.0.1607 Calendar//EN
VERSION:2.0
METHOD:PUBLISH
CALSCALE:GREGORIAN
BEGIN:VEVENT
UID:g99l5@games.golnetwork.com
LOCATION:Central Tech - Field 3
CREATED:20160804T155609Z
DTSTART:20161012T000000Z
DTEND:20161012T005500Z
DTSTAMP:20260422T071551Z
SUMMARY:Tuesday Team vs. Friendship United FC
DESCRIPTION:Friendship United FC vs. Tuesday TeamMore info: #665
X-ALT-DESC;FMTTYPE=text/html:<!DOCTYPE HTML PUBLIC "-//W3C//DTD HTML 3.2//E
	N">\n<HTML>\n<HEAD>\n<TITLE></TITLE>\n</HEAD>\n<BODY>\n<h3>Friendship Unite
	d FC vs. Tuesday Team</h3>More info: <a href="https://www.golnetwork.com/ga
	me/v/91141/">#665</a>\n\n</BODY>\n</HTML>
STATUS:CONFIRMED
CLASS:PUBLIC
URL:https://www.golnetwork.com/game/v/91141/
X-MICROSOFT-CDO-BUSYSTATUS:BUSY
X-MICROSOFT-CDO-IMPORTANCE:1
END:VEVENT
BEGIN:VEVENT
UID:g99l3@games.golnetwork.com
LOCATION:Central Tech - Field 3
CREATED:20160804T155609Z
DTSTART:20161005T000000Z
DTEND:20161005T005500Z
DTSTAMP:20260422T071551Z
SUMMARY:Tuesday Team vs. Footie Fetish
DESCRIPTION:Footie Fetish vs. Tuesday TeamMore info: #645
X-ALT-DESC;FMTTYPE=text/html:<!DOCTYPE HTML PUBLIC "-//W3C//DTD HTML 3.2//E
	N">\n<HTML>\n<HEAD>\n<TITLE></TITLE>\n</HEAD>\n<BODY>\n<h3>Footie Fetish vs
	. Tuesday Team</h3>More info: <a href="https://www.golnetwork.com/game/v/91
	140/">#645</a>\n\n</BODY>\n</HTML>
STATUS:CONFIRMED
CLASS:PUBLIC
URL:https://www.golnetwork.com/game/v/91140/
X-MICROSOFT-CDO-BUSYSTATUS:BUSY
X-MICROSOFT-CDO-IMPORTANCE:1
END:VEVENT
BEGIN:VEVENT
UID:g99km@games.golnetwork.com
LOCATION:Central Tech - Field 3
CREATED:20160804T155609Z
DTSTART:20160928T000000Z
DTEND:20160928T005500Z
DTSTAMP:20260422T071551Z
SUMMARY:Tuesday Team vs. Gravy Train
DESCRIPTION:Gravy Train vs. Tuesday TeamMore info: #591
X-ALT-DESC;FMTTYPE=text/html:<!DOCTYPE HTML PUBLIC "-//W3C//DTD HTML 3.2//E
	N">\n<HTML>\n<HEAD>\n<TITLE></TITLE>\n</HEAD>\n<BODY>\n<h3>Gravy Train vs. 
	Tuesday Team</h3>More info: <a href="https://www.golnetwork.com/game/v/9113
	6/">#591</a>\n\n</BODY>\n</HTML>
STATUS:CONFIRMED
CLASS:PUBLIC
URL:https://www.golnetwork.com/game/v/91136/
X-MICROSOFT-CDO-BUSYSTATUS:BUSY
X-MICROSOFT-CDO-IMPORTANCE:1
END:VEVENT
END:VCALENDAR
