BEGIN:VCALENDAR
PRODID:-//gdesolutions.com//MV Framework 1.0.0.1607 Calendar//EN
VERSION:2.0
METHOD:PUBLISH
CALSCALE:GREGORIAN
BEGIN:VEVENT
UID:ga5c5@games.golnetwork.com
LOCATION:Central Tech - Field 1
GEO:43.6637272;-79.4087613
CREATED:20161231T024456Z
DTSTART:20170303T030000Z
DTEND:20170303T035000Z
DTSTAMP:20260422T083152Z
SUMMARY:Papa Barone & the Good Time Gang vs. All City FC
DESCRIPTION:All City FC vs. Papa Barone & the Good Time GangMore info: #541
X-ALT-DESC;FMTTYPE=text/html:<!DOCTYPE HTML PUBLIC "-//W3C//DTD HTML 3.2//E
	N">\n<HTML>\n<HEAD>\n<TITLE></TITLE>\n</HEAD>\n<BODY>\n<h3>All City FC vs. 
	Papa Barone & the Good Time Gang</h3>More info: <a href="https://www.golnet
	work.com/game/v/99403/">#541</a>\n\n</BODY>\n</HTML>
STATUS:CONFIRMED
CLASS:PUBLIC
URL:https://www.golnetwork.com/game/v/99403/
X-MICROSOFT-CDO-BUSYSTATUS:BUSY
X-MICROSOFT-CDO-IMPORTANCE:1
END:VEVENT
BEGIN:VEVENT
UID:ga5bk@games.golnetwork.com
LOCATION:Central Tech - Field 1
GEO:43.6637272;-79.4087613
CREATED:20161231T024354Z
DTSTART:20170217T020000Z
DTEND:20170217T025000Z
DTSTAMP:20260422T083152Z
SUMMARY:XTSC Loungers vs. All City FC
DESCRIPTION:All City FC vs. XTSC LoungersMore info: #413
X-ALT-DESC;FMTTYPE=text/html:<!DOCTYPE HTML PUBLIC "-//W3C//DTD HTML 3.2//E
	N">\n<HTML>\n<HEAD>\n<TITLE></TITLE>\n</HEAD>\n<BODY>\n<h3>All City FC vs. 
	XTSC Loungers</h3>More info: <a href="https://www.golnetwork.com/game/v/993
	97/">#413</a>\n\n</BODY>\n</HTML>
STATUS:CONFIRMED
CLASS:PUBLIC
URL:https://www.golnetwork.com/game/v/99397/
X-MICROSOFT-CDO-BUSYSTATUS:BUSY
X-MICROSOFT-CDO-IMPORTANCE:1
END:VEVENT
BEGIN:VEVENT
UID:ga5be@games.golnetwork.com
LOCATION:Central Tech - Field 2
GEO:43.6637272;-79.4087613
CREATED:20161231T024314Z
DTSTART:20170210T030000Z
DTEND:20170210T035000Z
DTSTAMP:20260422T083152Z
SUMMARY:Superbad FC vs. All City FC
DESCRIPTION:All City FC vs. Superbad FCMore info: #337
X-ALT-DESC;FMTTYPE=text/html:<!DOCTYPE HTML PUBLIC "-//W3C//DTD HTML 3.2//E
	N">\n<HTML>\n<HEAD>\n<TITLE></TITLE>\n</HEAD>\n<BODY>\n<h3>All City FC vs. 
	Superbad FC</h3>More info: <a href="https://www.golnetwork.com/game/v/99394
	/">#337</a>\n\n</BODY>\n</HTML>
STATUS:CONFIRMED
CLASS:PUBLIC
URL:https://www.golnetwork.com/game/v/99394/
X-MICROSOFT-CDO-BUSYSTATUS:BUSY
X-MICROSOFT-CDO-IMPORTANCE:1
END:VEVENT
BEGIN:VEVENT
UID:ga5b6@games.golnetwork.com
LOCATION:Central Tech - Field 1
GEO:43.6637272;-79.4087613
CREATED:20161231T024228Z
DTSTART:20170203T030000Z
DTEND:20170203T035000Z
DTSTAMP:20260422T083152Z
SUMMARY:Pathetic Athletic vs. All City FC
DESCRIPTION:All City FC vs. Pathetic AthleticMore info: #255
X-ALT-DESC;FMTTYPE=text/html:<!DOCTYPE HTML PUBLIC "-//W3C//DTD HTML 3.2//E
	N">\n<HTML>\n<HEAD>\n<TITLE></TITLE>\n</HEAD>\n<BODY>\n<h3>All City FC vs. 
	Pathetic Athletic</h3>More info: <a href="https://www.golnetwork.com/game/v
	/99390/">#255</a>\n\n</BODY>\n</HTML>
STATUS:CONFIRMED
CLASS:PUBLIC
URL:https://www.golnetwork.com/game/v/99390/
X-MICROSOFT-CDO-BUSYSTATUS:BUSY
X-MICROSOFT-CDO-IMPORTANCE:1
END:VEVENT
BEGIN:VEVENT
UID:ga5an@games.golnetwork.com
LOCATION:Central Tech - Field 1
GEO:43.6637272;-79.4087613
CREATED:20161231T024130Z
DTSTART:20170127T030000Z
DTEND:20170127T035000Z
DTSTAMP:20260422T083152Z
SUMMARY:Papa Barone & the Good Time Gang vs. All City FC
DESCRIPTION:All City FC vs. Papa Barone & the Good Time GangMore info: #182
X-ALT-DESC;FMTTYPE=text/html:<!DOCTYPE HTML PUBLIC "-//W3C//DTD HTML 3.2//E
	N">\n<HTML>\n<HEAD>\n<TITLE></TITLE>\n</HEAD>\n<BODY>\n<h3>All City FC vs. 
	Papa Barone & the Good Time Gang</h3>More info: <a href="https://www.golnet
	work.com/game/v/99385/">#182</a>\n\n</BODY>\n</HTML>
STATUS:CONFIRMED
CLASS:PUBLIC
URL:https://www.golnetwork.com/game/v/99385/
X-MICROSOFT-CDO-BUSYSTATUS:BUSY
X-MICROSOFT-CDO-IMPORTANCE:1
END:VEVENT
BEGIN:VEVENT
UID:ga5ad@games.golnetwork.com
LOCATION:Central Tech - Field 1
GEO:43.6637272;-79.4087613
CREATED:20161231T024033Z
DTSTART:20170120T010000Z
DTEND:20170120T015000Z
DTSTAMP:20260422T083152Z
SUMMARY:Offsiders FC vs. All City FC
DESCRIPTION:All City FC vs. Offsiders FCMore info: #124
X-ALT-DESC;FMTTYPE=text/html:<!DOCTYPE HTML PUBLIC "-//W3C//DTD HTML 3.2//E
	N">\n<HTML>\n<HEAD>\n<TITLE></TITLE>\n</HEAD>\n<BODY>\n<h3>All City FC vs. 
	Offsiders FC</h3>More info: <a href="https://www.golnetwork.com/game/v/9938
	0/">#124</a>\n\n</BODY>\n</HTML>
STATUS:CONFIRMED
CLASS:PUBLIC
URL:https://www.golnetwork.com/game/v/99380/
X-MICROSOFT-CDO-BUSYSTATUS:BUSY
X-MICROSOFT-CDO-IMPORTANCE:1
END:VEVENT
BEGIN:VEVENT
UID:ga5ab@games.golnetwork.com
LOCATION:Central Tech - Field 2
GEO:43.6637272;-79.4087613
CREATED:20161231T024018Z
DTSTART:20170113T040000Z
DTEND:20170113T045000Z
DTSTAMP:20260422T083152Z
SUMMARY:Bonafide FC vs. All City FC
DESCRIPTION:All City FC vs. Bonafide FCMore info: #84
X-ALT-DESC;FMTTYPE=text/html:<!DOCTYPE HTML PUBLIC "-//W3C//DTD HTML 3.2//E
	N">\n<HTML>\n<HEAD>\n<TITLE></TITLE>\n</HEAD>\n<BODY>\n<h3>All City FC vs. 
	Bonafide FC</h3>More info: <a href="https://www.golnetwork.com/game/v/99379
	/">#84</a>\n\n</BODY>\n</HTML>
STATUS:CONFIRMED
CLASS:PUBLIC
URL:https://www.golnetwork.com/game/v/99379/
X-MICROSOFT-CDO-BUSYSTATUS:BUSY
X-MICROSOFT-CDO-IMPORTANCE:1
END:VEVENT
BEGIN:VEVENT
UID:ga5a3@games.golnetwork.com
LOCATION:Central Tech - Field 1
GEO:43.6637272;-79.4087613
CREATED:20161231T023552Z
DTSTART:20170106T040000Z
DTEND:20170106T045000Z
DTSTAMP:20260422T083152Z
SUMMARY:Chimichurris vs. All City FC
DESCRIPTION:All City FC vs. ChimichurrisMore info: #37
X-ALT-DESC;FMTTYPE=text/html:<!DOCTYPE HTML PUBLIC "-//W3C//DTD HTML 3.2//E
	N">\n<HTML>\n<HEAD>\n<TITLE></TITLE>\n</HEAD>\n<BODY>\n<h3>All City FC vs. 
	Chimichurris</h3>More info: <a href="https://www.golnetwork.com/game/v/9937
	5/">#37</a>\n\n</BODY>\n</HTML>
STATUS:CONFIRMED
CLASS:PUBLIC
URL:https://www.golnetwork.com/game/v/99375/
X-MICROSOFT-CDO-BUSYSTATUS:BUSY
X-MICROSOFT-CDO-IMPORTANCE:1
END:VEVENT
END:VCALENDAR
