BEGIN:VCALENDAR
PRODID:-//gdesolutions.com//MV Framework 1.0.0.1607 Calendar//EN
VERSION:2.0
METHOD:PUBLISH
CALSCALE:GREGORIAN
BEGIN:VEVENT
UID:g8fcb@games.golnetwork.com
LOCATION:Monarch Park Stadium - Field 3
GEO:43.6792789;-79.3234873
CREATED:20160121T195456Z
DTSTART:20160312T020000Z
DTEND:20160312T030000Z
DTSTAMP:20260422T034840Z
SUMMARY:Liberty Celtic vs. XTSC Internationals
DESCRIPTION:XTSC Internationals vs. Liberty CelticMore info: #65
X-ALT-DESC;FMTTYPE=text/html:<!DOCTYPE HTML PUBLIC "-//W3C//DTD HTML 3.2//E
	N">\n<HTML>\n<HEAD>\n<TITLE></TITLE>\n</HEAD>\n<BODY>\n<h3>XTSC Internation
	als vs. Liberty Celtic</h3>More info: <a href="https://www.golnetwork.com/g
	ame/v/83368/">#65</a>\n\n</BODY>\n</HTML>
STATUS:CONFIRMED
CLASS:PUBLIC
URL:https://www.golnetwork.com/game/v/83368/
X-MICROSOFT-CDO-BUSYSTATUS:BUSY
X-MICROSOFT-CDO-IMPORTANCE:1
END:VEVENT
END:VCALENDAR
