BEGIN:VCALENDAR
PRODID:-//gdesolutions.com//MV Framework 1.0.0.1607 Calendar//EN
VERSION:2.0
METHOD:PUBLISH
CALSCALE:GREGORIAN
BEGIN:VEVENT
UID:g8kka@games.golnetwork.com
LOCATION:Louis Riel #2
GEO:45.4410208;-75.5715394
CREATED:20160329T181647Z
DTSTART:20160421T230000Z
DTEND:20160421T235000Z
DTSTAMP:20260421T015322Z
SUMMARY:Red Chili Peppers vs. Ineedasub FC
DESCRIPTION:Ineedasub FC vs. Red Chili PeppersMore info: #32
X-ALT-DESC;FMTTYPE=text/html:<!DOCTYPE HTML PUBLIC "-//W3C//DTD HTML 3.2//E
	N">\n<HTML>\n<HEAD>\n<TITLE></TITLE>\n</HEAD>\n<BODY>\n<h3>Ineedasub FC vs.
	 Red Chili Peppers</h3>More info: <a href="https://www.golnetwork.com/game/
	v/85298/">#32</a>\n\n</BODY>\n</HTML>
STATUS:CONFIRMED
CLASS:PUBLIC
URL:https://www.golnetwork.com/game/v/85298/
X-MICROSOFT-CDO-BUSYSTATUS:BUSY
X-MICROSOFT-CDO-IMPORTANCE:1
END:VEVENT
BEGIN:VEVENT
UID:g8kjn@games.golnetwork.com
LOCATION:Hornet's Nest #2
GEO:45.4428309;-75.575268
CREATED:20160329T181646Z
DTSTART:20160414T223000Z
DTEND:20160414T232000Z
DTSTAMP:20260421T015322Z
SUMMARY:Red Chili Peppers vs. Winded FC
DESCRIPTION:Winded FC vs. Red Chili PeppersMore info: #41
X-ALT-DESC;FMTTYPE=text/html:<!DOCTYPE HTML PUBLIC "-//W3C//DTD HTML 3.2//E
	N">\n<HTML>\n<HEAD>\n<TITLE></TITLE>\n</HEAD>\n<BODY>\n<h3>Winded FC vs. Re
	d Chili Peppers</h3>More info: <a href="https://www.golnetwork.com/game/v/8
	5291/">#41</a>\n\n</BODY>\n</HTML>
STATUS:CONFIRMED
CLASS:PUBLIC
URL:https://www.golnetwork.com/game/v/85291/
X-MICROSOFT-CDO-BUSYSTATUS:BUSY
X-MICROSOFT-CDO-IMPORTANCE:1
END:VEVENT
BEGIN:VEVENT
UID:g8kii@games.golnetwork.com
LOCATION:Hornet's Nest #2
GEO:45.4428309;-75.575268
CREATED:20160329T181646Z
DTSTART:20160407T223000Z
DTEND:20160407T232000Z
DTSTAMP:20260421T015322Z
SUMMARY:The All-Stars vs. Red Chili Peppers
DESCRIPTION:Red Chili Peppers vs. The All-StarsMore info: #25
X-ALT-DESC;FMTTYPE=text/html:<!DOCTYPE HTML PUBLIC "-//W3C//DTD HTML 3.2//E
	N">\n<HTML>\n<HEAD>\n<TITLE></TITLE>\n</HEAD>\n<BODY>\n<h3>Red Chili Pepper
	s vs. The All-Stars</h3>More info: <a href="https://www.golnetwork.com/game
	/v/85275/">#25</a>\n\n</BODY>\n</HTML>
STATUS:CONFIRMED
CLASS:PUBLIC
URL:https://www.golnetwork.com/game/v/85275/
X-MICROSOFT-CDO-BUSYSTATUS:BUSY
X-MICROSOFT-CDO-IMPORTANCE:1
END:VEVENT
BEGIN:VEVENT
UID:g8i2a@games.golnetwork.com
LOCATION:Louis Riel #3
GEO:45.4410208;-75.5715394
CREATED:20160301T211223Z
DTSTART:20160325T003000Z
DTEND:20160325T012000Z
DTSTAMP:20260421T015322Z
SUMMARY:Red Chili Peppers vs. Real Ale Madrid
DESCRIPTION:Real Ale Madrid vs. Red Chili PeppersMore info: #40
X-ALT-DESC;FMTTYPE=text/html:<!DOCTYPE HTML PUBLIC "-//W3C//DTD HTML 3.2//E
	N">\n<HTML>\n<HEAD>\n<TITLE></TITLE>\n</HEAD>\n<BODY>\n<h3>Real Ale Madrid 
	vs. Red Chili Peppers</h3>More info: <a href="https://www.golnetwork.com/ga
	me/v/84326/">#40</a>\n\n</BODY>\n</HTML>
STATUS:CONFIRMED
CLASS:PUBLIC
URL:https://www.golnetwork.com/game/v/84326/
X-MICROSOFT-CDO-BUSYSTATUS:BUSY
X-MICROSOFT-CDO-IMPORTANCE:1
END:VEVENT
BEGIN:VEVENT
UID:g8i1b@games.golnetwork.com
LOCATION:Louis Riel #2
GEO:45.4410208;-75.5715394
CREATED:20160301T211223Z
DTSTART:20160318T020000Z
DTEND:20160318T025000Z
DTSTAMP:20260421T015322Z
SUMMARY:Junkyard Dogs vs. Red Chili Peppers
DESCRIPTION:Red Chili Peppers vs. Junkyard DogsMore info: #27
X-ALT-DESC;FMTTYPE=text/html:<!DOCTYPE HTML PUBLIC "-//W3C//DTD HTML 3.2//E
	N">\n<HTML>\n<HEAD>\n<TITLE></TITLE>\n</HEAD>\n<BODY>\n<h3>Red Chili Pepper
	s vs. Junkyard Dogs</h3>More info: <a href="https://www.golnetwork.com/game
	/v/84313/">#27</a>\n\n</BODY>\n</HTML>
STATUS:CONFIRMED
CLASS:PUBLIC
URL:https://www.golnetwork.com/game/v/84313/
X-MICROSOFT-CDO-BUSYSTATUS:BUSY
X-MICROSOFT-CDO-IMPORTANCE:1
END:VEVENT
BEGIN:VEVENT
UID:g8i15@games.golnetwork.com
LOCATION:Louis Riel #2
GEO:45.4410208;-75.5715394
CREATED:20160301T211223Z
DTSTART:20160318T010000Z
DTEND:20160318T015000Z
DTSTAMP:20260421T015322Z
SUMMARY:Feedbag vs. Red Chili Peppers
DESCRIPTION:Red Chili Peppers vs. FeedbagMore info: #24
X-ALT-DESC;FMTTYPE=text/html:<!DOCTYPE HTML PUBLIC "-//W3C//DTD HTML 3.2//E
	N">\n<HTML>\n<HEAD>\n<TITLE></TITLE>\n</HEAD>\n<BODY>\n<h3>Red Chili Pepper
	s vs. Feedbag</h3>More info: <a href="https://www.golnetwork.com/game/v/843
	10/">#24</a>\n\n</BODY>\n</HTML>
STATUS:CONFIRMED
CLASS:PUBLIC
URL:https://www.golnetwork.com/game/v/84310/
X-MICROSOFT-CDO-BUSYSTATUS:BUSY
X-MICROSOFT-CDO-IMPORTANCE:1
END:VEVENT
BEGIN:VEVENT
UID:g8i0m@games.golnetwork.com
LOCATION:Lees Dome Field #3
GEO:45.415776;-75.6684899
CREATED:20160301T211223Z
DTSTART:20160311T000000Z
DTEND:20160311T005000Z
DTSTAMP:20260421T015322Z
SUMMARY:Faux Paw FC vs. Red Chili Peppers
DESCRIPTION:Red Chili Peppers vs. Faux Paw FCMore info: #19
X-ALT-DESC;FMTTYPE=text/html:<!DOCTYPE HTML PUBLIC "-//W3C//DTD HTML 3.2//E
	N">\n<HTML>\n<HEAD>\n<TITLE></TITLE>\n</HEAD>\n<BODY>\n<h3>Red Chili Pepper
	s vs. Faux Paw FC</h3>More info: <a href="https://www.golnetwork.com/game/v
	/84305/">#19</a>\n\n</BODY>\n</HTML>
STATUS:CONFIRMED
CLASS:PUBLIC
URL:https://www.golnetwork.com/game/v/84305/
X-MICROSOFT-CDO-BUSYSTATUS:BUSY
X-MICROSOFT-CDO-IMPORTANCE:1
END:VEVENT
BEGIN:VEVENT
UID:g8hn8@games.golnetwork.com
LOCATION:Hornet's Nest #2
GEO:45.4428309;-75.575268
CREATED:20160301T032231Z
DTSTART:20160304T033000Z
DTEND:20160304T042000Z
DTSTAMP:20260421T015322Z
SUMMARY:Red Chili Peppers vs. Death before Decaf
DESCRIPTION:Death before Decaf vs. Red Chili PeppersMore info: #14
X-ALT-DESC;FMTTYPE=text/html:<!DOCTYPE HTML PUBLIC "-//W3C//DTD HTML 3.2//E
	N">\n<HTML>\n<HEAD>\n<TITLE></TITLE>\n</HEAD>\n<BODY>\n<h3>Death before Dec
	af vs. Red Chili Peppers</h3>More info: <a href="https://www.golnetwork.com
	/game/v/84244/">#14</a>\n\n</BODY>\n</HTML>
STATUS:CONFIRMED
CLASS:PUBLIC
URL:https://www.golnetwork.com/game/v/84244/
X-MICROSOFT-CDO-BUSYSTATUS:BUSY
X-MICROSOFT-CDO-IMPORTANCE:1
END:VEVENT
END:VCALENDAR
