BEGIN:VCALENDAR
PRODID:-//gdesolutions.com//MV Framework 1.0.0.1607 Calendar//EN
VERSION:2.0
METHOD:PUBLISH
CALSCALE:GREGORIAN
BEGIN:VEVENT
UID:g8okk@games.golnetwork.com
LOCATION:Louis Riel #2
GEO:45.4410208;-75.5715394
CREATED:20160425T054911Z
DTSTART:20160429T020000Z
DTEND:20160429T025000Z
DTSTAMP:20260422T162818Z
SUMMARY:Flamingos vs. Who is Next?
DESCRIPTION:Who is Next? vs. FlamingosMore info: #144
X-ALT-DESC;FMTTYPE=text/html:<!DOCTYPE HTML PUBLIC "-//W3C//DTD HTML 3.2//E
	N">\n<HTML>\n<HEAD>\n<TITLE></TITLE>\n</HEAD>\n<BODY>\n<h3>Who is Next? vs.
	 Flamingos</h3>More info: <a href="https://www.golnetwork.com/game/v/86761/
	">#144</a>\n\n</BODY>\n</HTML>
STATUS:CONFIRMED
CLASS:PUBLIC
URL:https://www.golnetwork.com/game/v/86761/
X-MICROSOFT-CDO-BUSYSTATUS:BUSY
X-MICROSOFT-CDO-IMPORTANCE:1
END:VEVENT
BEGIN:VEVENT
UID:g8o7n@games.golnetwork.com
LOCATION:Louis Riel #3
GEO:45.4410208;-75.5715394
CREATED:20160418T050201Z
DTSTART:20160422T010000Z
DTEND:20160422T015000Z
DTSTAMP:20260422T162818Z
SUMMARY:50 Shades of Pink vs. Who is Next?
DESCRIPTION:Who is Next? vs. 50 Shades of PinkMore info: #123
X-ALT-DESC;FMTTYPE=text/html:<!DOCTYPE HTML PUBLIC "-//W3C//DTD HTML 3.2//E
	N">\n<HTML>\n<HEAD>\n<TITLE></TITLE>\n</HEAD>\n<BODY>\n<h3>Who is Next? vs.
	 50 Shades of Pink</h3>More info: <a href="https://www.golnetwork.com/game/
	v/86587/">#123</a>\n\n</BODY>\n</HTML>
STATUS:CONFIRMED
CLASS:PUBLIC
URL:https://www.golnetwork.com/game/v/86587/
X-MICROSOFT-CDO-BUSYSTATUS:BUSY
X-MICROSOFT-CDO-IMPORTANCE:1
END:VEVENT
BEGIN:VEVENT
UID:g8kjh@games.golnetwork.com
LOCATION:Louis Riel #3
GEO:45.4410208;-75.5715394
CREATED:20160329T181646Z
DTSTART:20160415T010000Z
DTEND:20160415T015000Z
DTSTAMP:20260422T162818Z
SUMMARY:Spartans FC vs. Who is Next?
DESCRIPTION:Who is Next? vs. Spartans FCMore info: #38
X-ALT-DESC;FMTTYPE=text/html:<!DOCTYPE HTML PUBLIC "-//W3C//DTD HTML 3.2//E
	N">\n<HTML>\n<HEAD>\n<TITLE></TITLE>\n</HEAD>\n<BODY>\n<h3>Who is Next? vs.
	 Spartans FC</h3>More info: <a href="https://www.golnetwork.com/game/v/8528
	8/">#38</a>\n\n</BODY>\n</HTML>
STATUS:CONFIRMED
CLASS:PUBLIC
URL:https://www.golnetwork.com/game/v/85288/
X-MICROSOFT-CDO-BUSYSTATUS:BUSY
X-MICROSOFT-CDO-IMPORTANCE:1
END:VEVENT
BEGIN:VEVENT
UID:g8kic@games.golnetwork.com
LOCATION:Louis Riel #3
GEO:45.4410208;-75.5715394
CREATED:20160329T181646Z
DTSTART:20160408T010000Z
DTEND:20160408T015000Z
DTSTAMP:20260422T162818Z
SUMMARY:Who is Next? vs. Precious Stars
DESCRIPTION:Precious Stars vs. Who is Next?More info: #22
X-ALT-DESC;FMTTYPE=text/html:<!DOCTYPE HTML PUBLIC "-//W3C//DTD HTML 3.2//E
	N">\n<HTML>\n<HEAD>\n<TITLE></TITLE>\n</HEAD>\n<BODY>\n<h3>Precious Stars v
	s. Who is Next?</h3>More info: <a href="https://www.golnetwork.com/game/v/8
	5272/">#22</a>\n\n</BODY>\n</HTML>
STATUS:CONFIRMED
CLASS:PUBLIC
URL:https://www.golnetwork.com/game/v/85272/
X-MICROSOFT-CDO-BUSYSTATUS:BUSY
X-MICROSOFT-CDO-IMPORTANCE:1
END:VEVENT
BEGIN:VEVENT
UID:g8khh@games.golnetwork.com
LOCATION:Louis Riel #3
GEO:45.4410208;-75.5715394
CREATED:20160329T181645Z
DTSTART:20160401T020000Z
DTEND:20160401T025000Z
DTSTAMP:20260422T162818Z
SUMMARY:Flamingos vs. Who is Next?
DESCRIPTION:Who is Next? vs. FlamingosMore info: #11
X-ALT-DESC;FMTTYPE=text/html:<!DOCTYPE HTML PUBLIC "-//W3C//DTD HTML 3.2//E
	N">\n<HTML>\n<HEAD>\n<TITLE></TITLE>\n</HEAD>\n<BODY>\n<h3>Who is Next? vs.
	 Flamingos</h3>More info: <a href="https://www.golnetwork.com/game/v/85261/
	">#11</a>\n\n</BODY>\n</HTML>
STATUS:CONFIRMED
CLASS:PUBLIC
URL:https://www.golnetwork.com/game/v/85261/
X-MICROSOFT-CDO-BUSYSTATUS:BUSY
X-MICROSOFT-CDO-IMPORTANCE:1
END:VEVENT
BEGIN:VEVENT
UID:g8i2g@games.golnetwork.com
LOCATION:Louis Riel #3
GEO:45.4410208;-75.5715394
CREATED:20160301T211223Z
DTSTART:20160325T013000Z
DTEND:20160325T022000Z
DTSTAMP:20260422T162818Z
SUMMARY:Spartans FC vs. Who is Next?
DESCRIPTION:Who is Next? vs. Spartans FCMore info: #43
X-ALT-DESC;FMTTYPE=text/html:<!DOCTYPE HTML PUBLIC "-//W3C//DTD HTML 3.2//E
	N">\n<HTML>\n<HEAD>\n<TITLE></TITLE>\n</HEAD>\n<BODY>\n<h3>Who is Next? vs.
	 Spartans FC</h3>More info: <a href="https://www.golnetwork.com/game/v/8432
	9/">#43</a>\n\n</BODY>\n</HTML>
STATUS:CONFIRMED
CLASS:PUBLIC
URL:https://www.golnetwork.com/game/v/84329/
X-MICROSOFT-CDO-BUSYSTATUS:BUSY
X-MICROSOFT-CDO-IMPORTANCE:1
END:VEVENT
BEGIN:VEVENT
UID:g8i17@games.golnetwork.com
LOCATION:Louis Riel #3
GEO:45.4410208;-75.5715394
CREATED:20160301T211223Z
DTSTART:20160318T013000Z
DTEND:20160318T022000Z
DTSTAMP:20260422T162818Z
SUMMARY:Who is Next? vs. Flamingos
DESCRIPTION:Flamingos vs. Who is Next?More info: #25
X-ALT-DESC;FMTTYPE=text/html:<!DOCTYPE HTML PUBLIC "-//W3C//DTD HTML 3.2//E
	N">\n<HTML>\n<HEAD>\n<TITLE></TITLE>\n</HEAD>\n<BODY>\n<h3>Flamingos vs. Wh
	o is Next?</h3>More info: <a href="https://www.golnetwork.com/game/v/84311/
	">#25</a>\n\n</BODY>\n</HTML>
STATUS:CONFIRMED
CLASS:PUBLIC
URL:https://www.golnetwork.com/game/v/84311/
X-MICROSOFT-CDO-BUSYSTATUS:BUSY
X-MICROSOFT-CDO-IMPORTANCE:1
END:VEVENT
BEGIN:VEVENT
UID:g8hqn@games.golnetwork.com
LOCATION:Louis Riel #3
GEO:45.4410208;-75.5715394
CREATED:20160301T211221Z
DTSTART:20160311T023000Z
DTEND:20160311T032000Z
DTSTAMP:20260422T162818Z
SUMMARY:Who is Next? vs. Precious Stars
DESCRIPTION:Precious Stars vs. Who is Next?More info: #6
X-ALT-DESC;FMTTYPE=text/html:<!DOCTYPE HTML PUBLIC "-//W3C//DTD HTML 3.2//E
	N">\n<HTML>\n<HEAD>\n<TITLE></TITLE>\n</HEAD>\n<BODY>\n<h3>Precious Stars v
	s. Who is Next?</h3>More info: <a href="https://www.golnetwork.com/game/v/8
	4292/">#6</a>\n\n</BODY>\n</HTML>
STATUS:CONFIRMED
CLASS:PUBLIC
URL:https://www.golnetwork.com/game/v/84292/
X-MICROSOFT-CDO-BUSYSTATUS:BUSY
X-MICROSOFT-CDO-IMPORTANCE:1
END:VEVENT
BEGIN:VEVENT
UID:g8il1@games.golnetwork.com
LOCATION:Louis Riel #3
GEO:45.4410208;-75.5715394
CREATED:20160304T181438Z
DTSTART:20160304T023000Z
DTEND:20160304T032000Z
DTSTAMP:20260422T162818Z
SUMMARY:Ottawa Victorious vs. Who is Next?
DESCRIPTION:Who is Next? vs. Ottawa VictoriousMore info: #6
X-ALT-DESC;FMTTYPE=text/html:<!DOCTYPE HTML PUBLIC "-//W3C//DTD HTML 3.2//E
	N">\n<HTML>\n<HEAD>\n<TITLE></TITLE>\n</HEAD>\n<BODY>\n<h3>Who is Next? vs.
	 Ottawa Victorious</h3>More info: <a href="https://www.golnetwork.com/game/
	v/84578/">#6</a>\n\n</BODY>\n</HTML>
STATUS:CONFIRMED
CLASS:PUBLIC
URL:https://www.golnetwork.com/game/v/84578/
X-MICROSOFT-CDO-BUSYSTATUS:BUSY
X-MICROSOFT-CDO-IMPORTANCE:1
END:VEVENT
END:VCALENDAR
