BEGIN:VCALENDAR
PRODID:-//gdesolutions.com//MV Framework 1.0.0.1607 Calendar//EN
VERSION:2.0
METHOD:PUBLISH
CALSCALE:GREGORIAN
BEGIN:VEVENT
UID:g8d4l@games.golnetwork.com
LOCATION:Lamport Stadium - Field 3
GEO:43.6390028;-79.4232104
CREATED:20160111T220952Z
DTSTART:20160409T190000Z
DTEND:20160409T200000Z
DTSTAMP:20260422T160746Z
SUMMARY:6ixSide FC vs. Balls
DESCRIPTION:Balls vs. 6ixSide FCMore info: #565
X-ALT-DESC;FMTTYPE=text/html:<!DOCTYPE HTML PUBLIC "-//W3C//DTD HTML 3.2//E
	N">\n<HTML>\n<HEAD>\n<TITLE></TITLE>\n</HEAD>\n<BODY>\n<h3>Balls vs. 6ixSid
	e FC</h3>More info: <a href="https://www.golnetwork.com/game/v/82536/">#565
	</a>\n\n</BODY>\n</HTML>
STATUS:CONFIRMED
CLASS:PUBLIC
URL:https://www.golnetwork.com/game/v/82536/
X-MICROSOFT-CDO-BUSYSTATUS:BUSY
X-MICROSOFT-CDO-IMPORTANCE:1
END:VEVENT
BEGIN:VEVENT
UID:g8d45@games.golnetwork.com
LOCATION:Lamport Stadium - Field 3
GEO:43.6390028;-79.4232104
CREATED:20160111T220803Z
DTSTART:20160319T170000Z
DTEND:20160319T180000Z
DTSTAMP:20260422T160746Z
SUMMARY:6ixSide FC vs. XTSC Loungers
DESCRIPTION:XTSC Loungers vs. 6ixSide FCMore info: #441
X-ALT-DESC;FMTTYPE=text/html:<!DOCTYPE HTML PUBLIC "-//W3C//DTD HTML 3.2//E
	N">\n<HTML>\n<HEAD>\n<TITLE></TITLE>\n</HEAD>\n<BODY>\n<h3>XTSC Loungers vs
	. 6ixSide FC</h3>More info: <a href="https://www.golnetwork.com/game/v/8252
	8/">#441</a>\n\n</BODY>\n</HTML>
STATUS:CONFIRMED
CLASS:PUBLIC
URL:https://www.golnetwork.com/game/v/82528/
X-MICROSOFT-CDO-BUSYSTATUS:BUSY
X-MICROSOFT-CDO-IMPORTANCE:1
END:VEVENT
BEGIN:VEVENT
UID:g8d41@games.golnetwork.com
LOCATION:Lamport Stadium - Field 3
GEO:43.6390028;-79.4232104
CREATED:20160111T220731Z
DTSTART:20160312T200000Z
DTEND:20160312T210000Z
DTSTAMP:20260422T160746Z
SUMMARY:Offsiders FC vs. 6ixSide FC
DESCRIPTION:6ixSide FC vs. Offsiders FCMore info: #400
X-ALT-DESC;FMTTYPE=text/html:<!DOCTYPE HTML PUBLIC "-//W3C//DTD HTML 3.2//E
	N">\n<HTML>\n<HEAD>\n<TITLE></TITLE>\n</HEAD>\n<BODY>\n<h3>6ixSide FC vs. O
	ffsiders FC</h3>More info: <a href="https://www.golnetwork.com/game/v/82526
	/">#400</a>\n\n</BODY>\n</HTML>
STATUS:CONFIRMED
CLASS:PUBLIC
URL:https://www.golnetwork.com/game/v/82526/
X-MICROSOFT-CDO-BUSYSTATUS:BUSY
X-MICROSOFT-CDO-IMPORTANCE:1
END:VEVENT
BEGIN:VEVENT
UID:g8d3e@games.golnetwork.com
LOCATION:Lamport Stadium - Field 3
GEO:43.6390028;-79.4232104
CREATED:20160111T220600Z
DTSTART:20160305T190000Z
DTEND:20160305T200000Z
DTSTAMP:20260422T160746Z
SUMMARY:XTSC Misfits vs. 6ixSide FC
DESCRIPTION:6ixSide FC vs. XTSC MisfitsMore info: #350
X-ALT-DESC;FMTTYPE=text/html:<!DOCTYPE HTML PUBLIC "-//W3C//DTD HTML 3.2//E
	N">\n<HTML>\n<HEAD>\n<TITLE></TITLE>\n</HEAD>\n<BODY>\n<h3>6ixSide FC vs. X
	TSC Misfits</h3>More info: <a href="https://www.golnetwork.com/game/v/82519
	/">#350</a>\n\n</BODY>\n</HTML>
STATUS:CONFIRMED
CLASS:PUBLIC
URL:https://www.golnetwork.com/game/v/82519/
X-MICROSOFT-CDO-BUSYSTATUS:BUSY
X-MICROSOFT-CDO-IMPORTANCE:1
END:VEVENT
BEGIN:VEVENT
UID:g8d32@games.golnetwork.com
LOCATION:Lamport Stadium - Field 3
GEO:43.6390028;-79.4232104
CREATED:20160111T215339Z
DTSTART:20160227T180000Z
DTEND:20160227T190000Z
DTSTAMP:20260422T160746Z
SUMMARY:FC Murricane vs. 6ixSide FC
DESCRIPTION:6ixSide FC vs. FC MurricaneMore info: #299
X-ALT-DESC;FMTTYPE=text/html:<!DOCTYPE HTML PUBLIC "-//W3C//DTD HTML 3.2//E
	N">\n<HTML>\n<HEAD>\n<TITLE></TITLE>\n</HEAD>\n<BODY>\n<h3>6ixSide FC vs. F
	C Murricane</h3>More info: <a href="https://www.golnetwork.com/game/v/82513
	/">#299</a>\n\n</BODY>\n</HTML>
STATUS:CONFIRMED
CLASS:PUBLIC
URL:https://www.golnetwork.com/game/v/82513/
X-MICROSOFT-CDO-BUSYSTATUS:BUSY
X-MICROSOFT-CDO-IMPORTANCE:1
END:VEVENT
BEGIN:VEVENT
UID:g8d2n@games.golnetwork.com
LOCATION:Lamport Stadium - Field 3
GEO:43.6390028;-79.4232104
CREATED:20160111T215120Z
DTSTART:20160220T200000Z
DTEND:20160220T210000Z
DTSTAMP:20260422T160746Z
SUMMARY:Team Nice Friends vs. 6ixSide FC
DESCRIPTION:6ixSide FC vs. Team Nice FriendsMore info: #253
X-ALT-DESC;FMTTYPE=text/html:<!DOCTYPE HTML PUBLIC "-//W3C//DTD HTML 3.2//E
	N">\n<HTML>\n<HEAD>\n<TITLE></TITLE>\n</HEAD>\n<BODY>\n<h3>6ixSide FC vs. T
	eam Nice Friends</h3>More info: <a href="https://www.golnetwork.com/game/v/
	82510/">#253</a>\n\n</BODY>\n</HTML>
STATUS:CONFIRMED
CLASS:PUBLIC
URL:https://www.golnetwork.com/game/v/82510/
X-MICROSOFT-CDO-BUSYSTATUS:BUSY
X-MICROSOFT-CDO-IMPORTANCE:1
END:VEVENT
BEGIN:VEVENT
UID:g8d29@games.golnetwork.com
LOCATION:Lamport Stadium - Field 3
GEO:43.6390028;-79.4232104
CREATED:20160111T214948Z
DTSTART:20160213T180000Z
DTEND:20160213T190000Z
DTSTAMP:20260422T160746Z
SUMMARY:Boogie Time United vs. 6ixSide FC
DESCRIPTION:6ixSide FC vs. Boogie Time UnitedMore info: #199
X-ALT-DESC;FMTTYPE=text/html:<!DOCTYPE HTML PUBLIC "-//W3C//DTD HTML 3.2//E
	N">\n<HTML>\n<HEAD>\n<TITLE></TITLE>\n</HEAD>\n<BODY>\n<h3>6ixSide FC vs. B
	oogie Time United</h3>More info: <a href="https://www.golnetwork.com/game/v
	/82503/">#199</a>\n\n</BODY>\n</HTML>
STATUS:CONFIRMED
CLASS:PUBLIC
URL:https://www.golnetwork.com/game/v/82503/
X-MICROSOFT-CDO-BUSYSTATUS:BUSY
X-MICROSOFT-CDO-IMPORTANCE:1
END:VEVENT
BEGIN:VEVENT
UID:g8d25@games.golnetwork.com
LOCATION:Lamport Stadium - Field 3
GEO:43.6390028;-79.4232104
CREATED:20160111T214801Z
DTSTART:20160206T200000Z
DTEND:20160206T210000Z
DTSTAMP:20260422T160746Z
SUMMARY:Tree FC vs. 6ixSide FC
DESCRIPTION:6ixSide FC vs. Tree FCMore info: #153
X-ALT-DESC;FMTTYPE=text/html:<!DOCTYPE HTML PUBLIC "-//W3C//DTD HTML 3.2//E
	N">\n<HTML>\n<HEAD>\n<TITLE></TITLE>\n</HEAD>\n<BODY>\n<h3>6ixSide FC vs. T
	ree FC</h3>More info: <a href="https://www.golnetwork.com/game/v/82501/">#1
	53</a>\n\n</BODY>\n</HTML>
STATUS:CONFIRMED
CLASS:PUBLIC
URL:https://www.golnetwork.com/game/v/82501/
X-MICROSOFT-CDO-BUSYSTATUS:BUSY
X-MICROSOFT-CDO-IMPORTANCE:1
END:VEVENT
BEGIN:VEVENT
UID:g8d1i@games.golnetwork.com
LOCATION:Lamport Stadium - Field 3
GEO:43.6390028;-79.4232104
CREATED:20160111T214609Z
DTSTART:20160130T190000Z
DTEND:20160130T200000Z
DTSTAMP:20260422T160746Z
SUMMARY:Balls vs. 6ixSide FC
DESCRIPTION:6ixSide FC vs. BallsMore info: #96
X-ALT-DESC;FMTTYPE=text/html:<!DOCTYPE HTML PUBLIC "-//W3C//DTD HTML 3.2//E
	N">\n<HTML>\n<HEAD>\n<TITLE></TITLE>\n</HEAD>\n<BODY>\n<h3>6ixSide FC vs. B
	alls</h3>More info: <a href="https://www.golnetwork.com/game/v/82494/">#96<
	/a>\n\n</BODY>\n</HTML>
STATUS:CONFIRMED
CLASS:PUBLIC
URL:https://www.golnetwork.com/game/v/82494/
X-MICROSOFT-CDO-BUSYSTATUS:BUSY
X-MICROSOFT-CDO-IMPORTANCE:1
END:VEVENT
END:VCALENDAR
