BEGIN:VCALENDAR
PRODID:-//gdesolutions.com//MV Framework 1.0.0.1607 Calendar//EN
VERSION:2.0
METHOD:PUBLISH
CALSCALE:GREGORIAN
BEGIN:VEVENT
UID:ga34f@games.golnetwork.com
LOCATION:Squash Court #1
GEO:45.508899688721;-73.5795573
CREATED:20161114T013912Z
DTSTART:20161202T001500Z
DTEND:20161202T010000Z
DTSTAMP:20260422T022639Z
SUMMARY:Benders vs. Old Chancellor FC
DESCRIPTION:Old Chancellor FC vs. BendersMore info: #80
X-ALT-DESC;FMTTYPE=text/html:<!DOCTYPE HTML PUBLIC "-//W3C//DTD HTML 3.2//E
	N">\n<HTML>\n<HEAD>\n<TITLE></TITLE>\n</HEAD>\n<BODY>\n<h3>Old Chancellor F
	C vs. Benders</h3>More info: <a href="https://www.golnetwork.com/game/v/985
	71/">#80</a>\n\n</BODY>\n</HTML>
STATUS:CONFIRMED
CLASS:PUBLIC
URL:https://www.golnetwork.com/game/v/98571/
X-MICROSOFT-CDO-BUSYSTATUS:BUSY
X-MICROSOFT-CDO-IMPORTANCE:1
END:VEVENT
BEGIN:VEVENT
UID:ga323@games.golnetwork.com
LOCATION:Squash Court #1
GEO:45.508899688721;-73.5795573
CREATED:20161114T013911Z
DTSTART:20161123T023000Z
DTEND:20161123T031500Z
DTSTAMP:20260422T022639Z
SUMMARY:Benders vs. Yolo Botches (WB)
DESCRIPTION:Yolo Botches (WB) vs. BendersMore info: #47
X-ALT-DESC;FMTTYPE=text/html:<!DOCTYPE HTML PUBLIC "-//W3C//DTD HTML 3.2//E
	N">\n<HTML>\n<HEAD>\n<TITLE></TITLE>\n</HEAD>\n<BODY>\n<h3>Yolo Botches (WB
	) vs. Benders</h3>More info: <a href="https://www.golnetwork.com/game/v/985
	38/">#47</a>\n\n</BODY>\n</HTML>
STATUS:CONFIRMED
CLASS:PUBLIC
URL:https://www.golnetwork.com/game/v/98538/
X-MICROSOFT-CDO-BUSYSTATUS:BUSY
X-MICROSOFT-CDO-IMPORTANCE:1
END:VEVENT
BEGIN:VEVENT
UID:ga31a@games.golnetwork.com
LOCATION:Squash Court #1
GEO:45.508899688721;-73.5795573
CREATED:20161114T013910Z
DTSTART:20161120T220000Z
DTEND:20161120T224500Z
DTSTAMP:20260422T022639Z
SUMMARY:Canhoover vs. Benders
DESCRIPTION:Benders vs. CanhooverMore info: #37
X-ALT-DESC;FMTTYPE=text/html:<!DOCTYPE HTML PUBLIC "-//W3C//DTD HTML 3.2//E
	N">\n<HTML>\n<HEAD>\n<TITLE></TITLE>\n</HEAD>\n<BODY>\n<h3>Benders vs. Canh
	oover</h3>More info: <a href="https://www.golnetwork.com/game/v/98528/">#37
	</a>\n\n</BODY>\n</HTML>
STATUS:CONFIRMED
CLASS:PUBLIC
URL:https://www.golnetwork.com/game/v/98528/
X-MICROSOFT-CDO-BUSYSTATUS:BUSY
X-MICROSOFT-CDO-IMPORTANCE:1
END:VEVENT
BEGIN:VEVENT
UID:ga30d@games.golnetwork.com
LOCATION:Squash Court #1
GEO:45.508899688721;-73.5795573
CREATED:20161114T013910Z
DTSTART:20161119T194500Z
DTEND:20161119T203000Z
DTSTAMP:20260422T022639Z
SUMMARY:Kalabar's Revenge vs. Benders
DESCRIPTION:Benders vs. Kalabar's RevengeMore info: #25
X-ALT-DESC;FMTTYPE=text/html:<!DOCTYPE HTML PUBLIC "-//W3C//DTD HTML 3.2//E
	N">\n<HTML>\n<HEAD>\n<TITLE></TITLE>\n</HEAD>\n<BODY>\n<h3>Benders vs. Kala
	bar's Revenge</h3>More info: <a href="https://www.golnetwork.com/game/v/985
	16/">#25</a>\n\n</BODY>\n</HTML>
STATUS:CONFIRMED
CLASS:PUBLIC
URL:https://www.golnetwork.com/game/v/98516/
X-MICROSOFT-CDO-BUSYSTATUS:BUSY
X-MICROSOFT-CDO-IMPORTANCE:1
END:VEVENT
BEGIN:VEVENT
UID:ga2qo@games.golnetwork.com
LOCATION:Squash Court #1
GEO:45.508899688721;-73.5795573
CREATED:20161114T013909Z
DTSTART:20161118T233000Z
DTEND:20161119T001500Z
DTSTAMP:20260422T022639Z
SUMMARY:Team natALIe vs. Benders
DESCRIPTION:Benders vs. Team natALIeMore info: #17
X-ALT-DESC;FMTTYPE=text/html:<!DOCTYPE HTML PUBLIC "-//W3C//DTD HTML 3.2//E
	N">\n<HTML>\n<HEAD>\n<TITLE></TITLE>\n</HEAD>\n<BODY>\n<h3>Benders vs. Team
	 natALIe</h3>More info: <a href="https://www.golnetwork.com/game/v/98508/">
	#17</a>\n\n</BODY>\n</HTML>
STATUS:CONFIRMED
CLASS:PUBLIC
URL:https://www.golnetwork.com/game/v/98508/
X-MICROSOFT-CDO-BUSYSTATUS:BUSY
X-MICROSOFT-CDO-IMPORTANCE:1
END:VEVENT
END:VCALENDAR
