BEGIN:VCALENDAR
PRODID:-//gdesolutions.com//MV Framework 1.0.0.1607 Calendar//EN
VERSION:2.0
METHOD:PUBLISH
CALSCALE:GREGORIAN
BEGIN:VEVENT
UID:ga349@games.golnetwork.com
LOCATION:Squash Court #1
GEO:45.508899688721;-73.5795573
CREATED:20161114T013912Z
DTSTART:20161201T010000Z
DTEND:20161201T014500Z
DTSTAMP:20260421T171825Z
SUMMARY:Canhoover vs. Kalabar's Revenge
DESCRIPTION:Kalabar's Revenge vs. CanhooverMore info: #77
X-ALT-DESC;FMTTYPE=text/html:<!DOCTYPE HTML PUBLIC "-//W3C//DTD HTML 3.2//E
	N">\n<HTML>\n<HEAD>\n<TITLE></TITLE>\n</HEAD>\n<BODY>\n<h3>Kalabar's Reveng
	e vs. Canhoover</h3>More info: <a href="https://www.golnetwork.com/game/v/9
	8568/">#77</a>\n\n</BODY>\n</HTML>
STATUS:CONFIRMED
CLASS:PUBLIC
URL:https://www.golnetwork.com/game/v/98568/
X-MICROSOFT-CDO-BUSYSTATUS:BUSY
X-MICROSOFT-CDO-IMPORTANCE:1
END:VEVENT
BEGIN:VEVENT
UID:ga321@games.golnetwork.com
LOCATION:Squash Court #1
GEO:45.508899688721;-73.5795573
CREATED:20161114T013911Z
DTSTART:20161123T014500Z
DTEND:20161123T023000Z
DTSTAMP:20260421T171825Z
SUMMARY:Kalabar's Revenge vs. Funky Monkeys
DESCRIPTION:Funky Monkeys vs. Kalabar's RevengeMore info: #46
X-ALT-DESC;FMTTYPE=text/html:<!DOCTYPE HTML PUBLIC "-//W3C//DTD HTML 3.2//E
	N">\n<HTML>\n<HEAD>\n<TITLE></TITLE>\n</HEAD>\n<BODY>\n<h3>Funky Monkeys vs
	. Kalabar's Revenge</h3>More info: <a href="https://www.golnetwork.com/game
	/v/98537/">#46</a>\n\n</BODY>\n</HTML>
STATUS:CONFIRMED
CLASS:PUBLIC
URL:https://www.golnetwork.com/game/v/98537/
X-MICROSOFT-CDO-BUSYSTATUS:BUSY
X-MICROSOFT-CDO-IMPORTANCE:1
END:VEVENT
BEGIN:VEVENT
UID:ga318@games.golnetwork.com
LOCATION:Squash Court #1
GEO:45.508899688721;-73.5795573
CREATED:20161114T013910Z
DTSTART:20161120T211500Z
DTEND:20161120T220000Z
DTSTAMP:20260421T171825Z
SUMMARY:Kalabar's Revenge vs. Team natALIe
DESCRIPTION:Team natALIe vs. Kalabar's RevengeMore info: #36
X-ALT-DESC;FMTTYPE=text/html:<!DOCTYPE HTML PUBLIC "-//W3C//DTD HTML 3.2//E
	N">\n<HTML>\n<HEAD>\n<TITLE></TITLE>\n</HEAD>\n<BODY>\n<h3>Team natALIe vs.
	 Kalabar's Revenge</h3>More info: <a href="https://www.golnetwork.com/game/
	v/98527/">#36</a>\n\n</BODY>\n</HTML>
STATUS:CONFIRMED
CLASS:PUBLIC
URL:https://www.golnetwork.com/game/v/98527/
X-MICROSOFT-CDO-BUSYSTATUS:BUSY
X-MICROSOFT-CDO-IMPORTANCE:1
END:VEVENT
BEGIN:VEVENT
UID:ga30d@games.golnetwork.com
LOCATION:Squash Court #1
GEO:45.508899688721;-73.5795573
CREATED:20161114T013910Z
DTSTART:20161119T194500Z
DTEND:20161119T203000Z
DTSTAMP:20260421T171825Z
SUMMARY:Kalabar's Revenge vs. Benders
DESCRIPTION:Benders vs. Kalabar's RevengeMore info: #25
X-ALT-DESC;FMTTYPE=text/html:<!DOCTYPE HTML PUBLIC "-//W3C//DTD HTML 3.2//E
	N">\n<HTML>\n<HEAD>\n<TITLE></TITLE>\n</HEAD>\n<BODY>\n<h3>Benders vs. Kala
	bar's Revenge</h3>More info: <a href="https://www.golnetwork.com/game/v/985
	16/">#25</a>\n\n</BODY>\n</HTML>
STATUS:CONFIRMED
CLASS:PUBLIC
URL:https://www.golnetwork.com/game/v/98516/
X-MICROSOFT-CDO-BUSYSTATUS:BUSY
X-MICROSOFT-CDO-IMPORTANCE:1
END:VEVENT
BEGIN:VEVENT
UID:ga2q6@games.golnetwork.com
LOCATION:Squash Court #1
GEO:45.508899688721;-73.5795573
CREATED:20161114T013909Z
DTSTART:20161117T010000Z
DTEND:20161117T014500Z
DTSTAMP:20260421T171825Z
SUMMARY:Kalabar's Revenge vs. Got It From My Mata
DESCRIPTION:Got It From My Mata vs. Kalabar's RevengeMore info: #8
X-ALT-DESC;FMTTYPE=text/html:<!DOCTYPE HTML PUBLIC "-//W3C//DTD HTML 3.2//E
	N">\n<HTML>\n<HEAD>\n<TITLE></TITLE>\n</HEAD>\n<BODY>\n<h3>Got It From My M
	ata vs. Kalabar's Revenge</h3>More info: <a href="https://www.golnetwork.co
	m/game/v/98499/">#8</a>\n\n</BODY>\n</HTML>
STATUS:CONFIRMED
CLASS:PUBLIC
URL:https://www.golnetwork.com/game/v/98499/
X-MICROSOFT-CDO-BUSYSTATUS:BUSY
X-MICROSOFT-CDO-IMPORTANCE:1
END:VEVENT
END:VCALENDAR
