BEGIN:VCALENDAR
PRODID:-//gdesolutions.com//MV Framework 1.0.0.1607 Calendar//EN
VERSION:2.0
METHOD:PUBLISH
CALSCALE:GREGORIAN
BEGIN:VEVENT
UID:g8jen@games.golnetwork.com
LOCATION:Jesse Ketchum Public School
GEO:43.6730545;-79.3911034
CREATED:20160316T164512Z
DTSTART:20160606T223000Z
DTEND:20160606T233000Z
DTSTAMP:20260422T050555Z
SUMMARY:ITRG vs. XTSC Titans
DESCRIPTION:XTSC Titans vs. ITRGMore info: #61
X-ALT-DESC;FMTTYPE=text/html:<!DOCTYPE HTML PUBLIC "-//W3C//DTD HTML 3.2//E
	N">\n<HTML>\n<HEAD>\n<TITLE></TITLE>\n</HEAD>\n<BODY>\n<h3>XTSC Titans vs. 
	ITRG</h3>More info: <a href="https://www.golnetwork.com/game/v/84859/">#61<
	/a>\n\n</BODY>\n</HTML>
STATUS:CONFIRMED
CLASS:PUBLIC
URL:https://www.golnetwork.com/game/v/84859/
X-MICROSOFT-CDO-BUSYSTATUS:BUSY
X-MICROSOFT-CDO-IMPORTANCE:1
END:VEVENT
BEGIN:VEVENT
UID:g8jej@games.golnetwork.com
LOCATION:Jesse Ketchum Public School
GEO:43.6730545;-79.3911034
CREATED:20160316T164512Z
DTSTART:20160530T223000Z
DTEND:20160530T233000Z
DTSTAMP:20260422T050555Z
SUMMARY:XTSC Titans vs.  NPOS FC (The Return)
DESCRIPTION: NPOS FC (The Return) vs. XTSC TitansMore info: #52
X-ALT-DESC;FMTTYPE=text/html:<!DOCTYPE HTML PUBLIC "-//W3C//DTD HTML 3.2//E
	N">\n<HTML>\n<HEAD>\n<TITLE></TITLE>\n</HEAD>\n<BODY>\n<h3> NPOS FC (The Re
	turn) vs. XTSC Titans</h3>More info: <a href="https://www.golnetwork.com/ga
	me/v/84857/">#52</a>\n\n</BODY>\n</HTML>
STATUS:CONFIRMED
CLASS:PUBLIC
URL:https://www.golnetwork.com/game/v/84857/
X-MICROSOFT-CDO-BUSYSTATUS:BUSY
X-MICROSOFT-CDO-IMPORTANCE:1
END:VEVENT
BEGIN:VEVENT
UID:g8p7c@games.golnetwork.com
LOCATION:Jesse Ketchum Public School
GEO:43.6730545;-79.3911034
CREATED:20160425T200511Z
DTSTART:20160516T233000Z
DTEND:20160517T003000Z
DTSTAMP:20260422T050555Z
SUMMARY: NPOS FC (The Return) vs. XTSC Titans
DESCRIPTION:XTSC Titans vs.  NPOS FC (The Return)More info: #36
X-ALT-DESC;FMTTYPE=text/html:<!DOCTYPE HTML PUBLIC "-//W3C//DTD HTML 3.2//E
	N">\n<HTML>\n<HEAD>\n<TITLE></TITLE>\n</HEAD>\n<BODY>\n<h3>XTSC Titans vs. 
	 NPOS FC (The Return)</h3>More info: <a href="https://www.golnetwork.com/ga
	me/v/86946/">#36</a>\n\n</BODY>\n</HTML>
STATUS:CONFIRMED
CLASS:PUBLIC
URL:https://www.golnetwork.com/game/v/86946/
X-MICROSOFT-CDO-BUSYSTATUS:BUSY
X-MICROSOFT-CDO-IMPORTANCE:1
END:VEVENT
BEGIN:VEVENT
UID:g8je7@games.golnetwork.com
LOCATION:Jesse Ketchum Public School
GEO:43.6730545;-79.3911034
CREATED:20160316T164512Z
DTSTART:20160509T233000Z
DTEND:20160510T003000Z
DTSTAMP:20260422T050555Z
SUMMARY:XTSC Titans vs. Sapient FC (Black)
DESCRIPTION:Sapient FC (Black) vs. XTSC TitansMore info: #27
X-ALT-DESC;FMTTYPE=text/html:<!DOCTYPE HTML PUBLIC "-//W3C//DTD HTML 3.2//E
	N">\n<HTML>\n<HEAD>\n<TITLE></TITLE>\n</HEAD>\n<BODY>\n<h3>Sapient FC (Blac
	k) vs. XTSC Titans</h3>More info: <a href="https://www.golnetwork.com/game/
	v/84851/">#27</a>\n\n</BODY>\n</HTML>
STATUS:CONFIRMED
CLASS:PUBLIC
URL:https://www.golnetwork.com/game/v/84851/
X-MICROSOFT-CDO-BUSYSTATUS:BUSY
X-MICROSOFT-CDO-IMPORTANCE:1
END:VEVENT
BEGIN:VEVENT
UID:g8je1@games.golnetwork.com
LOCATION:Jesse Ketchum Public School
GEO:43.6730545;-79.3911034
CREATED:20160316T164512Z
DTSTART:20160502T223000Z
DTEND:20160502T233000Z
DTSTAMP:20260422T050555Z
SUMMARY: NPOS FC (The Return) vs. XTSC Titans
DESCRIPTION:XTSC Titans vs.  NPOS FC (The Return)More info: #16
X-ALT-DESC;FMTTYPE=text/html:<!DOCTYPE HTML PUBLIC "-//W3C//DTD HTML 3.2//E
	N">\n<HTML>\n<HEAD>\n<TITLE></TITLE>\n</HEAD>\n<BODY>\n<h3>XTSC Titans vs. 
	 NPOS FC (The Return)</h3>More info: <a href="https://www.golnetwork.com/ga
	me/v/84848/">#16</a>\n\n</BODY>\n</HTML>
STATUS:CONFIRMED
CLASS:PUBLIC
URL:https://www.golnetwork.com/game/v/84848/
X-MICROSOFT-CDO-BUSYSTATUS:BUSY
X-MICROSOFT-CDO-IMPORTANCE:1
END:VEVENT
BEGIN:VEVENT
UID:g8jdm@games.golnetwork.com
LOCATION:Jesse Ketchum Public School
GEO:43.6730545;-79.3911034
CREATED:20160316T164512Z
DTSTART:20160425T223000Z
DTEND:20160425T233000Z
DTSTAMP:20260422T050555Z
SUMMARY:XTSC Titans vs. the kickers
DESCRIPTION:the kickers vs. XTSC TitansMore info: #13
X-ALT-DESC;FMTTYPE=text/html:<!DOCTYPE HTML PUBLIC "-//W3C//DTD HTML 3.2//E
	N">\n<HTML>\n<HEAD>\n<TITLE></TITLE>\n</HEAD>\n<BODY>\n<h3>the kickers vs. 
	XTSC Titans</h3>More info: <a href="https://www.golnetwork.com/game/v/84845
	/">#13</a>\n\n</BODY>\n</HTML>
STATUS:CONFIRMED
CLASS:PUBLIC
URL:https://www.golnetwork.com/game/v/84845/
X-MICROSOFT-CDO-BUSYSTATUS:BUSY
X-MICROSOFT-CDO-IMPORTANCE:1
END:VEVENT
BEGIN:VEVENT
UID:g8jdg@games.golnetwork.com
LOCATION:Jesse Ketchum Public School
GEO:43.6730545;-79.3911034
CREATED:20160316T164512Z
DTSTART:20160418T233000Z
DTEND:20160419T003000Z
DTSTAMP:20260422T050555Z
SUMMARY:XTSC Titans vs.  NPOS FC (The Return)
DESCRIPTION: NPOS FC (The Return) vs. XTSC TitansMore info: #11
X-ALT-DESC;FMTTYPE=text/html:<!DOCTYPE HTML PUBLIC "-//W3C//DTD HTML 3.2//E
	N">\n<HTML>\n<HEAD>\n<TITLE></TITLE>\n</HEAD>\n<BODY>\n<h3> NPOS FC (The Re
	turn) vs. XTSC Titans</h3>More info: <a href="https://www.golnetwork.com/ga
	me/v/84842/">#11</a>\n\n</BODY>\n</HTML>
STATUS:CONFIRMED
CLASS:PUBLIC
URL:https://www.golnetwork.com/game/v/84842/
X-MICROSOFT-CDO-BUSYSTATUS:BUSY
X-MICROSOFT-CDO-IMPORTANCE:1
END:VEVENT
BEGIN:VEVENT
UID:g8jda@games.golnetwork.com
LOCATION:Jesse Ketchum Public School
GEO:43.6730545;-79.3911034
CREATED:20160316T164512Z
DTSTART:20160411T223000Z
DTEND:20160411T233000Z
DTSTAMP:20260422T050555Z
SUMMARY: B Sharps vs. XTSC Titans
DESCRIPTION:XTSC Titans vs.  B SharpsMore info: #7
X-ALT-DESC;FMTTYPE=text/html:<!DOCTYPE HTML PUBLIC "-//W3C//DTD HTML 3.2//E
	N">\n<HTML>\n<HEAD>\n<TITLE></TITLE>\n</HEAD>\n<BODY>\n<h3>XTSC Titans vs. 
	 B Sharps</h3>More info: <a href="https://www.golnetwork.com/game/v/84839/"
	>#7</a>\n\n</BODY>\n</HTML>
STATUS:CONFIRMED
CLASS:PUBLIC
URL:https://www.golnetwork.com/game/v/84839/
X-MICROSOFT-CDO-BUSYSTATUS:BUSY
X-MICROSOFT-CDO-IMPORTANCE:1
END:VEVENT
BEGIN:VEVENT
UID:g8jd4@games.golnetwork.com
LOCATION:Jesse Ketchum Public School
GEO:43.6730545;-79.3911034
CREATED:20160316T164512Z
DTSTART:20160405T003000Z
DTEND:20160405T013000Z
DTSTAMP:20260422T050555Z
SUMMARY:XTSC Titans vs. ITRG
DESCRIPTION:ITRG vs. XTSC TitansMore info: #6
X-ALT-DESC;FMTTYPE=text/html:<!DOCTYPE HTML PUBLIC "-//W3C//DTD HTML 3.2//E
	N">\n<HTML>\n<HEAD>\n<TITLE></TITLE>\n</HEAD>\n<BODY>\n<h3>ITRG vs. XTSC Ti
	tans</h3>More info: <a href="https://www.golnetwork.com/game/v/84836/">#6</
	a>\n\n</BODY>\n</HTML>
STATUS:CONFIRMED
CLASS:PUBLIC
URL:https://www.golnetwork.com/game/v/84836/
X-MICROSOFT-CDO-BUSYSTATUS:BUSY
X-MICROSOFT-CDO-IMPORTANCE:1
END:VEVENT
BEGIN:VEVENT
UID:g8jcp@games.golnetwork.com
LOCATION:Jesse Ketchum Public School
GEO:43.6730545;-79.3911034
CREATED:20160316T164512Z
DTSTART:20160321T223000Z
DTEND:20160321T233000Z
DTSTAMP:20260422T050555Z
SUMMARY:XTSC Titans vs. Sapient FC (Black)
DESCRIPTION:Sapient FC (Black) vs. XTSC TitansMore info: #1
X-ALT-DESC;FMTTYPE=text/html:<!DOCTYPE HTML PUBLIC "-//W3C//DTD HTML 3.2//E
	N">\n<HTML>\n<HEAD>\n<TITLE></TITLE>\n</HEAD>\n<BODY>\n<h3>Sapient FC (Blac
	k) vs. XTSC Titans</h3>More info: <a href="https://www.golnetwork.com/game/
	v/84833/">#1</a>\n\n</BODY>\n</HTML>
STATUS:CONFIRMED
CLASS:PUBLIC
URL:https://www.golnetwork.com/game/v/84833/
X-MICROSOFT-CDO-BUSYSTATUS:BUSY
X-MICROSOFT-CDO-IMPORTANCE:1
END:VEVENT
END:VCALENDAR
