BEGIN:VCALENDAR
PRODID:-//gdesolutions.com//MV Framework 1.0.0.1607 Calendar//EN
VERSION:2.0
METHOD:PUBLISH
CALSCALE:GREGORIAN
BEGIN:VEVENT
UID:g8q7f@games.golnetwork.com
LOCATION:CVM - Court #1
GEO:45.5146585;-73.5658635
CREATED:20160430T213707Z
DTSTART:20160826T003000Z
DTEND:20160826T013000Z
DTSTAMP:20260426T013542Z
SUMMARY:METTA WORLD WAR 3 vs. SPARTANS
DESCRIPTION:SPARTANS vs. METTA WORLD WAR 3More info: #374
X-ALT-DESC;FMTTYPE=text/html:<!DOCTYPE HTML PUBLIC "-//W3C//DTD HTML 3.2//E
	N">\n<HTML>\n<HEAD>\n<TITLE></TITLE>\n</HEAD>\n<BODY>\n<h3>SPARTANS vs. MET
	TA WORLD WAR 3</h3>More info: <a href="https://www.golnetwork.com/game/v/87
	312/">#374</a>\n\n</BODY>\n</HTML>
STATUS:CONFIRMED
CLASS:PUBLIC
URL:https://www.golnetwork.com/game/v/87312/
X-MICROSOFT-CDO-BUSYSTATUS:BUSY
X-MICROSOFT-CDO-IMPORTANCE:1
END:VEVENT
BEGIN:VEVENT
UID:g8q6m@games.golnetwork.com
LOCATION:CVM - Court #1
GEO:45.5146585;-73.5658635
CREATED:20160430T213707Z
DTSTART:20160819T013000Z
DTEND:20160819T023000Z
DTSTAMP:20260426T013542Z
SUMMARY:BROUILLETTE vs. SPARTANS
DESCRIPTION:SPARTANS vs. BROUILLETTEMore info: #353
X-ALT-DESC;FMTTYPE=text/html:<!DOCTYPE HTML PUBLIC "-//W3C//DTD HTML 3.2//E
	N">\n<HTML>\n<HEAD>\n<TITLE></TITLE>\n</HEAD>\n<BODY>\n<h3>SPARTANS vs. BRO
	UILLETTE</h3>More info: <a href="https://www.golnetwork.com/game/v/87302/">
	#353</a>\n\n</BODY>\n</HTML>
STATUS:CONFIRMED
CLASS:PUBLIC
URL:https://www.golnetwork.com/game/v/87302/
X-MICROSOFT-CDO-BUSYSTATUS:BUSY
X-MICROSOFT-CDO-IMPORTANCE:1
END:VEVENT
BEGIN:VEVENT
UID:g8q62@games.golnetwork.com
LOCATION:Marianopolis #1
GEO:45.4807868;-73.610845
CREATED:20160430T213707Z
DTSTART:20160812T013000Z
DTEND:20160812T023000Z
DTSTAMP:20260426T013542Z
SUMMARY:SOLID ACES vs. SPARTANS
DESCRIPTION:SPARTANS vs. SOLID ACESMore info: #325
X-ALT-DESC;FMTTYPE=text/html:<!DOCTYPE HTML PUBLIC "-//W3C//DTD HTML 3.2//E
	N">\n<HTML>\n<HEAD>\n<TITLE></TITLE>\n</HEAD>\n<BODY>\n<h3>SPARTANS vs. SOL
	ID ACES</h3>More info: <a href="https://www.golnetwork.com/game/v/87292/">#
	325</a>\n\n</BODY>\n</HTML>
STATUS:CONFIRMED
CLASS:PUBLIC
URL:https://www.golnetwork.com/game/v/87292/
X-MICROSOFT-CDO-BUSYSTATUS:BUSY
X-MICROSOFT-CDO-IMPORTANCE:1
END:VEVENT
BEGIN:VEVENT
UID:g8q59@games.golnetwork.com
LOCATION:Marianopolis #1
GEO:45.4807868;-73.610845
CREATED:20160430T213707Z
DTSTART:20160805T013000Z
DTEND:20160805T023000Z
DTSTAMP:20260426T013542Z
SUMMARY:BELGARÇON vs. SPARTANS
DESCRIPTION:SPARTANS vs. BELGARÇONMore info: #301
X-ALT-DESC;FMTTYPE=text/html:<!DOCTYPE HTML PUBLIC "-//W3C//DTD HTML 3.2//E
	N">\n<HTML>\n<HEAD>\n<TITLE></TITLE>\n</HEAD>\n<BODY>\n<h3>SPARTANS vs. BEL
	GARÇON</h3>More info: <a href="https://www.golnetwork.com/game/v/87282/">#
	301</a>\n\n</BODY>\n</HTML>
STATUS:CONFIRMED
CLASS:PUBLIC
URL:https://www.golnetwork.com/game/v/87282/
X-MICROSOFT-CDO-BUSYSTATUS:BUSY
X-MICROSOFT-CDO-IMPORTANCE:1
END:VEVENT
BEGIN:VEVENT
UID:g8q4k@games.golnetwork.com
LOCATION:Marianopolis #1
GEO:45.4807868;-73.610845
CREATED:20160430T213707Z
DTSTART:20160729T003000Z
DTEND:20160729T013000Z
DTSTAMP:20260426T013542Z
SUMMARY:SPARTANS vs. WARRIORS
DESCRIPTION:WARRIORS vs. SPARTANSMore info: #275
X-ALT-DESC;FMTTYPE=text/html:<!DOCTYPE HTML PUBLIC "-//W3C//DTD HTML 3.2//E
	N">\n<HTML>\n<HEAD>\n<TITLE></TITLE>\n</HEAD>\n<BODY>\n<h3>WARRIORS vs. SPA
	RTANS</h3>More info: <a href="https://www.golnetwork.com/game/v/87274/">#27
	5</a>\n\n</BODY>\n</HTML>
STATUS:CONFIRMED
CLASS:PUBLIC
URL:https://www.golnetwork.com/game/v/87274/
X-MICROSOFT-CDO-BUSYSTATUS:BUSY
X-MICROSOFT-CDO-IMPORTANCE:1
END:VEVENT
BEGIN:VEVENT
UID:g8q44@games.golnetwork.com
LOCATION:CVM - Court #1
GEO:45.5146585;-73.5658635
CREATED:20160430T213707Z
DTSTART:20160719T233000Z
DTEND:20160720T003000Z
DTSTAMP:20260426T013542Z
SUMMARY:SPARTANS vs. SHOWTIME
DESCRIPTION:SHOWTIME vs. SPARTANSMore info: #235
X-ALT-DESC;FMTTYPE=text/html:<!DOCTYPE HTML PUBLIC "-//W3C//DTD HTML 3.2//E
	N">\n<HTML>\n<HEAD>\n<TITLE></TITLE>\n</HEAD>\n<BODY>\n<h3>SHOWTIME vs. SPA
	RTANS</h3>More info: <a href="https://www.golnetwork.com/game/v/87266/">#23
	5</a>\n\n</BODY>\n</HTML>
STATUS:CONFIRMED
CLASS:PUBLIC
URL:https://www.golnetwork.com/game/v/87266/
X-MICROSOFT-CDO-BUSYSTATUS:BUSY
X-MICROSOFT-CDO-IMPORTANCE:1
END:VEVENT
BEGIN:VEVENT
UID:g8q3f@games.golnetwork.com
LOCATION:Marianopolis #1
GEO:45.4807868;-73.610845
CREATED:20160430T213707Z
DTSTART:20160714T233000Z
DTEND:20160715T003000Z
DTSTAMP:20260426T013542Z
SUMMARY:SPARTANS vs. 2 HUNNAS
DESCRIPTION:2 HUNNAS vs. SPARTANSMore info: #224
X-ALT-DESC;FMTTYPE=text/html:<!DOCTYPE HTML PUBLIC "-//W3C//DTD HTML 3.2//E
	N">\n<HTML>\n<HEAD>\n<TITLE></TITLE>\n</HEAD>\n<BODY>\n<h3>2 HUNNAS vs. SPA
	RTANS</h3>More info: <a href="https://www.golnetwork.com/game/v/87258/">#22
	4</a>\n\n</BODY>\n</HTML>
STATUS:CONFIRMED
CLASS:PUBLIC
URL:https://www.golnetwork.com/game/v/87258/
X-MICROSOFT-CDO-BUSYSTATUS:BUSY
X-MICROSOFT-CDO-IMPORTANCE:1
END:VEVENT
BEGIN:VEVENT
UID:g8q2q@games.golnetwork.com
LOCATION:Marianopolis #1
GEO:45.4807868;-73.610845
CREATED:20160430T213707Z
DTSTART:20160705T233000Z
DTEND:20160706T003000Z
DTSTAMP:20260426T013542Z
SUMMARY:SPARTANS vs. P SQUAD
DESCRIPTION:P SQUAD vs. SPARTANSMore info: #187
X-ALT-DESC;FMTTYPE=text/html:<!DOCTYPE HTML PUBLIC "-//W3C//DTD HTML 3.2//E
	N">\n<HTML>\n<HEAD>\n<TITLE></TITLE>\n</HEAD>\n<BODY>\n<h3>P SQUAD vs. SPAR
	TANS</h3>More info: <a href="https://www.golnetwork.com/game/v/87250/">#187
	</a>\n\n</BODY>\n</HTML>
STATUS:CONFIRMED
CLASS:PUBLIC
URL:https://www.golnetwork.com/game/v/87250/
X-MICROSOFT-CDO-BUSYSTATUS:BUSY
X-MICROSOFT-CDO-IMPORTANCE:1
END:VEVENT
BEGIN:VEVENT
UID:g8q2a@games.golnetwork.com
LOCATION:Marianopolis #1
GEO:45.4807868;-73.610845
CREATED:20160430T213707Z
DTSTART:20160630T233000Z
DTEND:20160701T003000Z
DTSTAMP:20260426T013542Z
SUMMARY:SPARTANS vs. DIRK KNIGHT RISES
DESCRIPTION:DIRK KNIGHT RISES vs. SPARTANSMore info: #177
X-ALT-DESC;FMTTYPE=text/html:<!DOCTYPE HTML PUBLIC "-//W3C//DTD HTML 3.2//E
	N">\n<HTML>\n<HEAD>\n<TITLE></TITLE>\n</HEAD>\n<BODY>\n<h3>DIRK KNIGHT RISE
	S vs. SPARTANS</h3>More info: <a href="https://www.golnetwork.com/game/v/87
	242/">#177</a>\n\n</BODY>\n</HTML>
STATUS:CONFIRMED
CLASS:PUBLIC
URL:https://www.golnetwork.com/game/v/87242/
X-MICROSOFT-CDO-BUSYSTATUS:BUSY
X-MICROSOFT-CDO-IMPORTANCE:1
END:VEVENT
BEGIN:VEVENT
UID:g8q1l@games.golnetwork.com
LOCATION:Marianopolis #1
GEO:45.4807868;-73.610845
CREATED:20160430T213707Z
DTSTART:20160623T233000Z
DTEND:20160624T003000Z
DTSTAMP:20260426T013542Z
SUMMARY:SPARTANS vs. THE TRIBE
DESCRIPTION:THE TRIBE vs. SPARTANSMore info: #152
X-ALT-DESC;FMTTYPE=text/html:<!DOCTYPE HTML PUBLIC "-//W3C//DTD HTML 3.2//E
	N">\n<HTML>\n<HEAD>\n<TITLE></TITLE>\n</HEAD>\n<BODY>\n<h3>THE TRIBE vs. SP
	ARTANS</h3>More info: <a href="https://www.golnetwork.com/game/v/87234/">#1
	52</a>\n\n</BODY>\n</HTML>
STATUS:CONFIRMED
CLASS:PUBLIC
URL:https://www.golnetwork.com/game/v/87234/
X-MICROSOFT-CDO-BUSYSTATUS:BUSY
X-MICROSOFT-CDO-IMPORTANCE:1
END:VEVENT
BEGIN:VEVENT
UID:g8q15@games.golnetwork.com
LOCATION:Marianopolis #1
GEO:45.4807868;-73.610845
CREATED:20160430T213707Z
DTSTART:20160616T233000Z
DTEND:20160617T003000Z
DTSTAMP:20260426T013542Z
SUMMARY:SPARTANS vs. CONNECTION
DESCRIPTION:CONNECTION vs. SPARTANSMore info: #128
X-ALT-DESC;FMTTYPE=text/html:<!DOCTYPE HTML PUBLIC "-//W3C//DTD HTML 3.2//E
	N">\n<HTML>\n<HEAD>\n<TITLE></TITLE>\n</HEAD>\n<BODY>\n<h3>CONNECTION vs. S
	PARTANS</h3>More info: <a href="https://www.golnetwork.com/game/v/87226/">#
	128</a>\n\n</BODY>\n</HTML>
STATUS:CONFIRMED
CLASS:PUBLIC
URL:https://www.golnetwork.com/game/v/87226/
X-MICROSOFT-CDO-BUSYSTATUS:BUSY
X-MICROSOFT-CDO-IMPORTANCE:1
END:VEVENT
BEGIN:VEVENT
UID:g8q0g@games.golnetwork.com
LOCATION:Marianopolis #1
GEO:45.4807868;-73.610845
CREATED:20160430T213707Z
DTSTART:20160610T003000Z
DTEND:20160610T013000Z
DTSTAMP:20260426T013542Z
SUMMARY:SPARTANS vs. WEIS-HEITNER
DESCRIPTION:WEIS-HEITNER vs. SPARTANSMore info: #106
X-ALT-DESC;FMTTYPE=text/html:<!DOCTYPE HTML PUBLIC "-//W3C//DTD HTML 3.2//E
	N">\n<HTML>\n<HEAD>\n<TITLE></TITLE>\n</HEAD>\n<BODY>\n<h3>WEIS-HEITNER vs.
	 SPARTANS</h3>More info: <a href="https://www.golnetwork.com/game/v/87218/"
	>#106</a>\n\n</BODY>\n</HTML>
STATUS:CONFIRMED
CLASS:PUBLIC
URL:https://www.golnetwork.com/game/v/87218/
X-MICROSOFT-CDO-BUSYSTATUS:BUSY
X-MICROSOFT-CDO-IMPORTANCE:1
END:VEVENT
BEGIN:VEVENT
UID:g8pqp@games.golnetwork.com
LOCATION:Marianopolis #1
GEO:45.4807868;-73.610845
CREATED:20160430T213707Z
DTSTART:20160602T233000Z
DTEND:20160603T003000Z
DTSTAMP:20260426T013542Z
SUMMARY:CSJV vs. SPARTANS
DESCRIPTION:SPARTANS vs. CSJVMore info: #81
X-ALT-DESC;FMTTYPE=text/html:<!DOCTYPE HTML PUBLIC "-//W3C//DTD HTML 3.2//E
	N">\n<HTML>\n<HEAD>\n<TITLE></TITLE>\n</HEAD>\n<BODY>\n<h3>SPARTANS vs. CSJ
	V</h3>More info: <a href="https://www.golnetwork.com/game/v/87209/">#81</a>
	\n\n</BODY>\n</HTML>
STATUS:CONFIRMED
CLASS:PUBLIC
URL:https://www.golnetwork.com/game/v/87209/
X-MICROSOFT-CDO-BUSYSTATUS:BUSY
X-MICROSOFT-CDO-IMPORTANCE:1
END:VEVENT
BEGIN:VEVENT
UID:g8pq5@games.golnetwork.com
LOCATION:Marianopolis #1
GEO:45.4807868;-73.610845
CREATED:20160430T213707Z
DTSTART:20160527T003000Z
DTEND:20160527T013000Z
DTSTAMP:20260426T013542Z
SUMMARY:SPLASH BROS vs. SPARTANS
DESCRIPTION:SPARTANS vs. SPLASH BROSMore info: #59
X-ALT-DESC;FMTTYPE=text/html:<!DOCTYPE HTML PUBLIC "-//W3C//DTD HTML 3.2//E
	N">\n<HTML>\n<HEAD>\n<TITLE></TITLE>\n</HEAD>\n<BODY>\n<h3>SPARTANS vs. SPL
	ASH BROS</h3>More info: <a href="https://www.golnetwork.com/game/v/87199/">
	#59</a>\n\n</BODY>\n</HTML>
STATUS:CONFIRMED
CLASS:PUBLIC
URL:https://www.golnetwork.com/game/v/87199/
X-MICROSOFT-CDO-BUSYSTATUS:BUSY
X-MICROSOFT-CDO-IMPORTANCE:1
END:VEVENT
BEGIN:VEVENT
UID:g8ppc@games.golnetwork.com
LOCATION:CVM - Court #1
GEO:45.5146585;-73.5658635
CREATED:20160430T213707Z
DTSTART:20160520T003000Z
DTEND:20160520T013000Z
DTSTAMP:20260426T013542Z
SUMMARY:VAILLANCOURT vs. SPARTANS
DESCRIPTION:SPARTANS vs. VAILLANCOURTMore info: #36
X-ALT-DESC;FMTTYPE=text/html:<!DOCTYPE HTML PUBLIC "-//W3C//DTD HTML 3.2//E
	N">\n<HTML>\n<HEAD>\n<TITLE></TITLE>\n</HEAD>\n<BODY>\n<h3>SPARTANS vs. VAI
	LLANCOURT</h3>More info: <a href="https://www.golnetwork.com/game/v/87189/"
	>#36</a>\n\n</BODY>\n</HTML>
STATUS:CONFIRMED
CLASS:PUBLIC
URL:https://www.golnetwork.com/game/v/87189/
X-MICROSOFT-CDO-BUSYSTATUS:BUSY
X-MICROSOFT-CDO-IMPORTANCE:1
END:VEVENT
BEGIN:VEVENT
UID:g8poj@games.golnetwork.com
LOCATION:CVM - Court #1
GEO:45.5146585;-73.5658635
CREATED:20160430T213707Z
DTSTART:20160513T003000Z
DTEND:20160513T013000Z
DTSTAMP:20260426T013542Z
SUMMARY:MONSTARS vs. SPARTANS
DESCRIPTION:SPARTANS vs. MONSTARSMore info: #19
X-ALT-DESC;FMTTYPE=text/html:<!DOCTYPE HTML PUBLIC "-//W3C//DTD HTML 3.2//E
	N">\n<HTML>\n<HEAD>\n<TITLE></TITLE>\n</HEAD>\n<BODY>\n<h3>SPARTANS vs. MON
	STARS</h3>More info: <a href="https://www.golnetwork.com/game/v/87179/">#19
	</a>\n\n</BODY>\n</HTML>
STATUS:CONFIRMED
CLASS:PUBLIC
URL:https://www.golnetwork.com/game/v/87179/
X-MICROSOFT-CDO-BUSYSTATUS:BUSY
X-MICROSOFT-CDO-IMPORTANCE:1
END:VEVENT
END:VCALENDAR
