BEGIN:VCALENDAR
PRODID:-//gdesolutions.com//MV Framework 1.0.0.1607 Calendar//EN
VERSION:2.0
METHOD:PUBLISH
CALSCALE:GREGORIAN
BEGIN:VEVENT
UID:g9041@games.golnetwork.com
LOCATION:CVM - Court #1
GEO:45.5146585;-73.5658635
CREATED:20160501T003617Z
DTSTART:20160823T233000Z
DTEND:20160824T003000Z
DTSTAMP:20260422T115312Z
SUMMARY:BREAKGLASS vs. SUPERSTARZ
DESCRIPTION:SUPERSTARZ vs. BREAKGLASSMore info: #357
X-ALT-DESC;FMTTYPE=text/html:<!DOCTYPE HTML PUBLIC "-//W3C//DTD HTML 3.2//E
	N">\n<HTML>\n<HEAD>\n<TITLE></TITLE>\n</HEAD>\n<BODY>\n<h3>SUPERSTARZ vs. B
	REAKGLASS</h3>More info: <a href="https://www.golnetwork.com/game/v/87629/"
	>#357</a>\n\n</BODY>\n</HTML>
STATUS:CONFIRMED
CLASS:PUBLIC
URL:https://www.golnetwork.com/game/v/87629/
X-MICROSOFT-CDO-BUSYSTATUS:BUSY
X-MICROSOFT-CDO-IMPORTANCE:1
END:VEVENT
BEGIN:VEVENT
UID:g8qn1@games.golnetwork.com
LOCATION:Marianopolis #1
GEO:45.4807868;-73.610845
CREATED:20160501T003616Z
DTSTART:20160819T001500Z
DTEND:20160819T011500Z
DTSTAMP:20260422T115312Z
SUMMARY:SUPERSTARZ vs. MURRAY HILL
DESCRIPTION:MURRAY HILL vs. SUPERSTARZMore info: #346
X-ALT-DESC;FMTTYPE=text/html:<!DOCTYPE HTML PUBLIC "-//W3C//DTD HTML 3.2//E
	N">\n<HTML>\n<HEAD>\n<TITLE></TITLE>\n</HEAD>\n<BODY>\n<h3>MURRAY HILL vs. 
	SUPERSTARZ</h3>More info: <a href="https://www.golnetwork.com/game/v/87521/
	">#346</a>\n\n</BODY>\n</HTML>
STATUS:CONFIRMED
CLASS:PUBLIC
URL:https://www.golnetwork.com/game/v/87521/
X-MICROSOFT-CDO-BUSYSTATUS:BUSY
X-MICROSOFT-CDO-IMPORTANCE:1
END:VEVENT
BEGIN:VEVENT
UID:g903o@games.golnetwork.com
LOCATION:CVM - Court #1
GEO:45.5146585;-73.5658635
CREATED:20160501T003617Z
DTSTART:20160817T013000Z
DTEND:20160817T023000Z
DTSTAMP:20260422T115312Z
SUMMARY:SUPERSTARZ vs. D BLOCK
DESCRIPTION:D BLOCK vs. SUPERSTARZMore info: #339
X-ALT-DESC;FMTTYPE=text/html:<!DOCTYPE HTML PUBLIC "-//W3C//DTD HTML 3.2//E
	N">\n<HTML>\n<HEAD>\n<TITLE></TITLE>\n</HEAD>\n<BODY>\n<h3>D BLOCK vs. SUPE
	RSTARZ</h3>More info: <a href="https://www.golnetwork.com/game/v/87627/">#3
	39</a>\n\n</BODY>\n</HTML>
STATUS:CONFIRMED
CLASS:PUBLIC
URL:https://www.golnetwork.com/game/v/87627/
X-MICROSOFT-CDO-BUSYSTATUS:BUSY
X-MICROSOFT-CDO-IMPORTANCE:1
END:VEVENT
BEGIN:VEVENT
UID:g903a@games.golnetwork.com
LOCATION:CVM - Court #1
GEO:45.5146585;-73.5658635
CREATED:20160501T003617Z
DTSTART:20160810T003000Z
DTEND:20160810T013000Z
DTSTAMP:20260422T115312Z
SUMMARY:SUPERSTARZ vs. OLD SCHOOL
DESCRIPTION:OLD SCHOOL vs. SUPERSTARZMore info: #308
X-ALT-DESC;FMTTYPE=text/html:<!DOCTYPE HTML PUBLIC "-//W3C//DTD HTML 3.2//E
	N">\n<HTML>\n<HEAD>\n<TITLE></TITLE>\n</HEAD>\n<BODY>\n<h3>OLD SCHOOL vs. S
	UPERSTARZ</h3>More info: <a href="https://www.golnetwork.com/game/v/87620/"
	>#308</a>\n\n</BODY>\n</HTML>
STATUS:CONFIRMED
CLASS:PUBLIC
URL:https://www.golnetwork.com/game/v/87620/
X-MICROSOFT-CDO-BUSYSTATUS:BUSY
X-MICROSOFT-CDO-IMPORTANCE:1
END:VEVENT
BEGIN:VEVENT
UID:g902l@games.golnetwork.com
LOCATION:Marianopolis #1
GEO:45.4807868;-73.610845
CREATED:20160501T003617Z
DTSTART:20160805T003000Z
DTEND:20160805T013000Z
DTSTAMP:20260422T115312Z
SUMMARY:ANTUAN'S GUNNERS vs. SUPERSTARZ
DESCRIPTION:SUPERSTARZ vs. ANTUAN'S GUNNERSMore info: #299
X-ALT-DESC;FMTTYPE=text/html:<!DOCTYPE HTML PUBLIC "-//W3C//DTD HTML 3.2//E
	N">\n<HTML>\n<HEAD>\n<TITLE></TITLE>\n</HEAD>\n<BODY>\n<h3>SUPERSTARZ vs. A
	NTUAN'S GUNNERS</h3>More info: <a href="https://www.golnetwork.com/game/v/8
	7612/">#299</a>\n\n</BODY>\n</HTML>
STATUS:CONFIRMED
CLASS:PUBLIC
URL:https://www.golnetwork.com/game/v/87612/
X-MICROSOFT-CDO-BUSYSTATUS:BUSY
X-MICROSOFT-CDO-IMPORTANCE:1
END:VEVENT
BEGIN:VEVENT
UID:g9023@games.golnetwork.com
LOCATION:Marianopolis #1
GEO:45.4807868;-73.610845
CREATED:20160501T003617Z
DTSTART:20160726T223000Z
DTEND:20160726T233000Z
DTSTAMP:20260422T115312Z
SUMMARY:NO EZ BASKET vs. SUPERSTARZ
DESCRIPTION:SUPERSTARZ vs. NO EZ BASKETMore info: #258
X-ALT-DESC;FMTTYPE=text/html:<!DOCTYPE HTML PUBLIC "-//W3C//DTD HTML 3.2//E
	N">\n<HTML>\n<HEAD>\n<TITLE></TITLE>\n</HEAD>\n<BODY>\n<h3>SUPERSTARZ vs. N
	O EZ BASKET</h3>More info: <a href="https://www.golnetwork.com/game/v/87603
	/">#258</a>\n\n</BODY>\n</HTML>
STATUS:CONFIRMED
CLASS:PUBLIC
URL:https://www.golnetwork.com/game/v/87603/
X-MICROSOFT-CDO-BUSYSTATUS:BUSY
X-MICROSOFT-CDO-IMPORTANCE:1
END:VEVENT
BEGIN:VEVENT
UID:g901c@games.golnetwork.com
LOCATION:CVM - Court #1
GEO:45.5146585;-73.5658635
CREATED:20160501T003617Z
DTSTART:20160720T003000Z
DTEND:20160720T013000Z
DTSTAMP:20260422T115312Z
SUMMARY:THE FLINT TROPICS vs. SUPERSTARZ
DESCRIPTION:SUPERSTARZ vs. THE FLINT TROPICSMore info: #237
X-ALT-DESC;FMTTYPE=text/html:<!DOCTYPE HTML PUBLIC "-//W3C//DTD HTML 3.2//E
	N">\n<HTML>\n<HEAD>\n<TITLE></TITLE>\n</HEAD>\n<BODY>\n<h3>SUPERSTARZ vs. T
	HE FLINT TROPICS</h3>More info: <a href="https://www.golnetwork.com/game/v/
	87594/">#237</a>\n\n</BODY>\n</HTML>
STATUS:CONFIRMED
CLASS:PUBLIC
URL:https://www.golnetwork.com/game/v/87594/
X-MICROSOFT-CDO-BUSYSTATUS:BUSY
X-MICROSOFT-CDO-IMPORTANCE:1
END:VEVENT
BEGIN:VEVENT
UID:g900l@games.golnetwork.com
LOCATION:Marianopolis #1
GEO:45.4807868;-73.610845
CREATED:20160501T003617Z
DTSTART:20160712T233000Z
DTEND:20160713T003000Z
DTSTAMP:20260422T115312Z
SUMMARY:BREAKGLASS vs. SUPERSTARZ
DESCRIPTION:SUPERSTARZ vs. BREAKGLASSMore info: #211
X-ALT-DESC;FMTTYPE=text/html:<!DOCTYPE HTML PUBLIC "-//W3C//DTD HTML 3.2//E
	N">\n<HTML>\n<HEAD>\n<TITLE></TITLE>\n</HEAD>\n<BODY>\n<h3>SUPERSTARZ vs. B
	REAKGLASS</h3>More info: <a href="https://www.golnetwork.com/game/v/87585/"
	>#211</a>\n\n</BODY>\n</HTML>
STATUS:CONFIRMED
CLASS:PUBLIC
URL:https://www.golnetwork.com/game/v/87585/
X-MICROSOFT-CDO-BUSYSTATUS:BUSY
X-MICROSOFT-CDO-IMPORTANCE:1
END:VEVENT
BEGIN:VEVENT
UID:g9003@games.golnetwork.com
LOCATION:Marianopolis #1
GEO:45.4807868;-73.610845
CREATED:20160501T003617Z
DTSTART:20160706T013000Z
DTEND:20160706T023000Z
DTSTAMP:20260422T115312Z
SUMMARY:NIPHAKIS vs. SUPERSTARZ
DESCRIPTION:SUPERSTARZ vs. NIPHAKISMore info: #192
X-ALT-DESC;FMTTYPE=text/html:<!DOCTYPE HTML PUBLIC "-//W3C//DTD HTML 3.2//E
	N">\n<HTML>\n<HEAD>\n<TITLE></TITLE>\n</HEAD>\n<BODY>\n<h3>SUPERSTARZ vs. N
	IPHAKIS</h3>More info: <a href="https://www.golnetwork.com/game/v/87576/">#
	192</a>\n\n</BODY>\n</HTML>
STATUS:CONFIRMED
CLASS:PUBLIC
URL:https://www.golnetwork.com/game/v/87576/
X-MICROSOFT-CDO-BUSYSTATUS:BUSY
X-MICROSOFT-CDO-IMPORTANCE:1
END:VEVENT
BEGIN:VEVENT
UID:g8qqc@games.golnetwork.com
LOCATION:Marianopolis #1
GEO:45.4807868;-73.610845
CREATED:20160501T003616Z
DTSTART:20160630T233000Z
DTEND:20160701T003000Z
DTSTAMP:20260422T115312Z
SUMMARY:PAX TOWN vs. SUPERSTARZ
DESCRIPTION:SUPERSTARZ vs. PAX TOWNMore info: #176
X-ALT-DESC;FMTTYPE=text/html:<!DOCTYPE HTML PUBLIC "-//W3C//DTD HTML 3.2//E
	N">\n<HTML>\n<HEAD>\n<TITLE></TITLE>\n</HEAD>\n<BODY>\n<h3>SUPERSTARZ vs. P
	AX TOWN</h3>More info: <a href="https://www.golnetwork.com/game/v/87567/">#
	176</a>\n\n</BODY>\n</HTML>
STATUS:CONFIRMED
CLASS:PUBLIC
URL:https://www.golnetwork.com/game/v/87567/
X-MICROSOFT-CDO-BUSYSTATUS:BUSY
X-MICROSOFT-CDO-IMPORTANCE:1
END:VEVENT
BEGIN:VEVENT
UID:g8qpl@games.golnetwork.com
LOCATION:Marianopolis #1
GEO:45.4807868;-73.610845
CREATED:20160501T003616Z
DTSTART:20160621T223000Z
DTEND:20160621T233000Z
DTSTAMP:20260422T115312Z
SUMMARY:LES FOX vs. SUPERSTARZ
DESCRIPTION:SUPERSTARZ vs. LES FOXMore info: #137
X-ALT-DESC;FMTTYPE=text/html:<!DOCTYPE HTML PUBLIC "-//W3C//DTD HTML 3.2//E
	N">\n<HTML>\n<HEAD>\n<TITLE></TITLE>\n</HEAD>\n<BODY>\n<h3>SUPERSTARZ vs. L
	ES FOX</h3>More info: <a href="https://www.golnetwork.com/game/v/87558/">#1
	37</a>\n\n</BODY>\n</HTML>
STATUS:CONFIRMED
CLASS:PUBLIC
URL:https://www.golnetwork.com/game/v/87558/
X-MICROSOFT-CDO-BUSYSTATUS:BUSY
X-MICROSOFT-CDO-IMPORTANCE:1
END:VEVENT
BEGIN:VEVENT
UID:g8qp3@games.golnetwork.com
LOCATION:CVM - Court #1
GEO:45.5146585;-73.5658635
CREATED:20160501T003616Z
DTSTART:20160615T003000Z
DTEND:20160615T013000Z
DTSTAMP:20260422T115312Z
SUMMARY:SUPERSTARZ vs. DADOLLE 2
DESCRIPTION:DADOLLE 2 vs. SUPERSTARZMore info: #116
X-ALT-DESC;FMTTYPE=text/html:<!DOCTYPE HTML PUBLIC "-//W3C//DTD HTML 3.2//E
	N">\n<HTML>\n<HEAD>\n<TITLE></TITLE>\n</HEAD>\n<BODY>\n<h3>DADOLLE 2 vs. SU
	PERSTARZ</h3>More info: <a href="https://www.golnetwork.com/game/v/87549/">
	#116</a>\n\n</BODY>\n</HTML>
STATUS:CONFIRMED
CLASS:PUBLIC
URL:https://www.golnetwork.com/game/v/87549/
X-MICROSOFT-CDO-BUSYSTATUS:BUSY
X-MICROSOFT-CDO-IMPORTANCE:1
END:VEVENT
BEGIN:VEVENT
UID:g8qog@games.golnetwork.com
LOCATION:Marianopolis #1
GEO:45.4807868;-73.610845
CREATED:20160501T003616Z
DTSTART:20160607T233000Z
DTEND:20160608T003000Z
DTSTAMP:20260422T115312Z
SUMMARY:SUPERSTARZ vs. PIPPEN AINT EASY
DESCRIPTION:PIPPEN AINT EASY vs. SUPERSTARZMore info: #93
X-ALT-DESC;FMTTYPE=text/html:<!DOCTYPE HTML PUBLIC "-//W3C//DTD HTML 3.2//E
	N">\n<HTML>\n<HEAD>\n<TITLE></TITLE>\n</HEAD>\n<BODY>\n<h3>PIPPEN AINT EASY
	 vs. SUPERSTARZ</h3>More info: <a href="https://www.golnetwork.com/game/v/8
	7542/">#93</a>\n\n</BODY>\n</HTML>
STATUS:CONFIRMED
CLASS:PUBLIC
URL:https://www.golnetwork.com/game/v/87542/
X-MICROSOFT-CDO-BUSYSTATUS:BUSY
X-MICROSOFT-CDO-IMPORTANCE:1
END:VEVENT
BEGIN:VEVENT
UID:g8qo2@games.golnetwork.com
LOCATION:Marianopolis #1
GEO:45.4807868;-73.610845
CREATED:20160501T003616Z
DTSTART:20160531T233000Z
DTEND:20160601T003000Z
DTSTAMP:20260422T115312Z
SUMMARY:SUPERSTARZ vs. DEMONS
DESCRIPTION:DEMONS vs. SUPERSTARZMore info: #69
X-ALT-DESC;FMTTYPE=text/html:<!DOCTYPE HTML PUBLIC "-//W3C//DTD HTML 3.2//E
	N">\n<HTML>\n<HEAD>\n<TITLE></TITLE>\n</HEAD>\n<BODY>\n<h3>DEMONS vs. SUPER
	STARZ</h3>More info: <a href="https://www.golnetwork.com/game/v/87535/">#69
	</a>\n\n</BODY>\n</HTML>
STATUS:CONFIRMED
CLASS:PUBLIC
URL:https://www.golnetwork.com/game/v/87535/
X-MICROSOFT-CDO-BUSYSTATUS:BUSY
X-MICROSOFT-CDO-IMPORTANCE:1
END:VEVENT
BEGIN:VEVENT
UID:g8qme@games.golnetwork.com
LOCATION:Marianopolis #1
GEO:45.4807868;-73.610845
CREATED:20160501T003616Z
DTSTART:20160526T223000Z
DTEND:20160526T233000Z
DTSTAMP:20260422T115312Z
SUMMARY:SUPERSTARZ vs. BERALL
DESCRIPTION:BERALL vs. SUPERSTARZMore info: #55
X-ALT-DESC;FMTTYPE=text/html:<!DOCTYPE HTML PUBLIC "-//W3C//DTD HTML 3.2//E
	N">\n<HTML>\n<HEAD>\n<TITLE></TITLE>\n</HEAD>\n<BODY>\n<h3>BERALL vs. SUPER
	STARZ</h3>More info: <a href="https://www.golnetwork.com/game/v/87514/">#55
	</a>\n\n</BODY>\n</HTML>
STATUS:CONFIRMED
CLASS:PUBLIC
URL:https://www.golnetwork.com/game/v/87514/
X-MICROSOFT-CDO-BUSYSTATUS:BUSY
X-MICROSOFT-CDO-IMPORTANCE:1
END:VEVENT
BEGIN:VEVENT
UID:g8qnf@games.golnetwork.com
LOCATION:Marianopolis #1
GEO:45.4807868;-73.610845
CREATED:20160501T003616Z
DTSTART:20160525T003000Z
DTEND:20160525T013000Z
DTSTAMP:20260422T115312Z
SUMMARY:SUPERSTARZ vs. BLACK MAMBAS
DESCRIPTION:BLACK MAMBAS vs. SUPERSTARZMore info: #47
X-ALT-DESC;FMTTYPE=text/html:<!DOCTYPE HTML PUBLIC "-//W3C//DTD HTML 3.2//E
	N">\n<HTML>\n<HEAD>\n<TITLE></TITLE>\n</HEAD>\n<BODY>\n<h3>BLACK MAMBAS vs.
	 SUPERSTARZ</h3>More info: <a href="https://www.golnetwork.com/game/v/87528
	/">#47</a>\n\n</BODY>\n</HTML>
STATUS:CONFIRMED
CLASS:PUBLIC
URL:https://www.golnetwork.com/game/v/87528/
X-MICROSOFT-CDO-BUSYSTATUS:BUSY
X-MICROSOFT-CDO-IMPORTANCE:1
END:VEVENT
END:VCALENDAR
