BEGIN:VCALENDAR
PRODID:-//gdesolutions.com//MV Framework 1.0.0.1607 Calendar//EN
VERSION:2.0
METHOD:PUBLISH
CALSCALE:GREGORIAN
BEGIN:VEVENT
UID:gcaq6@games.golnetwork.com
LOCATION:Bickford/West End Alternative
GEO:43.662764;-79.4202341
CREATED:20180306T173846Z
DTSTART:20180529T003000Z
DTEND:20180529T013000Z
DTSTAMP:20260421T001759Z
SUMMARY:No Show Joes vs. Anti-Oppressors FC
DESCRIPTION:Anti-Oppressors FC vs. No Show JoesMore info: #45
X-ALT-DESC;FMTTYPE=text/html:<!DOCTYPE HTML PUBLIC "-//W3C//DTD HTML 3.2//E
	N">\n<HTML>\n<HEAD>\n<TITLE></TITLE>\n</HEAD>\n<BODY>\n<h3>Anti-Oppressors 
	FC vs. No Show Joes</h3>More info: <a href="https://www.golnetwork.com/game
	/v/121098/">#45</a>\n\n</BODY>\n</HTML>
STATUS:CONFIRMED
CLASS:PUBLIC
URL:https://www.golnetwork.com/game/v/121098/
X-MICROSOFT-CDO-BUSYSTATUS:BUSY
X-MICROSOFT-CDO-IMPORTANCE:1
END:VEVENT
BEGIN:VEVENT
UID:gcaq2@games.golnetwork.com
LOCATION:Bickford/West End Alternative
GEO:43.662764;-79.4202341
CREATED:20180306T173838Z
DTSTART:20180514T223000Z
DTEND:20180514T233000Z
DTSTAMP:20260421T001759Z
SUMMARY:Anti-Oppressors FC vs. Axonometrics
DESCRIPTION:Axonometrics vs. Anti-Oppressors FCMore info: #40
X-ALT-DESC;FMTTYPE=text/html:<!DOCTYPE HTML PUBLIC "-//W3C//DTD HTML 3.2//E
	N">\n<HTML>\n<HEAD>\n<TITLE></TITLE>\n</HEAD>\n<BODY>\n<h3>Axonometrics vs.
	 Anti-Oppressors FC</h3>More info: <a href="https://www.golnetwork.com/game
	/v/121096/">#40</a>\n\n</BODY>\n</HTML>
STATUS:CONFIRMED
CLASS:PUBLIC
URL:https://www.golnetwork.com/game/v/121096/
X-MICROSOFT-CDO-BUSYSTATUS:BUSY
X-MICROSOFT-CDO-IMPORTANCE:1
END:VEVENT
BEGIN:VEVENT
UID:gcapf@games.golnetwork.com
LOCATION:Bickford/West End Alternative
GEO:43.662764;-79.4202341
CREATED:20180306T173743Z
DTSTART:20180508T003000Z
DTEND:20180508T013000Z
DTSTAMP:20260421T001759Z
SUMMARY:Midnight Marauders vs. Anti-Oppressors FC
DESCRIPTION:Anti-Oppressors FC vs. Midnight MaraudersMore info: #39
X-ALT-DESC;FMTTYPE=text/html:<!DOCTYPE HTML PUBLIC "-//W3C//DTD HTML 3.2//E
	N">\n<HTML>\n<HEAD>\n<TITLE></TITLE>\n</HEAD>\n<BODY>\n<h3>Anti-Oppressors 
	FC vs. Midnight Marauders</h3>More info: <a href="https://www.golnetwork.co
	m/game/v/121089/">#39</a>\n\n</BODY>\n</HTML>
STATUS:CONFIRMED
CLASS:PUBLIC
URL:https://www.golnetwork.com/game/v/121089/
X-MICROSOFT-CDO-BUSYSTATUS:BUSY
X-MICROSOFT-CDO-IMPORTANCE:1
END:VEVENT
BEGIN:VEVENT
UID:gcaq0@games.golnetwork.com
LOCATION:Bickford/West End Alternative
GEO:43.662764;-79.4202341
CREATED:20180306T173831Z
DTSTART:20180501T003000Z
DTEND:20180501T013000Z
DTSTAMP:20260421T001759Z
SUMMARY:Kickballz vs. Anti-Oppressors FC
DESCRIPTION:Anti-Oppressors FC vs. KickballzMore info: #34
X-ALT-DESC;FMTTYPE=text/html:<!DOCTYPE HTML PUBLIC "-//W3C//DTD HTML 3.2//E
	N">\n<HTML>\n<HEAD>\n<TITLE></TITLE>\n</HEAD>\n<BODY>\n<h3>Anti-Oppressors 
	FC vs. Kickballz</h3>More info: <a href="https://www.golnetwork.com/game/v/
	121095/">#34</a>\n\n</BODY>\n</HTML>
STATUS:CONFIRMED
CLASS:PUBLIC
URL:https://www.golnetwork.com/game/v/121095/
X-MICROSOFT-CDO-BUSYSTATUS:BUSY
X-MICROSOFT-CDO-IMPORTANCE:1
END:VEVENT
BEGIN:VEVENT
UID:gcaph@games.golnetwork.com
LOCATION:Bickford/West End Alternative
GEO:43.662764;-79.4202341
CREATED:20180306T173752Z
DTSTART:20180423T223000Z
DTEND:20180423T233000Z
DTSTAMP:20260421T001759Z
SUMMARY:Axonometrics vs. Anti-Oppressors FC
DESCRIPTION:Anti-Oppressors FC vs. AxonometricsMore info: #27
X-ALT-DESC;FMTTYPE=text/html:<!DOCTYPE HTML PUBLIC "-//W3C//DTD HTML 3.2//E
	N">\n<HTML>\n<HEAD>\n<TITLE></TITLE>\n</HEAD>\n<BODY>\n<h3>Anti-Oppressors 
	FC vs. Axonometrics</h3>More info: <a href="https://www.golnetwork.com/game
	/v/121090/">#27</a>\n\n</BODY>\n</HTML>
STATUS:CONFIRMED
CLASS:PUBLIC
URL:https://www.golnetwork.com/game/v/121090/
X-MICROSOFT-CDO-BUSYSTATUS:BUSY
X-MICROSOFT-CDO-IMPORTANCE:1
END:VEVENT
BEGIN:VEVENT
UID:gcap7@games.golnetwork.com
LOCATION:Bickford/West End Alternative
GEO:43.662764;-79.4202341
CREATED:20180306T173709Z
DTSTART:20180409T233000Z
DTEND:20180410T003000Z
DTSTAMP:20260421T001759Z
SUMMARY:Anti-Oppressors FC vs. No Show Joes
DESCRIPTION:No Show Joes vs. Anti-Oppressors FCMore info: #21
X-ALT-DESC;FMTTYPE=text/html:<!DOCTYPE HTML PUBLIC "-//W3C//DTD HTML 3.2//E
	N">\n<HTML>\n<HEAD>\n<TITLE></TITLE>\n</HEAD>\n<BODY>\n<h3>No Show Joes vs.
	 Anti-Oppressors FC</h3>More info: <a href="https://www.golnetwork.com/game
	/v/121085/">#21</a>\n\n</BODY>\n</HTML>
STATUS:CONFIRMED
CLASS:PUBLIC
URL:https://www.golnetwork.com/game/v/121085/
X-MICROSOFT-CDO-BUSYSTATUS:BUSY
X-MICROSOFT-CDO-IMPORTANCE:1
END:VEVENT
BEGIN:VEVENT
UID:gcap1@games.golnetwork.com
LOCATION:Bickford/West End Alternative
GEO:43.662764;-79.4202341
CREATED:20180306T173645Z
DTSTART:20180326T233000Z
DTEND:20180327T003000Z
DTSTAMP:20260421T001759Z
SUMMARY:Team United vs. Anti-Oppressors FC
DESCRIPTION:Anti-Oppressors FC vs. Team UnitedMore info: #14
X-ALT-DESC;FMTTYPE=text/html:<!DOCTYPE HTML PUBLIC "-//W3C//DTD HTML 3.2//E
	N">\n<HTML>\n<HEAD>\n<TITLE></TITLE>\n</HEAD>\n<BODY>\n<h3>Anti-Oppressors 
	FC vs. Team United</h3>More info: <a href="https://www.golnetwork.com/game/
	v/121082/">#14</a>\n\n</BODY>\n</HTML>
STATUS:CONFIRMED
CLASS:PUBLIC
URL:https://www.golnetwork.com/game/v/121082/
X-MICROSOFT-CDO-BUSYSTATUS:BUSY
X-MICROSOFT-CDO-IMPORTANCE:1
END:VEVENT
BEGIN:VEVENT
UID:gcaoo@games.golnetwork.com
LOCATION:Bickford/West End Alternative
GEO:43.662764;-79.4202341
CREATED:20180306T173630Z
DTSTART:20180320T003000Z
DTEND:20180320T013000Z
DTSTAMP:20260421T001759Z
SUMMARY:Kickballz vs. Anti-Oppressors FC
DESCRIPTION:Anti-Oppressors FC vs. KickballzMore info: #10
X-ALT-DESC;FMTTYPE=text/html:<!DOCTYPE HTML PUBLIC "-//W3C//DTD HTML 3.2//E
	N">\n<HTML>\n<HEAD>\n<TITLE></TITLE>\n</HEAD>\n<BODY>\n<h3>Anti-Oppressors 
	FC vs. Kickballz</h3>More info: <a href="https://www.golnetwork.com/game/v/
	121080/">#10</a>\n\n</BODY>\n</HTML>
STATUS:CONFIRMED
CLASS:PUBLIC
URL:https://www.golnetwork.com/game/v/121080/
X-MICROSOFT-CDO-BUSYSTATUS:BUSY
X-MICROSOFT-CDO-IMPORTANCE:1
END:VEVENT
BEGIN:VEVENT
UID:gca9b@games.golnetwork.com
LOCATION:Bickford/West End Alternative
GEO:43.662764;-79.4202341
CREATED:20180227T163603Z
DTSTART:20180305T233000Z
DTEND:20180306T003000Z
DTSTAMP:20260421T001759Z
SUMMARY:Axonometrics vs. Anti-Oppressors FC
DESCRIPTION:Anti-Oppressors FC vs. AxonometricsMore info: #3
X-ALT-DESC;FMTTYPE=text/html:<!DOCTYPE HTML PUBLIC "-//W3C//DTD HTML 3.2//E
	N">\n<HTML>\n<HEAD>\n<TITLE></TITLE>\n</HEAD>\n<BODY>\n<h3>Anti-Oppressors 
	FC vs. Axonometrics</h3>More info: <a href="https://www.golnetwork.com/game
	/v/120871/">#3</a>\n\n</BODY>\n</HTML>
STATUS:CONFIRMED
CLASS:PUBLIC
URL:https://www.golnetwork.com/game/v/120871/
X-MICROSOFT-CDO-BUSYSTATUS:BUSY
X-MICROSOFT-CDO-IMPORTANCE:1
END:VEVENT
END:VCALENDAR
