BEGIN:VCALENDAR
PRODID:-//gdesolutions.com//MV Framework 1.0.0.1607 Calendar//EN
VERSION:2.0
METHOD:PUBLISH
CALSCALE:GREGORIAN
BEGIN:VEVENT
UID:g97g6@games.golnetwork.com
LOCATION:McCarthy Park Field #4
GEO:45.3518541;-75.6719009
CREATED:20160708T195455Z
DTSTART:20160721T224500Z
DTEND:20160722T001500Z
DTSTAMP:20260422T054136Z
SUMMARY:Individuals 1 vs. Mercury Man Dem
DESCRIPTION:Mercury Man Dem vs. Individuals 1More info: #30
X-ALT-DESC;FMTTYPE=text/html:<!DOCTYPE HTML PUBLIC "-//W3C//DTD HTML 3.2//E
	N">\n<HTML>\n<HEAD>\n<TITLE></TITLE>\n</HEAD>\n<BODY>\n<h3>Mercury Man Dem 
	vs. Individuals 1</h3>More info: <a href="https://www.golnetwork.com/game/v
	/90345/">#30</a>\n\n</BODY>\n</HTML>
STATUS:CONFIRMED
CLASS:PUBLIC
URL:https://www.golnetwork.com/game/v/90345/
X-MICROSOFT-CDO-BUSYSTATUS:BUSY
X-MICROSOFT-CDO-IMPORTANCE:1
END:VEVENT
BEGIN:VEVENT
UID:g97e8@games.golnetwork.com
LOCATION:Louis Riel #1
GEO:45.4410208;-75.5715394
CREATED:20160708T195454Z
DTSTART:20160715T000000Z
DTEND:20160715T013000Z
DTSTAMP:20260422T054136Z
SUMMARY:Mercury Man Dem vs. Fm FC
DESCRIPTION:Fm FC vs. Mercury Man DemMore info: #4
X-ALT-DESC;FMTTYPE=text/html:<!DOCTYPE HTML PUBLIC "-//W3C//DTD HTML 3.2//E
	N">\n<HTML>\n<HEAD>\n<TITLE></TITLE>\n</HEAD>\n<BODY>\n<h3>Fm FC vs. Mercur
	y Man Dem</h3>More info: <a href="https://www.golnetwork.com/game/v/90319/"
	>#4</a>\n\n</BODY>\n</HTML>
STATUS:CONFIRMED
CLASS:PUBLIC
URL:https://www.golnetwork.com/game/v/90319/
X-MICROSOFT-CDO-BUSYSTATUS:BUSY
X-MICROSOFT-CDO-IMPORTANCE:1
END:VEVENT
BEGIN:VEVENT
UID:g97e4@games.golnetwork.com
LOCATION:Louis Riel #2
GEO:45.4410208;-75.5715394
CREATED:20160708T195454Z
DTSTART:20160714T223000Z
DTEND:20160715T000000Z
DTSTAMP:20260422T054136Z
SUMMARY:Mercury Man Dem vs. One Kick Wonders FC
DESCRIPTION:One Kick Wonders FC vs. Mercury Man DemMore info: #2
X-ALT-DESC;FMTTYPE=text/html:<!DOCTYPE HTML PUBLIC "-//W3C//DTD HTML 3.2//E
	N">\n<HTML>\n<HEAD>\n<TITLE></TITLE>\n</HEAD>\n<BODY>\n<h3>One Kick Wonders
	 FC vs. Mercury Man Dem</h3>More info: <a href="https://www.golnetwork.com/
	game/v/90317/">#2</a>\n\n</BODY>\n</HTML>
STATUS:CONFIRMED
CLASS:PUBLIC
URL:https://www.golnetwork.com/game/v/90317/
X-MICROSOFT-CDO-BUSYSTATUS:BUSY
X-MICROSOFT-CDO-IMPORTANCE:1
END:VEVENT
BEGIN:VEVENT
UID:g96ih@games.golnetwork.com
LOCATION:Louis Riel #1
GEO:45.4410208;-75.5715394
CREATED:20160704T011012Z
DTSTART:20160708T000000Z
DTEND:20160708T013000Z
DTSTAMP:20260422T054136Z
SUMMARY:Arsenanal FC vs. Mercury Man Dem
DESCRIPTION:Mercury Man Dem vs. Arsenanal FCMore info: #108
X-ALT-DESC;FMTTYPE=text/html:<!DOCTYPE HTML PUBLIC "-//W3C//DTD HTML 3.2//E
	N">\n<HTML>\n<HEAD>\n<TITLE></TITLE>\n</HEAD>\n<BODY>\n<h3>Mercury Man Dem 
	vs. Arsenanal FC</h3>More info: <a href="https://www.golnetwork.com/game/v/
	90013/">#108</a>\n\n</BODY>\n</HTML>
STATUS:CONFIRMED
CLASS:PUBLIC
URL:https://www.golnetwork.com/game/v/90013/
X-MICROSOFT-CDO-BUSYSTATUS:BUSY
X-MICROSOFT-CDO-IMPORTANCE:1
END:VEVENT
BEGIN:VEVENT
UID:g958a@games.golnetwork.com
LOCATION:Lester B. Pearson Field 1
GEO:45.4429892;-75.5963901
CREATED:20160621T055042Z
DTSTART:20160623T224500Z
DTEND:20160624T001500Z
DTSTAMP:20260422T054136Z
SUMMARY:Mercury Man Dem vs. Crowding Your Box
DESCRIPTION:Crowding Your Box vs. Mercury Man DemMore info: #14
X-ALT-DESC;FMTTYPE=text/html:<!DOCTYPE HTML PUBLIC "-//W3C//DTD HTML 3.2//E
	N">\n<HTML>\n<HEAD>\n<TITLE></TITLE>\n</HEAD>\n<BODY>\n<h3>Crowding Your Bo
	x vs. Mercury Man Dem</h3>More info: <a href="https://www.golnetwork.com/ga
	me/v/89510/">#14</a>\n\n</BODY>\n</HTML>
STATUS:CONFIRMED
CLASS:PUBLIC
URL:https://www.golnetwork.com/game/v/89510/
X-MICROSOFT-CDO-BUSYSTATUS:BUSY
X-MICROSOFT-CDO-IMPORTANCE:1
END:VEVENT
BEGIN:VEVENT
UID:g94fg@games.golnetwork.com
LOCATION:McCarthy Park Field #5
GEO:45.3517739;-75.6718247
CREATED:20160530T033909Z
DTSTART:20160616T224500Z
DTEND:20160617T001500Z
DTSTAMP:20260422T054136Z
SUMMARY:Mercury Man Dem vs. The Miseducation
DESCRIPTION:The Miseducation vs. Mercury Man DemMore info: #47
X-ALT-DESC;FMTTYPE=text/html:<!DOCTYPE HTML PUBLIC "-//W3C//DTD HTML 3.2//E
	N">\n<HTML>\n<HEAD>\n<TITLE></TITLE>\n</HEAD>\n<BODY>\n<h3>The Miseducation
	 vs. Mercury Man Dem</h3>More info: <a href="https://www.golnetwork.com/gam
	e/v/89243/">#47</a>\n\n</BODY>\n</HTML>
STATUS:CONFIRMED
CLASS:PUBLIC
URL:https://www.golnetwork.com/game/v/89243/
X-MICROSOFT-CDO-BUSYSTATUS:BUSY
X-MICROSOFT-CDO-IMPORTANCE:1
END:VEVENT
BEGIN:VEVENT
UID:g94e5@games.golnetwork.com
LOCATION:McCarthy Park Field #2
GEO:45.3518541;-75.6719009
CREATED:20160530T033908Z
DTSTART:20160609T224500Z
DTEND:20160610T001500Z
DTSTAMP:20260422T054136Z
SUMMARY:Missile-toe vs. Mercury Man Dem
DESCRIPTION:Mercury Man Dem vs. Missile-toeMore info: #28
X-ALT-DESC;FMTTYPE=text/html:<!DOCTYPE HTML PUBLIC "-//W3C//DTD HTML 3.2//E
	N">\n<HTML>\n<HEAD>\n<TITLE></TITLE>\n</HEAD>\n<BODY>\n<h3>Mercury Man Dem 
	vs. Missile-toe</h3>More info: <a href="https://www.golnetwork.com/game/v/8
	9224/">#28</a>\n\n</BODY>\n</HTML>
STATUS:CONFIRMED
CLASS:PUBLIC
URL:https://www.golnetwork.com/game/v/89224/
X-MICROSOFT-CDO-BUSYSTATUS:BUSY
X-MICROSOFT-CDO-IMPORTANCE:1
END:VEVENT
BEGIN:VEVENT
UID:g94d2@games.golnetwork.com
LOCATION:McCarthy Park Field #4
GEO:45.3518541;-75.6719009
CREATED:20160530T033907Z
DTSTART:20160602T224500Z
DTEND:20160603T001500Z
DTSTAMP:20260422T054136Z
SUMMARY:Mercury Man Dem vs. SupportMyMac Attack
DESCRIPTION:SupportMyMac Attack vs. Mercury Man DemMore info: #13
X-ALT-DESC;FMTTYPE=text/html:<!DOCTYPE HTML PUBLIC "-//W3C//DTD HTML 3.2//E
	N">\n<HTML>\n<HEAD>\n<TITLE></TITLE>\n</HEAD>\n<BODY>\n<h3>SupportMyMac Att
	ack vs. Mercury Man Dem</h3>More info: <a href="https://www.golnetwork.com/
	game/v/89209/">#13</a>\n\n</BODY>\n</HTML>
STATUS:CONFIRMED
CLASS:PUBLIC
URL:https://www.golnetwork.com/game/v/89209/
X-MICROSOFT-CDO-BUSYSTATUS:BUSY
X-MICROSOFT-CDO-IMPORTANCE:1
END:VEVENT
BEGIN:VEVENT
UID:g92pm@games.golnetwork.com
LOCATION:Lester B Pearson Field 2
GEO:45.4429892;-75.5963901
CREATED:20160524T193828Z
DTSTART:20160526T224500Z
DTEND:20160527T001500Z
DTSTAMP:20260422T054136Z
SUMMARY:Mercury Man Dem vs. Hooligans United
DESCRIPTION:Hooligans United vs. Mercury Man DemMore info: #9
X-ALT-DESC;FMTTYPE=text/html:<!DOCTYPE HTML PUBLIC "-//W3C//DTD HTML 3.2//E
	N">\n<HTML>\n<HEAD>\n<TITLE></TITLE>\n</HEAD>\n<BODY>\n<h3>Hooligans United
	 vs. Mercury Man Dem</h3>More info: <a href="https://www.golnetwork.com/gam
	e/v/88652/">#9</a>\n\n</BODY>\n</HTML>
STATUS:CONFIRMED
CLASS:PUBLIC
URL:https://www.golnetwork.com/game/v/88652/
X-MICROSOFT-CDO-BUSYSTATUS:BUSY
X-MICROSOFT-CDO-IMPORTANCE:1
END:VEVENT
END:VCALENDAR
