BEGIN:VCALENDAR
PRODID:-//gdesolutions.com//MV Framework 1.0.0.1607 Calendar//EN
VERSION:2.0
METHOD:PUBLISH
CALSCALE:GREGORIAN
BEGIN:VEVENT
UID:g921e@games.golnetwork.com
LOCATION:Queen Alexandra
GEO:43.6614029;-79.3508884
CREATED:20160516T181118Z
DTSTART:20160704T233000Z
DTEND:20160705T003000Z
DTSTAMP:20260421T063358Z
SUMMARY:Synaptive Brainiacs vs. Akelius
DESCRIPTION:Akelius vs. Synaptive BrainiacsMore info: #109
X-ALT-DESC;FMTTYPE=text/html:<!DOCTYPE HTML PUBLIC "-//W3C//DTD HTML 3.2//E
	N">\n<HTML>\n<HEAD>\n<TITLE></TITLE>\n</HEAD>\n<BODY>\n<h3>Akelius vs. Syna
	ptive Brainiacs</h3>More info: <a href="https://www.golnetwork.com/game/v/8
	8324/">#109</a>\n\n</BODY>\n</HTML>
STATUS:CONFIRMED
CLASS:PUBLIC
URL:https://www.golnetwork.com/game/v/88324/
X-MICROSOFT-CDO-BUSYSTATUS:BUSY
X-MICROSOFT-CDO-IMPORTANCE:1
END:VEVENT
END:VCALENDAR
