BEGIN:VCALENDAR
PRODID:-//gdesolutions.com//MV Framework 1.0.0.1607 Calendar//EN
VERSION:2.0
METHOD:PUBLISH
CALSCALE:GREGORIAN
BEGIN:VEVENT
UID:g92ep@games.golnetwork.com
LOCATION:McNicoll Park
CREATED:20160520T193225Z
DTSTART:20160724T200000Z
DTEND:20160724T210000Z
DTSTAMP:20260419T131717Z
SUMMARY:PCL United vs. FourOneSix
DESCRIPTION:FourOneSix vs. PCL UnitedMore info: #92
X-ALT-DESC;FMTTYPE=text/html:<!DOCTYPE HTML PUBLIC "-//W3C//DTD HTML 3.2//E
	N">\n<HTML>\n<HEAD>\n<TITLE></TITLE>\n</HEAD>\n<BODY>\n<h3>FourOneSix vs. P
	CL United</h3>More info: <a href="https://www.golnetwork.com/game/v/88505/"
	>#92</a>\n\n</BODY>\n</HTML>
STATUS:CONFIRMED
CLASS:PUBLIC
URL:https://www.golnetwork.com/game/v/88505/
X-MICROSOFT-CDO-BUSYSTATUS:BUSY
X-MICROSOFT-CDO-IMPORTANCE:1
END:VEVENT
END:VCALENDAR
