BEGIN:VCALENDAR
PRODID:-//gdesolutions.com//MV Framework 1.0.0.1607 Calendar//EN
VERSION:2.0
METHOD:PUBLISH
CALSCALE:GREGORIAN
BEGIN:VEVENT
UID:g96n0@games.golnetwork.com
LOCATION:Nelson Mandela
CREATED:20160705T175005Z
DTSTART:20160822T231500Z
DTEND:20160823T001500Z
DTSTAMP:20260419T222407Z
SUMMARY:Anti-Oppressors FC vs. XTSC First Timers
DESCRIPTION:XTSC First Timers vs. Anti-Oppressors FCMore info: #252
X-ALT-DESC;FMTTYPE=text/html:<!DOCTYPE HTML PUBLIC "-//W3C//DTD HTML 3.2//E
	N">\n<HTML>\n<HEAD>\n<TITLE></TITLE>\n</HEAD>\n<BODY>\n<h3>XTSC First Timer
	s vs. Anti-Oppressors FC</h3>More info: <a href="https://www.golnetwork.com
	/game/v/90072/">#252</a>\n\n</BODY>\n</HTML>
STATUS:CONFIRMED
CLASS:PUBLIC
URL:https://www.golnetwork.com/game/v/90072/
X-MICROSOFT-CDO-BUSYSTATUS:BUSY
X-MICROSOFT-CDO-IMPORTANCE:1
END:VEVENT
BEGIN:VEVENT
UID:g96n2@games.golnetwork.com
LOCATION:Nelson Mandela
CREATED:20160705T175016Z
DTSTART:20160815T231500Z
DTEND:20160816T001500Z
DTSTAMP:20260419T222407Z
SUMMARY:Royal Gooses vs. XTSC First Timers
DESCRIPTION:XTSC First Timers vs. Royal GoosesMore info: #223
X-ALT-DESC;FMTTYPE=text/html:<!DOCTYPE HTML PUBLIC "-//W3C//DTD HTML 3.2//E
	N">\n<HTML>\n<HEAD>\n<TITLE></TITLE>\n</HEAD>\n<BODY>\n<h3>XTSC First Timer
	s vs. Royal Gooses</h3>More info: <a href="https://www.golnetwork.com/game/
	v/90073/">#223</a>\n\n</BODY>\n</HTML>
STATUS:CONFIRMED
CLASS:PUBLIC
URL:https://www.golnetwork.com/game/v/90073/
X-MICROSOFT-CDO-BUSYSTATUS:BUSY
X-MICROSOFT-CDO-IMPORTANCE:1
END:VEVENT
BEGIN:VEVENT
UID:g96mf@games.golnetwork.com
LOCATION:Danforth Tech 
GEO:43.6832127;-79.3346679
CREATED:20160705T174845Z
DTSTART:20160810T231500Z
DTEND:20160811T001500Z
DTSTAMP:20260419T222407Z
SUMMARY:XTSC First Timers vs. Pandanauts
DESCRIPTION:Pandanauts vs. XTSC First TimersMore info: #203
X-ALT-DESC;FMTTYPE=text/html:<!DOCTYPE HTML PUBLIC "-//W3C//DTD HTML 3.2//E
	N">\n<HTML>\n<HEAD>\n<TITLE></TITLE>\n</HEAD>\n<BODY>\n<h3>Pandanauts vs. X
	TSC First Timers</h3>More info: <a href="https://www.golnetwork.com/game/v/
	90066/">#203</a>\n\n</BODY>\n</HTML>
STATUS:CONFIRMED
CLASS:PUBLIC
URL:https://www.golnetwork.com/game/v/90066/
X-MICROSOFT-CDO-BUSYSTATUS:BUSY
X-MICROSOFT-CDO-IMPORTANCE:1
END:VEVENT
BEGIN:VEVENT
UID:g96mn@games.golnetwork.com
LOCATION:Nelson Mandela
CREATED:20160705T174940Z
DTSTART:20160808T233000Z
DTEND:20160809T003000Z
DTSTAMP:20260419T222407Z
SUMMARY:XTSC First Timers vs. Team United
DESCRIPTION:Team United vs. XTSC First TimersMore info: #189
X-ALT-DESC;FMTTYPE=text/html:<!DOCTYPE HTML PUBLIC "-//W3C//DTD HTML 3.2//E
	N">\n<HTML>\n<HEAD>\n<TITLE></TITLE>\n</HEAD>\n<BODY>\n<h3>Team United vs. 
	XTSC First Timers</h3>More info: <a href="https://www.golnetwork.com/game/v
	/90070/">#189</a>\n\n</BODY>\n</HTML>
STATUS:CONFIRMED
CLASS:PUBLIC
URL:https://www.golnetwork.com/game/v/90070/
X-MICROSOFT-CDO-BUSYSTATUS:BUSY
X-MICROSOFT-CDO-IMPORTANCE:1
END:VEVENT
BEGIN:VEVENT
UID:g96md@games.golnetwork.com
LOCATION:Nelson Mandela
CREATED:20160705T174832Z
DTSTART:20160726T000000Z
DTEND:20160726T010000Z
DTSTAMP:20260419T222407Z
SUMMARY:XTSC First Timers vs. Team United
DESCRIPTION:Team United vs. XTSC First TimersMore info: #122
X-ALT-DESC;FMTTYPE=text/html:<!DOCTYPE HTML PUBLIC "-//W3C//DTD HTML 3.2//E
	N">\n<HTML>\n<HEAD>\n<TITLE></TITLE>\n</HEAD>\n<BODY>\n<h3>Team United vs. 
	XTSC First Timers</h3>More info: <a href="https://www.golnetwork.com/game/v
	/90065/">#122</a>\n\n</BODY>\n</HTML>
STATUS:CONFIRMED
CLASS:PUBLIC
URL:https://www.golnetwork.com/game/v/90065/
X-MICROSOFT-CDO-BUSYSTATUS:BUSY
X-MICROSOFT-CDO-IMPORTANCE:1
END:VEVENT
BEGIN:VEVENT
UID:g96m7@games.golnetwork.com
LOCATION:Nelson Mandela
CREATED:20160705T174802Z
DTSTART:20160719T000000Z
DTEND:20160719T010000Z
DTSTAMP:20260419T222407Z
SUMMARY:XTSC First Timers vs. Anti-Oppressors FC
DESCRIPTION:Anti-Oppressors FC vs. XTSC First TimersMore info: #83
X-ALT-DESC;FMTTYPE=text/html:<!DOCTYPE HTML PUBLIC "-//W3C//DTD HTML 3.2//E
	N">\n<HTML>\n<HEAD>\n<TITLE></TITLE>\n</HEAD>\n<BODY>\n<h3>Anti-Oppressors 
	FC vs. XTSC First Timers</h3>More info: <a href="https://www.golnetwork.com
	/game/v/90062/">#83</a>\n\n</BODY>\n</HTML>
STATUS:CONFIRMED
CLASS:PUBLIC
URL:https://www.golnetwork.com/game/v/90062/
X-MICROSOFT-CDO-BUSYSTATUS:BUSY
X-MICROSOFT-CDO-IMPORTANCE:1
END:VEVENT
BEGIN:VEVENT
UID:g96m1@games.golnetwork.com
LOCATION:Nelson Mandela
CREATED:20160705T174733Z
DTSTART:20160712T000000Z
DTEND:20160712T010000Z
DTSTAMP:20260419T222407Z
SUMMARY:Royal Gooses vs. XTSC First Timers
DESCRIPTION:XTSC First Timers vs. Royal GoosesMore info: #43
X-ALT-DESC;FMTTYPE=text/html:<!DOCTYPE HTML PUBLIC "-//W3C//DTD HTML 3.2//E
	N">\n<HTML>\n<HEAD>\n<TITLE></TITLE>\n</HEAD>\n<BODY>\n<h3>XTSC First Timer
	s vs. Royal Gooses</h3>More info: <a href="https://www.golnetwork.com/game/
	v/90059/">#43</a>\n\n</BODY>\n</HTML>
STATUS:CONFIRMED
CLASS:PUBLIC
URL:https://www.golnetwork.com/game/v/90059/
X-MICROSOFT-CDO-BUSYSTATUS:BUSY
X-MICROSOFT-CDO-IMPORTANCE:1
END:VEVENT
END:VCALENDAR
