BEGIN:VCALENDAR
PRODID:-//gdesolutions.com//MV Framework 1.0.0.1607 Calendar//EN
VERSION:2.0
METHOD:PUBLISH
CALSCALE:GREGORIAN
BEGIN:VEVENT
UID:gfo3m@games.golnetwork.com
LOCATION:Central Tech - Field 3
CREATED:20200204T172255Z
DTSTART:20200324T030000Z
DTEND:20200324T040000Z
DTSTAMP:20260420T074804Z
SUMMARY:Hooligans vs. FIFA '98 for Sega Dreamcast
DESCRIPTION:FIFA '98 for Sega Dreamcast vs. HooligansMore info: #795
X-ALT-DESC;FMTTYPE=text/html:<!DOCTYPE HTML PUBLIC "-//W3C//DTD HTML 3.2//E
	N">\n<HTML>\n<HEAD>\n<TITLE></TITLE>\n</HEAD>\n<BODY>\n<h3>FIFA '98 for Seg
	a Dreamcast vs. Hooligans</h3>More info: <a href="https://www.golnetwork.co
	m/game/v/155423/">#795</a>\n\n</BODY>\n</HTML>
STATUS:CONFIRMED
CLASS:PUBLIC
URL:https://www.golnetwork.com/game/v/155423/
X-MICROSOFT-CDO-BUSYSTATUS:BUSY
X-MICROSOFT-CDO-IMPORTANCE:1
END:VEVENT
BEGIN:VEVENT
UID:gfo38@games.golnetwork.com
LOCATION:Central Tech - Field 2
GEO:43.6637272;-79.4087613
CREATED:20200204T172147Z
DTSTART:20200317T000000Z
DTEND:20200317T010000Z
DTSTAMP:20260420T074804Z
SUMMARY:Lawnboy & Bucket vs. Hooligans
DESCRIPTION:Hooligans vs. Lawnboy & BucketMore info: #706
X-ALT-DESC;FMTTYPE=text/html:<!DOCTYPE HTML PUBLIC "-//W3C//DTD HTML 3.2//E
	N">\n<HTML>\n<HEAD>\n<TITLE></TITLE>\n</HEAD>\n<BODY>\n<h3>Hooligans vs. La
	wnboy & Bucket</h3>More info: <a href="https://www.golnetwork.com/game/v/15
	5416/">#706</a>\n\n</BODY>\n</HTML>
STATUS:CONFIRMED
CLASS:PUBLIC
URL:https://www.golnetwork.com/game/v/155416/
X-MICROSOFT-CDO-BUSYSTATUS:BUSY
X-MICROSOFT-CDO-IMPORTANCE:1
END:VEVENT
BEGIN:VEVENT
UID:gfo32@games.golnetwork.com
LOCATION:Central Tech - Field 3
CREATED:20200204T172119Z
DTSTART:20200310T010000Z
DTEND:20200310T020000Z
DTSTAMP:20260420T074804Z
SUMMARY:Hooligans vs. Tie Dye
DESCRIPTION:Tie Dye vs. HooligansMore info: #622
X-ALT-DESC;FMTTYPE=text/html:<!DOCTYPE HTML PUBLIC "-//W3C//DTD HTML 3.2//E
	N">\n<HTML>\n<HEAD>\n<TITLE></TITLE>\n</HEAD>\n<BODY>\n<h3>Tie Dye vs. Hool
	igans</h3>More info: <a href="https://www.golnetwork.com/game/v/155413/">#6
	22</a>\n\n</BODY>\n</HTML>
STATUS:CONFIRMED
CLASS:PUBLIC
URL:https://www.golnetwork.com/game/v/155413/
X-MICROSOFT-CDO-BUSYSTATUS:BUSY
X-MICROSOFT-CDO-IMPORTANCE:1
END:VEVENT
BEGIN:VEVENT
UID:gfo2p@games.golnetwork.com
LOCATION:Central Tech - Field 2
GEO:43.6637272;-79.4087613
CREATED:20200204T172058Z
DTSTART:20200303T040000Z
DTEND:20200303T050000Z
DTSTAMP:20260420T074804Z
SUMMARY:Hooligans vs. F.C. Klick
DESCRIPTION:F.C. Klick vs. HooligansMore info: #536
X-ALT-DESC;FMTTYPE=text/html:<!DOCTYPE HTML PUBLIC "-//W3C//DTD HTML 3.2//E
	N">\n<HTML>\n<HEAD>\n<TITLE></TITLE>\n</HEAD>\n<BODY>\n<h3>F.C. Klick vs. H
	ooligans</h3>More info: <a href="https://www.golnetwork.com/game/v/155411/"
	>#536</a>\n\n</BODY>\n</HTML>
STATUS:CONFIRMED
CLASS:PUBLIC
URL:https://www.golnetwork.com/game/v/155411/
X-MICROSOFT-CDO-BUSYSTATUS:BUSY
X-MICROSOFT-CDO-IMPORTANCE:1
END:VEVENT
BEGIN:VEVENT
UID:gfo2b@games.golnetwork.com
LOCATION:Central Tech - Field 3
CREATED:20200204T171947Z
DTSTART:20200225T010000Z
DTEND:20200225T020000Z
DTSTAMP:20260420T074804Z
SUMMARY:Hooligans vs. Mortchester City
DESCRIPTION:Mortchester City vs. HooligansMore info: #416
X-ALT-DESC;FMTTYPE=text/html:<!DOCTYPE HTML PUBLIC "-//W3C//DTD HTML 3.2//E
	N">\n<HTML>\n<HEAD>\n<TITLE></TITLE>\n</HEAD>\n<BODY>\n<h3>Mortchester City
	 vs. Hooligans</h3>More info: <a href="https://www.golnetwork.com/game/v/15
	5404/">#416</a>\n\n</BODY>\n</HTML>
STATUS:CONFIRMED
CLASS:PUBLIC
URL:https://www.golnetwork.com/game/v/155404/
X-MICROSOFT-CDO-BUSYSTATUS:BUSY
X-MICROSOFT-CDO-IMPORTANCE:1
END:VEVENT
BEGIN:VEVENT
UID:gfo27@games.golnetwork.com
LOCATION:Central Tech - Field 2
GEO:43.6637272;-79.4087613
CREATED:20200204T171925Z
DTSTART:20200218T030000Z
DTEND:20200218T040000Z
DTSTAMP:20260420T074804Z
SUMMARY:Hooligans vs. Goal-bergine F.C.
DESCRIPTION:Goal-bergine F.C. vs. HooligansMore info: #321
X-ALT-DESC;FMTTYPE=text/html:<!DOCTYPE HTML PUBLIC "-//W3C//DTD HTML 3.2//E
	N">\n<HTML>\n<HEAD>\n<TITLE></TITLE>\n</HEAD>\n<BODY>\n<h3>Goal-bergine F.C
	. vs. Hooligans</h3>More info: <a href="https://www.golnetwork.com/game/v/1
	55402/">#321</a>\n\n</BODY>\n</HTML>
STATUS:CONFIRMED
CLASS:PUBLIC
URL:https://www.golnetwork.com/game/v/155402/
X-MICROSOFT-CDO-BUSYSTATUS:BUSY
X-MICROSOFT-CDO-IMPORTANCE:1
END:VEVENT
BEGIN:VEVENT
UID:gfo1q@games.golnetwork.com
LOCATION:Central Tech - Field 3
CREATED:20200204T171843Z
DTSTART:20200211T030000Z
DTEND:20200211T040000Z
DTSTAMP:20260420T074804Z
SUMMARY:Hooligans vs. Medcan FC
DESCRIPTION:Medcan FC vs. HooligansMore info: #259
X-ALT-DESC;FMTTYPE=text/html:<!DOCTYPE HTML PUBLIC "-//W3C//DTD HTML 3.2//E
	N">\n<HTML>\n<HEAD>\n<TITLE></TITLE>\n</HEAD>\n<BODY>\n<h3>Medcan FC vs. Ho
	oligans</h3>More info: <a href="https://www.golnetwork.com/game/v/155398/">
	#259</a>\n\n</BODY>\n</HTML>
STATUS:CONFIRMED
CLASS:PUBLIC
URL:https://www.golnetwork.com/game/v/155398/
X-MICROSOFT-CDO-BUSYSTATUS:BUSY
X-MICROSOFT-CDO-IMPORTANCE:1
END:VEVENT
END:VCALENDAR
