BEGIN:VCALENDAR
PRODID:-//gdesolutions.com//MV Framework 1.0.0.1607 Calendar//EN
VERSION:2.0
METHOD:PUBLISH
CALSCALE:GREGORIAN
BEGIN:VEVENT
UID:g9ifg@games.golnetwork.com
LOCATION:Central Tech - Field 2
GEO:43.6637272;-79.4087613
CREATED:20160930T164225Z
DTSTART:20161223T030000Z
DTEND:20161223T040000Z
DTSTAMP:20260426T013605Z
SUMMARY:RUN DFC vs. Superbad FC
DESCRIPTION:Superbad FC vs. RUN DFCMore info: #719
X-ALT-DESC;FMTTYPE=text/html:<!DOCTYPE HTML PUBLIC "-//W3C//DTD HTML 3.2//E
	N">\n<HTML>\n<HEAD>\n<TITLE></TITLE>\n</HEAD>\n<BODY>\n<h3>Superbad FC vs. 
	RUN DFC</h3>More info: <a href="https://www.golnetwork.com/game/v/94346/">#
	719</a>\n\n</BODY>\n</HTML>
STATUS:CONFIRMED
CLASS:PUBLIC
URL:https://www.golnetwork.com/game/v/94346/
X-MICROSOFT-CDO-BUSYSTATUS:BUSY
X-MICROSOFT-CDO-IMPORTANCE:1
END:VEVENT
BEGIN:VEVENT
UID:g9if8@games.golnetwork.com
LOCATION:Central Tech - Field 2
GEO:43.6637272;-79.4087613
CREATED:20160930T164225Z
DTSTART:20161209T030000Z
DTEND:20161209T040000Z
DTSTAMP:20260426T013605Z
SUMMARY:Chimichurris vs. RUN DFC
DESCRIPTION:RUN DFC vs. ChimichurrisMore info: #580
X-ALT-DESC;FMTTYPE=text/html:<!DOCTYPE HTML PUBLIC "-//W3C//DTD HTML 3.2//E
	N">\n<HTML>\n<HEAD>\n<TITLE></TITLE>\n</HEAD>\n<BODY>\n<h3>RUN DFC vs. Chim
	ichurris</h3>More info: <a href="https://www.golnetwork.com/game/v/94342/">
	#580</a>\n\n</BODY>\n</HTML>
STATUS:CONFIRMED
CLASS:PUBLIC
URL:https://www.golnetwork.com/game/v/94342/
X-MICROSOFT-CDO-BUSYSTATUS:BUSY
X-MICROSOFT-CDO-IMPORTANCE:1
END:VEVENT
BEGIN:VEVENT
UID:g9if2@games.golnetwork.com
LOCATION:Central Tech - Field 2
GEO:43.6637272;-79.4087613
CREATED:20160930T164224Z
DTSTART:20161202T030000Z
DTEND:20161202T040000Z
DTSTAMP:20260426T013605Z
SUMMARY:RUN DFC vs. Superbad FC
DESCRIPTION:Superbad FC vs. RUN DFCMore info: #495
X-ALT-DESC;FMTTYPE=text/html:<!DOCTYPE HTML PUBLIC "-//W3C//DTD HTML 3.2//E
	N">\n<HTML>\n<HEAD>\n<TITLE></TITLE>\n</HEAD>\n<BODY>\n<h3>Superbad FC vs. 
	RUN DFC</h3>More info: <a href="https://www.golnetwork.com/game/v/94339/">#
	495</a>\n\n</BODY>\n</HTML>
STATUS:CONFIRMED
CLASS:PUBLIC
URL:https://www.golnetwork.com/game/v/94339/
X-MICROSOFT-CDO-BUSYSTATUS:BUSY
X-MICROSOFT-CDO-IMPORTANCE:1
END:VEVENT
BEGIN:VEVENT
UID:g9if0@games.golnetwork.com
LOCATION:Central Tech - Field 2
GEO:43.6637272;-79.4087613
CREATED:20160930T164224Z
DTSTART:20161125T020000Z
DTEND:20161125T030000Z
DTSTAMP:20260426T013605Z
SUMMARY:RUN DFC vs. Papa Barone & the Good Time Gang
DESCRIPTION:Papa Barone & the Good Time Gang vs. RUN DFCMore info: #408
X-ALT-DESC;FMTTYPE=text/html:<!DOCTYPE HTML PUBLIC "-//W3C//DTD HTML 3.2//E
	N">\n<HTML>\n<HEAD>\n<TITLE></TITLE>\n</HEAD>\n<BODY>\n<h3>Papa Barone & th
	e Good Time Gang vs. RUN DFC</h3>More info: <a href="https://www.golnetwork
	.com/game/v/94338/">#408</a>\n\n</BODY>\n</HTML>
STATUS:CONFIRMED
CLASS:PUBLIC
URL:https://www.golnetwork.com/game/v/94338/
X-MICROSOFT-CDO-BUSYSTATUS:BUSY
X-MICROSOFT-CDO-IMPORTANCE:1
END:VEVENT
BEGIN:VEVENT
UID:g9iel@games.golnetwork.com
LOCATION:Central Tech - Field 1
GEO:43.6637272;-79.4087613
CREATED:20160930T164224Z
DTSTART:20161118T020000Z
DTEND:20161118T030000Z
DTSTAMP:20260426T013605Z
SUMMARY:Superbad FC vs. RUN DFC
DESCRIPTION:RUN DFC vs. Superbad FCMore info: #319
X-ALT-DESC;FMTTYPE=text/html:<!DOCTYPE HTML PUBLIC "-//W3C//DTD HTML 3.2//E
	N">\n<HTML>\n<HEAD>\n<TITLE></TITLE>\n</HEAD>\n<BODY>\n<h3>RUN DFC vs. Supe
	rbad FC</h3>More info: <a href="https://www.golnetwork.com/game/v/94335/">#
	319</a>\n\n</BODY>\n</HTML>
STATUS:CONFIRMED
CLASS:PUBLIC
URL:https://www.golnetwork.com/game/v/94335/
X-MICROSOFT-CDO-BUSYSTATUS:BUSY
X-MICROSOFT-CDO-IMPORTANCE:1
END:VEVENT
BEGIN:VEVENT
UID:g9ied@games.golnetwork.com
LOCATION:Central Tech - Field 2
GEO:43.6637272;-79.4087613
CREATED:20160930T164224Z
DTSTART:20161111T040000Z
DTEND:20161111T050000Z
DTSTAMP:20260426T013605Z
SUMMARY:Tigers vs. RUN DFC
DESCRIPTION:RUN DFC vs. TigersMore info: #236
X-ALT-DESC;FMTTYPE=text/html:<!DOCTYPE HTML PUBLIC "-//W3C//DTD HTML 3.2//E
	N">\n<HTML>\n<HEAD>\n<TITLE></TITLE>\n</HEAD>\n<BODY>\n<h3>RUN DFC vs. Tige
	rs</h3>More info: <a href="https://www.golnetwork.com/game/v/94331/">#236</
	a>\n\n</BODY>\n</HTML>
STATUS:CONFIRMED
CLASS:PUBLIC
URL:https://www.golnetwork.com/game/v/94331/
X-MICROSOFT-CDO-BUSYSTATUS:BUSY
X-MICROSOFT-CDO-IMPORTANCE:1
END:VEVENT
BEGIN:VEVENT
UID:g9ie5@games.golnetwork.com
LOCATION:Central Tech - Field 2
GEO:43.6637272;-79.4087613
CREATED:20160930T164224Z
DTSTART:20161104T020000Z
DTEND:20161104T030000Z
DTSTAMP:20260426T013605Z
SUMMARY:RUN DFC vs. Chimichurris
DESCRIPTION:Chimichurris vs. RUN DFCMore info: #173
X-ALT-DESC;FMTTYPE=text/html:<!DOCTYPE HTML PUBLIC "-//W3C//DTD HTML 3.2//E
	N">\n<HTML>\n<HEAD>\n<TITLE></TITLE>\n</HEAD>\n<BODY>\n<h3>Chimichurris vs.
	 RUN DFC</h3>More info: <a href="https://www.golnetwork.com/game/v/94327/">
	#173</a>\n\n</BODY>\n</HTML>
STATUS:CONFIRMED
CLASS:PUBLIC
URL:https://www.golnetwork.com/game/v/94327/
X-MICROSOFT-CDO-BUSYSTATUS:BUSY
X-MICROSOFT-CDO-IMPORTANCE:1
END:VEVENT
BEGIN:VEVENT
UID:g9ie1@games.golnetwork.com
LOCATION:Central Tech - Field 2
GEO:43.6637272;-79.4087613
CREATED:20160930T164224Z
DTSTART:20161028T030000Z
DTEND:20161028T040000Z
DTSTAMP:20260426T013605Z
SUMMARY:RUN DFC vs. TRUEBADOURS
DESCRIPTION:TRUEBADOURS vs. RUN DFCMore info: #122
X-ALT-DESC;FMTTYPE=text/html:<!DOCTYPE HTML PUBLIC "-//W3C//DTD HTML 3.2//E
	N">\n<HTML>\n<HEAD>\n<TITLE></TITLE>\n</HEAD>\n<BODY>\n<h3>TRUEBADOURS vs. 
	RUN DFC</h3>More info: <a href="https://www.golnetwork.com/game/v/94325/">#
	122</a>\n\n</BODY>\n</HTML>
STATUS:CONFIRMED
CLASS:PUBLIC
URL:https://www.golnetwork.com/game/v/94325/
X-MICROSOFT-CDO-BUSYSTATUS:BUSY
X-MICROSOFT-CDO-IMPORTANCE:1
END:VEVENT
END:VCALENDAR
