BEGIN:VCALENDAR
PRODID:-//gdesolutions.com//MV Framework 1.0.0.1607 Calendar//EN
VERSION:2.0
METHOD:PUBLISH
CALSCALE:GREGORIAN
BEGIN:VEVENT
UID:gcng5@games.golnetwork.com
LOCATION:St Patrick - Field 3
CREATED:20180627T195330Z
DTSTART:20180815T020000Z
DTEND:20180815T030000Z
DTSTAMP:20260420T004501Z
SUMMARY:RUN DFC vs. Nelson FC
DESCRIPTION:Nelson FC vs. RUN DFCMore info: #401
X-ALT-DESC;FMTTYPE=text/html:<!DOCTYPE HTML PUBLIC "-//W3C//DTD HTML 3.2//E
	N">\n<HTML>\n<HEAD>\n<TITLE></TITLE>\n</HEAD>\n<BODY>\n<h3>Nelson FC vs. RU
	N DFC</h3>More info: <a href="https://www.golnetwork.com/game/v/125701/">#4
	01</a>\n\n</BODY>\n</HTML>
STATUS:CONFIRMED
CLASS:PUBLIC
URL:https://www.golnetwork.com/game/v/125701/
X-MICROSOFT-CDO-BUSYSTATUS:BUSY
X-MICROSOFT-CDO-IMPORTANCE:1
END:VEVENT
BEGIN:VEVENT
UID:gcng1@games.golnetwork.com
LOCATION:St Patrick - Field 4
CREATED:20180627T195121Z
DTSTART:20180808T020000Z
DTEND:20180808T030000Z
DTSTAMP:20260420T004501Z
SUMMARY:Entuitive FC vs. RUN DFC
DESCRIPTION:RUN DFC vs. Entuitive FCMore info: #302
X-ALT-DESC;FMTTYPE=text/html:<!DOCTYPE HTML PUBLIC "-//W3C//DTD HTML 3.2//E
	N">\n<HTML>\n<HEAD>\n<TITLE></TITLE>\n</HEAD>\n<BODY>\n<h3>RUN DFC vs. Entu
	itive FC</h3>More info: <a href="https://www.golnetwork.com/game/v/125699/"
	>#302</a>\n\n</BODY>\n</HTML>
STATUS:CONFIRMED
CLASS:PUBLIC
URL:https://www.golnetwork.com/game/v/125699/
X-MICROSOFT-CDO-BUSYSTATUS:BUSY
X-MICROSOFT-CDO-IMPORTANCE:1
END:VEVENT
BEGIN:VEVENT
UID:gcnfm@games.golnetwork.com
LOCATION:St Patrick - Field 3
CREATED:20180627T194806Z
DTSTART:20180731T220000Z
DTEND:20180731T230000Z
DTSTAMP:20260420T004501Z
SUMMARY:Plain Shane vs. RUN DFC
DESCRIPTION:RUN DFC vs. Plain ShaneMore info: #230
X-ALT-DESC;FMTTYPE=text/html:<!DOCTYPE HTML PUBLIC "-//W3C//DTD HTML 3.2//E
	N">\n<HTML>\n<HEAD>\n<TITLE></TITLE>\n</HEAD>\n<BODY>\n<h3>RUN DFC vs. Plai
	n Shane</h3>More info: <a href="https://www.golnetwork.com/game/v/125696/">
	#230</a>\n\n</BODY>\n</HTML>
STATUS:CONFIRMED
CLASS:PUBLIC
URL:https://www.golnetwork.com/game/v/125696/
X-MICROSOFT-CDO-BUSYSTATUS:BUSY
X-MICROSOFT-CDO-IMPORTANCE:1
END:VEVENT
BEGIN:VEVENT
UID:gcnfk@games.golnetwork.com
LOCATION:St Patrick - Field 3
CREATED:20180627T194753Z
DTSTART:20180725T020000Z
DTEND:20180725T030000Z
DTSTAMP:20260420T004501Z
SUMMARY:RUN DFC vs. Entuitive FC
DESCRIPTION:Entuitive FC vs. RUN DFCMore info: #169
X-ALT-DESC;FMTTYPE=text/html:<!DOCTYPE HTML PUBLIC "-//W3C//DTD HTML 3.2//E
	N">\n<HTML>\n<HEAD>\n<TITLE></TITLE>\n</HEAD>\n<BODY>\n<h3>Entuitive FC vs.
	 RUN DFC</h3>More info: <a href="https://www.golnetwork.com/game/v/125695/"
	>#169</a>\n\n</BODY>\n</HTML>
STATUS:CONFIRMED
CLASS:PUBLIC
URL:https://www.golnetwork.com/game/v/125695/
X-MICROSOFT-CDO-BUSYSTATUS:BUSY
X-MICROSOFT-CDO-IMPORTANCE:1
END:VEVENT
BEGIN:VEVENT
UID:gcp1g@games.golnetwork.com
LOCATION:St Patrick - Field 3
CREATED:20180710T014219Z
DTSTART:20180725T010000Z
DTEND:20180725T020000Z
DTSTAMP:20260420T004501Z
SUMMARY:RUN DFC vs. Wii Not Fit FC
DESCRIPTION:Wii Not Fit FC vs. RUN DFCMore info: #165
X-ALT-DESC;FMTTYPE=text/html:<!DOCTYPE HTML PUBLIC "-//W3C//DTD HTML 3.2//E
	N">\n<HTML>\n<HEAD>\n<TITLE></TITLE>\n</HEAD>\n<BODY>\n<h3>Wii Not Fit FC v
	s. RUN DFC</h3>More info: <a href="https://www.golnetwork.com/game/v/126233
	/">#165</a>\n\n</BODY>\n</HTML>
STATUS:CONFIRMED
CLASS:PUBLIC
URL:https://www.golnetwork.com/game/v/126233/
X-MICROSOFT-CDO-BUSYSTATUS:BUSY
X-MICROSOFT-CDO-IMPORTANCE:1
END:VEVENT
BEGIN:VEVENT
UID:gcnf8@games.golnetwork.com
LOCATION:St Patrick - Field 3
CREATED:20180627T194659Z
DTSTART:20180717T220000Z
DTEND:20180717T230000Z
DTSTAMP:20260420T004501Z
SUMMARY:RUN DFC vs. Nelson FC
DESCRIPTION:Nelson FC vs. RUN DFCMore info: #93
X-ALT-DESC;FMTTYPE=text/html:<!DOCTYPE HTML PUBLIC "-//W3C//DTD HTML 3.2//E
	N">\n<HTML>\n<HEAD>\n<TITLE></TITLE>\n</HEAD>\n<BODY>\n<h3>Nelson FC vs. RU
	N DFC</h3>More info: <a href="https://www.golnetwork.com/game/v/125689/">#9
	3</a>\n\n</BODY>\n</HTML>
STATUS:CONFIRMED
CLASS:PUBLIC
URL:https://www.golnetwork.com/game/v/125689/
X-MICROSOFT-CDO-BUSYSTATUS:BUSY
X-MICROSOFT-CDO-IMPORTANCE:1
END:VEVENT
BEGIN:VEVENT
UID:gcnf0@games.golnetwork.com
LOCATION:St Patrick - Field 3
CREATED:20180627T194620Z
DTSTART:20180710T230000Z
DTEND:20180711T000000Z
DTSTAMP:20260420T004501Z
SUMMARY:What That McChicken Do? 🐔 vs. RUN DFC
DESCRIPTION:RUN DFC vs. What That McChicken Do? 🐔More info: #59
X-ALT-DESC;FMTTYPE=text/html:<!DOCTYPE HTML PUBLIC "-//W3C//DTD HTML 3.2//E
	N">\n<HTML>\n<HEAD>\n<TITLE></TITLE>\n</HEAD>\n<BODY>\n<h3>RUN DFC vs. What
	 That McChicken Do? 🐔</h3>More info: <a href="https://www.golnetwork.com
	/game/v/125685/">#59</a>\n\n</BODY>\n</HTML>
STATUS:CONFIRMED
CLASS:PUBLIC
URL:https://www.golnetwork.com/game/v/125685/
X-MICROSOFT-CDO-BUSYSTATUS:BUSY
X-MICROSOFT-CDO-IMPORTANCE:1
END:VEVENT
BEGIN:VEVENT
UID:gcnen@games.golnetwork.com
LOCATION:St Patrick - Field 3
CREATED:20180627T194556Z
DTSTART:20180703T230000Z
DTEND:20180704T000000Z
DTSTAMP:20260420T004501Z
SUMMARY:XTSC Strikers vs. RUN DFC
DESCRIPTION:RUN DFC vs. XTSC StrikersMore info: #32
X-ALT-DESC;FMTTYPE=text/html:<!DOCTYPE HTML PUBLIC "-//W3C//DTD HTML 3.2//E
	N">\n<HTML>\n<HEAD>\n<TITLE></TITLE>\n</HEAD>\n<BODY>\n<h3>RUN DFC vs. XTSC
	 Strikers</h3>More info: <a href="https://www.golnetwork.com/game/v/125683/
	">#32</a>\n\n</BODY>\n</HTML>
STATUS:CONFIRMED
CLASS:PUBLIC
URL:https://www.golnetwork.com/game/v/125683/
X-MICROSOFT-CDO-BUSYSTATUS:BUSY
X-MICROSOFT-CDO-IMPORTANCE:1
END:VEVENT
BEGIN:VEVENT
UID:gcn1k@games.golnetwork.com
LOCATION:St Patrick - Field 3
CREATED:20180621T170243Z
DTSTART:20180627T000000Z
DTEND:20180627T010000Z
DTSTAMP:20260420T004501Z
SUMMARY:Plain Shane vs. RUN DFC
DESCRIPTION:RUN DFC vs. Plain ShaneMore info: #17
X-ALT-DESC;FMTTYPE=text/html:<!DOCTYPE HTML PUBLIC "-//W3C//DTD HTML 3.2//E
	N">\n<HTML>\n<HEAD>\n<TITLE></TITLE>\n</HEAD>\n<BODY>\n<h3>RUN DFC vs. Plai
	n Shane</h3>More info: <a href="https://www.golnetwork.com/game/v/125506/">
	#17</a>\n\n</BODY>\n</HTML>
STATUS:CONFIRMED
CLASS:PUBLIC
URL:https://www.golnetwork.com/game/v/125506/
X-MICROSOFT-CDO-BUSYSTATUS:BUSY
X-MICROSOFT-CDO-IMPORTANCE:1
END:VEVENT
END:VCALENDAR
